Workbook

Sheet Model
B2: Key Assumptions
B4: Revenue Growth | C4: =K7 -> 0.043484601 | E4: More likely to be less than 20%, and with CPO prices undergoing pressure in the future, revenue growth is more likely ot be subdued. Assume CAGR average of competitors
C6: ='Competitor Analysis'!C15 -> KLK | D6: ='Competitor Analysis'!D15 -> AAL | E6: ='Competitor Analysis'!E15 -> B. Agri | F6: ='Competitor Analysis'!F15 -> FGV | G6: ='Competitor Analysis'!G15 -> F. Res | H6: ='Competitor Analysis'!H15 -> Genting | I6: ='Competitor Analysis'!I15 -> GAR | J6: ='Competitor Analysis'!J15 -> IOI | K6: Average
B7: Revenue CAGR | C7: ='Competitor Analysis'!C60 -> 0.047059413 | D7: ='Competitor Analysis'!D60 -> 0.051209369 | E7: ='Competitor Analysis'!E60 -> 0.099799544 | F7: ='Competitor Analysis'!F60 -> 0.075501651 | G7: ='Competitor Analysis'!G60 -> 0.01309216 | H7: ='Competitor Analysis'!H60 -> 0.04670587 | I7: ='Competitor Analysis'!I60 -> 0.07113372 | J7: ='Competitor Analysis'!J60 -> -0.053050109 | K7: =AVERAGE(D7:J7) -> 0.043484601
B10: EBITDA Margin | C10: =K13 -> 0.24048439 | E10: Margins match peers in 4 years time
C12: KLK | D12: AAL | E12: B. Agri | F12: FGV | G12: F. Res | H12: Genting | I12: GAR | J12: IOI | K12: Average | M12: CAGR
B13: EBITDA Margin | C13: ='Competitor Analysis'!C18 -> 0.10577972 | D13: ='Competitor Analysis'!D18 -> 0.25958834 | E13: ='Competitor Analysis'!E18 -> 0.30359356 | F13: ='Competitor Analysis'!F18 -> 0.06090134 | G13: ='Competitor Analysis'!G18 -> 0.43212843 | H13: ='Competitor Analysis'!H18 -> 0.38716216 | I13: ='Competitor Analysis'!I18 -> 0.072540942 | J13: ='Competitor Analysis'!J18 -> 0.16747593 | K13: =AVERAGE(D13:J13) -> 0.24048439 | M13: =(C10/C13)^(1/4) - 1 -> 0.22792297
C15: 2012 | D15: =C15+1 -> 2013 | E15: =D15+1 -> 2014 | F15: =E15+1 -> 2015 | G15: =F15+1 -> 2016 | M15: CAGR
B16: EBITDA Margin | C16: =Financials!C126 -> 0.16419986 | D16: =Financials!D126 -> 0.15819394 | E16: =Financials!E126 -> 0.16307278 | F16: =Financials!F126 -> 0.11941392 | G16: =Financials!G126 -> 0.10577972 | M16: =(C16/G16)^(1/4) - 1 -> 0.11620149
B20: CAPEX Schedule | C20: 2012 | D20: =C20+1 -> 2013 | E20: =D20+1 -> 2014 | F20: =E20+1 -> 2015 | G20: =F20+1 -> 2016 | H20: =G20+1 -> 2017 | I20: =H20+1 -> 2018 | J20: =I20+1 -> 2019 | K20: =J20+1 -> 2020 | L20: =K20+1 -> 2021
B21: CAPEX | C21: =-Financials!C102 -> 853 | D21: =-Financials!D102 -> 987 | E21: =-Financials!E102 -> 984 | F21: =-Financials!F102 -> 938 | G21: =-Financials!G102 -> 1789 | H21: =G22*H23 -> 1419.8666 | I21: =H22*I23 -> 1582.4173 | J21: =I22*J23 -> 1763.5774 | K21: =J22*K23 -> 1965.4773 | L21: =K22*L23 -> 2190.4913
B22: PPE | C22: =Financials!C42 -> 5280 | D22: =Financials!D42 -> 5854 | E22: =Financials!E42 -> 6519 | F22: =Financials!F42 -> 7436 | G22: =Financials!G42 -> 8745 | H22: =G22-H27+H21 -> 9746.1549 | I22: =H22-I27+I21 -> 10861.925 | J22: =I22-J27+J21 -> 12105.432 | K22: =J22-K27+K21 -> 13491.3 | L22: =K22-L27+L21 -> 15035.826
B23: % CAPEX to PPE | C23: =C21/C22 -> 0.16155303 | D23: =D21/D22 -> 0.16860266 | E23: =E21/E22 -> 0.1509434 | F23: =F21/F22 -> 0.12614309 | G23: =G21/G22 -> 0.20457404 | H23: =C25 -> 0.16236324 | I23: =H23 -> 0.16236324 | J23: =I23 -> 0.16236324 | K23: =J23 -> 0.16236324 | L23: =K23 -> 0.16236324
B25: Average | C25: =AVERAGE(C23:G23) -> 0.16236324
B27: Depreciation | C27: =-Financials!C16 -> 216 | D27: =-Financials!D16 -> 279 | E27: =-Financials!E16 -> 327 | F27: =-Financials!F16 -> 377 | G27: =-Financials!G16 -> 437 | H27: =G22*H28 -> 418.71163 | I27: =H22*I28 -> 466.64705 | J27: =I22*J28 -> 520.07026 | K27: =J22*K28 -> 579.60953 | L27: =K22*L28 -> 645.96505
B28: % to PPE | C28: =C27/C22 -> 0.040909091 | D28: =D27/D22 -> 0.04765972 | E28: =E27/E22 -> 0.050161068 | F28: =F27/F22 -> 0.050699301 | G28: =G27/G22 -> 0.049971412 | H28: =C30 -> 0.047880118 | I28: =H28 -> 0.047880118 | J28: =I28 -> 0.047880118 | K28: =J28 -> 0.047880118 | L28: =K28 -> 0.047880118
B30: Average | C30: =AVERAGE(C28:G28) -> 0.047880118
B32: Sanity Check
B33: % GR
B34: CAPEX | D34: =D21/C21 - 1 -> 0.15709261 | E34: =E21/D21 - 1 -> -0.0030395137 | F34: =F21/E21 - 1 -> -0.046747967 | G34: =G21/F21 - 1 -> 0.90724947 | H34: =H21/G21 - 1 -> -0.20633506 | I34: =I21/H21 - 1 -> 0.11448313 | J34: =J21/I21 - 1 -> 0.11448313 | K34: =K21/J21 - 1 -> 0.11448313 | L34: =L21/K21 - 1 -> 0.11448313
B35: PPE | D35: =D22/C22 - 1 -> 0.10871212 | E35: =E22/D22 - 1 -> 0.11359754 | F35: =F22/E22 - 1 -> 0.14066575 | G35: =G22/F22 - 1 -> 0.1760355 | H35: =H22/G22 - 1 -> 0.11448313 | I35: =I22/H22 - 1 -> 0.11448313 | J35: =J22/I22 - 1 -> 0.11448313 | K35: =K22/J22 - 1 -> 0.11448313 | L35: =L22/K22 - 1 -> 0.11448313
B38: Net Working Capital | D38: This seems too high, looking at the valuation
C39: 2012 | D39: =C39+1 -> 2013 | E39: =D39+1 -> 2014 | F39: =E39+1 -> 2015 | G39: =F39+1 -> 2016 | H39: =G39+1 -> 2017 | I39: =H39+1 -> 2018 | J39: =I39+1 -> 2019 | K39: =J39+1 -> 2020 | L39: =K39+1 -> 2021
B40: Net Receivables | C40: =Financials!C35 -> 814 | D40: =Financials!D35 -> 867 | E40: =Financials!E35 -> 1002 | F40: =Financials!F35 -> 1711 | G40: =Financials!G35 -> 1470
B41: Other Receivables | C41: =Financials!C36 -> 275 | D41: =Financials!D36 -> 337 | E41: =Financials!E36 -> 511 | F41: =Financials!F36 -> 529 | G41: =Financials!G36 -> 637
B42: Inventories | C42: =Financials!C37 -> 1239 | D42: =Financials!D37 -> 1121 | E42: =Financials!E37 -> 1523 | F42: =Financials!F37 -> 1706 | G42: =Financials!G37 -> 2025
B43: Payables | C43: =Financials!C56 -> 350 | D43: =Financials!D56 -> 363 | E43: =Financials!E56 -> 393 | F43: =Financials!F56 -> 714 | G43: =Financials!G56 -> 644
B45: NWC | C45: =-C40-C41-C42+C43 -> -1978 | D45: =-D40-D41-D42+D43 -> -1962 | E45: =-E40-E41-E42+E43 -> -2643 | F45: =-F40-F41-F42+F43 -> -3232 | G45: =-G40-G41-G42+G43 -> -3488
B47: Average | C47: =AVERAGE(C45:G45) -> -2660.6
B48: Min | C48: =MAX(C45:G45) -> -1962
B49: Max | C49: =MIN(C45:G45) -> -3488
B52: WACC
B54: Cost of Equity | C54: =C55+C56 -> 0.11271 | E54: Tax Rate | F54: 0.24 | H54: Terminal Growth | J54: 0.03
B55: MGS 10-year | C55: 0.03871 | E55: D/D+E | F55: =Financials!G192 -> 0.30294942
B56: ERP (Damodaran) | C56: 0.074
B58: Cost of Debt | C58: =Debt!F29 -> 0.041413392 | E58: WACC | F58: =C54*(1-F55) + C58*(1-F54)*F55 -> 0.088099655
B62: Model | C62: 2016 | D62: 2017 | E62: 2018 | F62: 2019 | G62: 2020 | H62: 2021
B64: Revenue | C64: =Financials!G7 -> 16506 | D64: =C64*(1+D65) -> 17223.757 | E64: =D64*(1+E65) -> 17972.725 | F64: =E64*(1+F65) -> 18754.262 | G64: =F64*(1+G65) -> 19569.783 | H64: =G64*(1+H65) -> 20420.768
B65: % Growth | D65: =C4 -> 0.043484601 | E65: =D65 -> 0.043484601 | F65: =E65 -> 0.043484601 | G65: =F65 -> 0.043484601 | H65: =G65 -> 0.043484601
B66: EBITDA | C66: =Financials!G12 -> 1746 | D66: =D64*D67 -> 2237.1825 | E66: =E64*E67 -> 2895.8679 | F66: =F64*F67 -> 3710.5298 | G66: =G64*G67 -> 4754.3712 | H66: =H64*H67 -> 4961.1131
...

Sheet Misc Input
B2: 3 Statement Inputs | J2: Share Price | Q2: Analyst Recommendations and Estimates | X2: Plantations Acreage Geography | AB2: 5 Year Plantation Statistics
B3: Source: WSJ | J3: Source: WSJ | Q3: Source: WSJ | X3: Source: KLK Corporate Website | AB3: Source: Annual Report 2016 pg 17
B6: Fiscal year is October-September. All values MYR Millions. | C6: 2012 | D6: 2013 | E6: 2014 | F6: 2015 | G6: 2016 | J6: Date | K6: Open | L6: High | M6: Low | N6: Close | O6: Volume | Q6: Date | R6: Open Price | S6: Target Price | T6: Upside/Downside | U6: Price Call | V6: Source | X6: Location | Y6: Hecterage | Z6: Description | AC6: Unit | AD6: 2012 | AE6: 2013 | AF6: 2014 | AG6: 2015 | AH6: 2016
B7: Sales/Revenue | C7: 10067 | D7: 9147 | E7: 11130 | F7: 13650 | G7: 16506 | J7: 05/23/17 | K7: 24.56 | L7: 25 | M7: 24.56 | N7: 24.76 | O7: 1795800 | Q7: 42878 | R7: 24.84 | S7: 25.42 | T7: +0.58 (2.33%) | U7: HOLD | V7: PUBLIC BANK | X7: Pensinsular Malaysia | AB7: Oil Palm
B8: Sales Growth | C8: - | D8: -0.0914 | E8: 0.2167 | F8: 0.2264 | G8: 0.2092 | J8: 05/22/17 | K8: 24.98 | L8: 24.98 | M8: 24.74 | N8: 24.84 | O8: 1328100 | Q8: 42878 | R8: 24.84 | S8: 29.25 | T8: +4.41 (17.75%) | U8: BUY | V8: MIDF | X8: Ladang Allagar, Trong, Perak. | Y8: 805 | AB8: FFB Production
B9: Cost of Goods Sold (COGS) incl. D&A | C9: 7904 | D9: 7201 | E9: 9011 | F9: 11688 | G9: 14396 | J9: 05/19/17 | K9: 24.64 | L9: 24.98 | M9: 24.64 | N9: 24.86 | O9: 874500 | Q9: 42878 | R9: 24.84 | S9: 25.55 | T9: +0.71 (2.86%) | U9: HOLD | V9: HLG | X9: Ladang Ayer Hitam, Bahau, Negeri Sembilan. | Y9: 2640 | AB9: - Own Estates
B10: COGS excluding D&A | C10: 7642 | D10: 6914 | E10: 8676 | F10: 11307 | G10: 13954 | J10: 05/18/17 | K10: 24.56 | L10: 24.98 | M10: 24.56 | N10: 24.9 | O10: 530600 | Q10: 42781 | R10: 25.18 | S10: 22.75 | T10: -2.43 (9.65%) | U10: SELL | V10: TA | X10: Ladang Ban Heng, Pagoh, Muar, Johor. | Y10: 631 | AB10: - Sold
B11: Depreciation & Amortization Expense | C11: 262 | D11: 287 | E11: 336 | F11: 381 | G11: 442 | J11: 05/17/17 | K11: 25 | L11: 25 | M11: 24.54 | N11: 24.9 | O11: 1030400 | Q11: 42781 | R11: 25.18 | S11: 26.03 | T11: +0.85 (3.38%) | U11: HOLD | V11: PUBLIC BANK | X11: Ladang Batang Jelai, Rompin, Negeri Sembilan. | Y11: 2149 | AB11: - Purchased
B12: Depreciation | C12: 216 | D12: 279 | E12: 327 | F12: 377 | G12: 437 | J12: 05/16/17 | K12: 25 | L12: 25 | M12: 24.86 | N12: 24.9 | O12: 2923200 | Q12: 42781 | R12: 25.18 | S12: 29.25 | T12: +4.07 (16.16%) | U12: BUY | V12: MIDF | X12: Ladang Batu Lintang, Serdang, Kedah. | Y12: 1808 | AB12: - total processed
B13: Amortization of Intangibles | C13: 3 | D13: 3 | E13: 4 | F13: 4 | G13: 5 | J13: 5/15/17 | K13: 24.92 | L13: 24.92 | M13: 24.8 | N13: 24.9 | O13: 1165200 | Q13: 42781 | R13: 25.18 | S13: 26 | T13: +0.82 (3.26%) | U13: HOLD | V13: KENANGA | X13: Ladang Buntar, Serdang, Kedah. | Y13: 547 | AB13: Yiled per mature hectare
B14: Amortization of Deferred Charges | C14: 42 | D14: 5 | E14: 5 | F14: - | G14: - | J14: 43074 | K14: 24.64 | L14: 24.94 | M14: 24.64 | N14: 24.92 | O14: 554200 | Q14: 42781 | R14: 25.18 | S14: 24.6 | T14: -0.58 (2.30%) | U14: HOLD | V14: JF APEX | X14: Ladang Changkat Asa, Hulu Selangor. | Y14: 1543
B15: COGS Growth | C15: - | D15: -0.089 | E15: 0.2514 | F15: 0.297 | G15: 0.2317 | J15: 43044 | K15: 24.98 | L15: 24.98 | M15: 24.74 | N15: 24.86 | O15: 1498700 | Q15: 42781 | R15: 25.18 | S15: 25.55 | T15: +0.37 (1.47%) | U15: HOLD | V15: HLG | X15: Ladang Changkat Chermin, Manjung, Perak. | Y15: 2530
B16: Gross Income | C16: 2163 | D16: 1946 | E16: 2118 | F16: 1962 | G16: 2110 | J16: 42983 | K16: 25 | L16: 25 | M16: 24.72 | N16: 24.8 | O16: 2015800 | Q16: 42781 | R16: 25.18 | S16: 22.5 | T16: -2.68 (10.64%) | U16: HOLD | V16: ALLIANCE | X16: Ladang Fraser, Kulai, Johor. | Y16: 2928
B17: Gross Income Growth | C17: - | D17: -0.1002 | E17: 0.0885 | F17: -0.0738 | G17: 0.0753 | J17: 42952 | K17: 24.88 | L17: 25 | M17: 24.52 | N17: 24.74 | O17: 1184400 | X17: Ladang Glenealy, Parit, Perak. | Y17: 1059
B18: Gross Profit Margin | C18: - | D18: - | E18: - | F18: - | G18: 0.1278 | J18: 42860 | K18: 24.58 | L18: 24.72 | M18: 24.58 | N18: 24.7 | O18: 284500 | X18: Ladang Gunong Pertanian, Simpang Durian, Negeri Sembilan. | Y18: 686
B19: SG&A Expense | C19: 656 | D19: 635 | E19: 641 | F19: 719 | G19: 812 | J19: 42830 | K19: 24.88 | L19: 24.88 | M19: 24.54 | N19: 24.64 | O19: 744400 | Q19: Analyst Ratings Kuala Lumpur Kepong Bhd | X19: Ladang Jeram Padang, Bahau, Negeri Sembilan. | Y19: 2114
B20: Research & Development | C20: 14 | D20: 15 | E20: 18 | F20: 19 | G20: 24 | J20: 42799 | K20: 24.6 | L20: 24.66 | M20: 24.44 | N20: 24.6 | O20: 677400 | R20: 3 Months Ago | S20: 1 Month Ago | T20: Current | X20: Ladang Kekayaan, Paloh, Johor. | Y20: 4436
B21: Other SG&A | C21: 643 | D21: 620 | E21: 623 | F21: 701 | G21: 788 | J21: 42771 | K21: 24.9 | L21: 24.9 | M21: 24.54 | N21: 24.64 | O21: 1417200 | Q21: Buy | R21: 5 | S21: 3 | T21: 3 | X21: Ladang Kemasul, Mengkarak, Pahang. | Y21: 459
B22: SGA Growth | C22: - | D22: -0.0323 | E22: 0.0089 | F22: 0.1229 | G22: 0.1282 | J22: 04/28/17 | K22: 24.26 | L22: 24.54 | M22: 24.26 | N22: 24.52 | O22: 1374500 | Q22: Overweight | R22: 1 | S22: 1 | T22: 1 | X22: Ladang Kerilla, Tanah Merah, Kelantan. | Y22: 2176
B23: Other Operating Expense | C23: 116 | D23: 151 | E23: -2 | F23: -6 | G23: -6 | J23: 04/27/17 | K23: 24.94 | L23: 24.94 | M23: 24.42 | N23: 24.52 | O23: 1501900 | Q23: Hold | R23: 12 | S23: 13 | T23: 13 | X23: Ladang Kerling, Kerling, Selangor. | Y23: 1222
B24: EBIT | C24: 1390 | D24: 1160 | E24: 1480 | F24: 1248 | G24: 1304 | J24: 04/26/17 | K24: 24.58 | L24: 24.58 | M24: 24.48 | N24: 24.52 | O24: 607400 | Q24: Underweight | R24: 1 | S24: 1 | T24: 1 | X24: Ladang Kombok, Rantau, Negeri Sembilan. | Y24: 1910
B25: Unusual Expense | C25: 8 | D25: 8 | E25: 19 | F25: -33 | G25: -25 | J25: 04/25/17 | K25: 24.32 | L25: 24.56 | M25: 24.24 | N25: 24.56 | O25: 1251700 | Q25: Sell | R25: 2 | S25: 2 | T25: 2 | X25: Ladang Kuala Gris, Kuala Krai, Kelantan. | Y25: 2429
B26: Non Operating Income/Expense | C26: 70 | D26: 115 | E26: -62 | F26: -40 | G26: 535 | J26: 04/21/17 | K26: 24.28 | L26: 24.32 | M26: 24.22 | N26: 24.32 | O26: 733100 | Q26: Consensus | R26: HOLD | S26: HOLD | T26: HOLD | X26: Ladang Kuala Hau, Machang, Kelantan. | Y26: 547
B27: Interest Expense | C27: 63 | D27: 81 | E27: 87 | F27: 105 | G27: 158 | J27: 04/20/17 | K27: 24.16 | L27: 24.24 | M27: 24.16 | N27: 24.22 | O27: 1451400 | X27: Ladang Kuala Kangsar, Padang Rengas, Perak. | Y27: 843
B28: Interest Expense Growth | C28: - | D28: 0.2747 | E28: 0.08 | F28: 0.1961 | G28: 0.5097 | J28: 04/19/17 | K28: 24.32 | L28: 24.56 | M28: 23.92 | N28: 24.16 | O28: 1888600 | X28: Ladang Landak, Paloh, Johor. | Y28: 4451
B29: Gross Interest Expense | C29: 63 | D29: 81 | E29: 87 | F29: 105 | G29: 158 | J29: 04/18/17 | K29: 23.86 | L29: 24.2 | M29: 23.86 | N29: 24.14 | O29: 1239100 | Q29: EPS Estimates | X29: Ladang Lekir, Manjung, Perak. | Y29: 3312
B30: Pretax Income | C30: 1389 | D30: 1186 | E30: 1312 | F30: 1137 | G30: 1707 | J30: 04/17/17 | K30: 23.82 | L30: 24 | M30: 23.82 | N30: 23.98 | O30: 1574300 | X30: Ladang New Pogoh, Segamat, Johor. | Y30: 1545
B31: Pretax Income Growth | C31: - | D31: -0.1459 | E31: 0.1058 | F31: -0.1333 | G31: 0.5016 | J31: 04/14/17 | K31: 24.06 | L31: 24.06 | M31: 23.66 | N31: 23.82 | O31: 2370400 | Q31: FY 2017 Estimate Trends | X31: Ladang Paloh, Paloh, Johor. | Y31: 2003
B32: Pretax Margin | C32: - | D32: - | E32: - | F32: - | G32: 0.1034 | J32: 04/13/17 | K32: 24.48 | L32: 24.48 | M32: 24 | N32: 24.1 | O32: 2629000 | Q32: Current: | R32: 1.15 | X32: Ladang Pasir Gajah, Kuala Krai, Kelantan. | Y32: 2107
B33: Income Tax | C33: 297 | D33: 233 | E33: 285 | F33: 251 | G33: 29 | J33: 43073 | K33: 24.48 | L33: 24.52 | M33: 24.44 | N33: 24.48 | O33: 3192100 | Q33: 1 month ago: | R33: 1.14 | X33: Ladang Pelam, Kulim, Kedah. | Y33: 2959
B34: Income Tax - Current Domestic | C34: 233 | D34: 219 | E34: 219 | F34: 164 | G34: 176 | J34: 43043 | K34: 24.58 | L34: 24.58 | M34: 24.36 | N34: 24.46 | O34: 1629200 | Q34: 3 months ago: | R34: 1.13 | X34: Ladang Raja Hitam, Manjung, Perak. | Y34: 1497
B35: Income Tax - Current Foreign | C35: 94 | D35: 63 | E35: 100 | F35: 107 | G35: 127 | J35: 43012 | K35: 24.6 | L35: 24.66 | M35: 24.4 | N35: 24.46 | O35: 323200 | Q35: FY 2018 Estimate Trends | X35: Ladang Renjok, Bentong, Pahang. | Y35: 1578
B36: Income Tax - Deferred Domestic | C36: -29 | D36: -50 | E36: -34 | F36: -21 | G36: -274 | J36: 42920 | K36: 24.86 | L36: 24.86 | M36: 24.6 | N36: 24.68 | O36: 1957500 | Q36: Current: | R36: 1.19 | X36: Ladang See Sun, Renggam, Johor. | Y36: 589
B37: Equity in Affiliates | C37: 11 | D37: 13 | E37: 6 | F37: -2 | G37: 5 | J37: 42890 | K37: 24.7 | L37: 24.7 | M37: 24.62 | N37: 24.68 | O37: 1272700 | Q37: 1 month ago: | R37: 1.19 | X37: Ladang Selborne, Padang Tengku, Kuala Lipis, Pahang. | Y37: 1258
B38: Consolidated Net Income | C38: 1103 | D38: 967 | E38: 1033 | F38: 884 | G38: 1683 | J38: 42859 | K38: 24.72 | L38: 24.92 | M38: 24.52 | N38: 24.62 | O38: 1778700 | Q38: 3 months ago: | R38: 1.22 | X38: Ladang Serapoh, Parit, Perak. | Y38: 936
B39: Minority Interest Expense | C39: 49 | D39: 49 | E39: 41 | F39: 14 | G39: 91 | J39: 42829 | K39: 24.54 | L39: 24.92 | M39: 24.54 | N39: 24.92 | O39: 772000 | X39: Ladang Subur, Batu Kurau, Perak. | Y39: 1290
B40: Net Income | C40: 1054 | D40: 918 | E40: 992 | F40: 870 | G40: 1592 | J40: 42798 | K40: 24.6 | L40: 24.9 | M40: 24.6 | N40: 24.7 | O40: 461400 | Q40: Competitor List | X40: Ladang Sungai Bekok, Bekok, Johor. | Y40: 625
J41: 03/31/17 | K41: 24.8 | L41: 24.8 | M41: 24.52 | N41: 24.68 | O41: 2142200 | Q41: Sime Darby | X41: Ladang Sungai Sokor, Tanah Merah, Kelantan. | Y41: 1603
B42: Net Income Growth | C42: - | D42: -0.1291 | E42: 0.0806 | F42: -0.1228 | G42: 0.8303 | J42: 03/30/17 | K42: 24.7 | L42: 24.8 | M42: 24.64 | N42: 24.78 | O42: 1561500 | Q42: Wilmar International ltd | X42: Ladang Sungei Kawang, Lanchang, Pahang. | Y42: 1889
B43: Net Margin | C43: - | D43: - | E43: - | F43: - | G43: 0.0965 | J43: 03/29/17 | K43: 24.96 | L43: 24.96 | M43: 24.76 | N43: 24.78 | O43: 1162000 | Q43: Golden Agri-Resources Ltd | X43: Ladang Sungei Penggeli, Bandar Tenggara, Johor. | Y43: 942
...

Sheet Share Price
B2: Kuala Lumpur Kepng
B3: Date | C3: Open | D3: High | E3: Low | F3: Close | G3: Volume | J3: Kuala Lumpur Kepong
A4: =A3+1 -> 1 | B4: 40969 | C4: 22.78 | D4: 23.24 | E4: 22.78 | F4: 23 | G4: 523200 | J4: Share Price | K4: Volume
A5: =A4+1 -> 2 | B5: 41000 | C5: 23.46 | D5: 23.8 | E5: 23.36 | F5: 23.5 | G5: 694500 | I5: Average | J5: =AVERAGE(F$4:F$1328) -> 22.9296 | K5: =AVERAGE(G$4:G$1328) -> 870794.64
A6: =A5+1 -> 3 | B6: 41030 | C6: 23.58 | D6: 25.26 | E6: 23.48 | F6: 25.26 | G6: 996900 | I6: Median | J6: =MEDIAN(F$4:F$1328) -> 23.04 | K6: =MEDIAN(G$4:G$1328) -> 710700
A7: =A6+1 -> 4 | B7: 41061 | C7: 24.38 | D7: 24.64 | E7: 24.24 | F7: 24.64 | G7: 665500 | I7: Min | J7: =MIN(F$4:F$1328) -> 19.9 | K7: =MIN(G$4:G$1328) -> 1900
A8: =A7+1 -> 5 | B8: 41153 | C8: 24.64 | D8: 24.66 | E8: 24.5 | F8: 24.58 | G8: 363800 | I8: Max | J8: =MAX(F$4:F$1328) -> 25.98 | K8: =MAX(G$4:G$1328) -> 5300300
A9: =A8+1 -> 6 | B9: 41183 | C9: 24.56 | D9: 24.84 | E9: 24.56 | F9: 24.84 | G9: 477900 | I9: Std Dev | J9: =_xlfn.STDEV.S(F$4:F$1328) -> 1.2280885 | K9: =_xlfn.STDEV.S(G$4:G$1328) -> 648308.65
A10: =A9+1 -> 7 | B10: 41214 | C10: 24.7 | D10: 24.84 | E10: 24.7 | F10: 24.7 | G10: 353900 | I10: 1 S.D Range
A11: =A10+1 -> 8 | B11: 41244 | C11: 24.52 | D11: 24.76 | E11: 24.48 | F11: 24.52 | G11: 1062200 | I11: Min | J11: =J5-J9 -> 21.701511 | K11: =K5-K9 -> 222485.99
A12: =A11+1 -> 9 | B12: 01/13/12 | C12: 24.58 | D12: 24.58 | E12: 24.4 | F12: 24.5 | G12: 884300 | I12: Max | J12: =J5+J9 -> 24.157689 | K12: =K5+K9 -> 1519103.3
A13: =A12+1 -> 10 | B13: 01/16/12 | C13: 24.56 | D13: 24.56 | E13: 24.36 | F13: 24.38 | G13: 581700 | I13: 2 S.D Range
A14: =A13+1 -> 11 | B14: 01/17/12 | C14: 24.12 | D14: 25.04 | E14: 24.12 | F14: 24.64 | G14: 1277000 | I14: Min | J14: =J5-(2*J9) -> 20.473423 | K14: =K5-(2*K9) -> -425822.66
A15: =A14+1 -> 12 | B15: 01/18/12 | C15: 24.6 | D15: 24.96 | E15: 24.6 | F15: 24.82 | G15: 644500 | I15: Max | J15: =J5+ 2*(J9) -> 25.385777 | K15: =K5+ 2*(K9) -> 2167411.9
A16: =A15+1 -> 13 | B16: 01/19/12 | C16: 24.8 | D16: 24.88 | E16: 24.72 | F16: 24.78 | G16: 593000
A17: =A16+1 -> 14 | B17: 01/20/12 | C17: 24.72 | D17: 25.8 | E17: 24.72 | F17: 25.48 | G17: 1081100
A18: =A17+1 -> 15 | B18: 01/25/12 | C18: 25.3 | D18: 26.76 | E18: 25.3 | F18: 25.9 | G18: 1889100
A19: =A18+1 -> 16 | B19: 01/26/12 | C19: 25.9 | D19: 25.94 | E19: 25.86 | F19: 25.9 | G19: 801500
A20: =A19+1 -> 17 | B20: 01/27/12 | C20: 25.9 | D20: 26 | E20: 25.58 | F20: 25.9 | G20: 461900
A21: =A20+1 -> 18 | B21: 01/30/12 | C21: 25.9 | D21: 25.94 | E21: 25.54 | F21: 25.72 | G21: 1104600
A22: =A21+1 -> 19 | B22: 01/31/12 | C22: 25.86 | D22: 25.86 | E22: 25.56 | F22: 25.7 | G22: 1113700
A23: =A22+1 -> 20 | B23: 40941 | C23: 25.72 | D23: 25.84 | E23: 25.1 | F23: 25.6 | G23: 1375100
A24: =A23+1 -> 21 | B24: 40970 | C24: 25.56 | D24: 25.56 | E24: 24.74 | F24: 24.9 | G24: 1894800
A25: =A24+1 -> 22 | B25: 41123 | C25: 25.1 | D25: 25.12 | E25: 24.86 | F25: 24.94 | G25: 1621100
A26: =A25+1 -> 23 | B26: 41154 | C26: 24.98 | D26: 25.5 | E26: 24.92 | F26: 25.5 | G26: 1398600
A27: =A26+1 -> 24 | B27: 41184 | C27: 25.06 | D27: 25.6 | E27: 25.06 | F27: 25.48 | G27: 404900
A28: =A27+1 -> 25 | B28: 02/13/12 | C28: 25.5 | D28: 26.1 | E28: 25.32 | F28: 25.98 | G28: 1235500
A29: =A28+1 -> 26 | B29: 02/14/12 | C29: 26.14 | D29: 26.14 | E29: 25.44 | F29: 25.46 | G29: 1709500
A30: =A29+1 -> 27 | B30: 02/15/12 | C30: 25.76 | D30: 25.76 | E30: 25.32 | F30: 25.38 | G30: 1473800
A31: =A30+1 -> 28 | B31: 02/16/12 | C31: 25.36 | D31: 25.36 | E31: 24.8 | F31: 24.8 | G31: 1821300
A32: =A31+1 -> 29 | B32: 02/17/12 | C32: 24.86 | D32: 24.92 | E32: 24.86 | F32: 24.88 | G32: 1132600
A33: =A32+1 -> 30 | B33: 02/20/12 | C33: 24.8 | D33: 24.92 | E33: 24.76 | F33: 24.84 | G33: 671400 | I33: Market Valuation and P/E
A34: =A33+1 -> 31 | B34: 02/21/12 | C34: 24.16 | D34: 24.18 | E34: 23.98 | F34: 24 | G34: 1439800 | M34: 52 wk Rng
A35: =A34+1 -> 32 | B35: 02/22/12 | C35: 24.04 | D35: 24.04 | E35: 23.6 | F35: 23.64 | G35: 3846100 | I35: Company | J35: Share Price | K35: P/E | L35: M. Cap (bn) | M35: Min | N35: Max | O35: Div Yield | P35: YTD Return
A36: =A35+1 -> 33 | B36: 02/23/12 | C36: 23.48 | D36: 23.6 | E36: 23.1 | F36: 23.48 | G36: 742100 | H36: MYR | I36: Kuala Lumpur Kepong | J36: 24.7 | K36: 20.57 | L36: 26.39 | M36: 22.72 | N36: 25.5 | O36: 0.0121 | P36: 0.0292
A37: =A36+1 -> 34 | B37: 02/24/12 | C37: 23.48 | D37: 23.66 | E37: 23.46 | F37: 23.48 | G37: 317200 | H37: IND | I37: Astra Agro Lestari | J37: 14450 | K37: 12.78 | L37: 27960 | M37: 13775 | N37: 17950 | O37: 0.0512 | P37: -0.1386
A38: =A37+1 -> 35 | B38: 02/27/12 | C38: 23.56 | D38: 24.7 | E38: 23.42 | F38: 23.42 | G38: 262000 | H38: SGD | I38: Bumitama Agri | J38: 0.76 | K38: 12.04 | L38: 1.36 | M38: 0.67 | N38: 0.865 | O38: 0.0197 | P38: -0.0898
A39: =A38+1 -> 36 | B39: 02/28/12 | C39: 23.7 | D39: 23.7 | E39: 23.38 | F39: 23.42 | G39: 623100 | H39: MYR | I39: Felda Global Ventures | J39: 1.8 | K39: 545.5 | L39: 6.75 | M39: 1.32 | N39: 2.52 | O39: 0.0111 | P39: 0.1613
A40: =A39+1 -> 37 | B40: 02/29/12 | C40: 23.42 | D40: 23.64 | E40: 23.36 | F40: 23.42 | G40: 1809600 | H40: SGD | I40: First Resources | J40: 1.975 | K40: 13.35 | L40: 3.09 | M40: 1.505 | N40: 2.05 | O40: 0.0241 | P40: 0.0395
A41: =A40+1 -> 38 | B41: 40911 | C41: 23.34 | D41: 23.6 | E41: 23.34 | F41: 23.56 | G41: 919300 | H41: MYR | I41: Genting Plantations | J41: 11.46 | K41: 25.34 | L41: 9.32 | M41: 10.18 | N41: 11.76 | O41: 0.014 | P41: 0.0611
...

Sheet Segmental
A1: Source: Annual Report 2016 pg 19 | J1: RM' m | L1: Percentage (%)
B2: 2012 | C2: =B2+1 -> 2013 | D2: =C2+1 -> 2014 | E2: =D2+1 -> 2015 | F2: =E2+1 -> 2016 | J2: Revenue | K2: Profit | L2: Revenue | M2: Profit
A3: Revenue | B3: =SUM(B4:B10) -> 10570.188 | C3: =SUM(C4:C10) -> 9147.325 | D3: =SUM(D4:D10) -> 11129.973 | E3: =SUM(E4:E10) -> 13649.991 | F3: =SUM(F4:F10) -> 16505.81 | I3: Palm Products | J3: =F4 -> 8345.079 | K3: =F13 -> 817.16 | L3: =J3/J$10 -> 0.50558434 | M3: =K3/K$10 -> 0.60981589
A4: - Palm Products | B4: 4487.975 | C4: 3952.232 | D4: 5089.772 | E4: 6976.697 | F4: 8345.079 | I4: Rubber | J4: =F5 -> 109.991 | K4: =F14 -> 10.117 | L4: =J4/J$10 -> 0.0066637748 | M4: =K4/K$10 -> 0.007549938
A5: - Rubber | B5: 258.484 | C5: 178.542 | D5: 145.158 | E5: 109.55 | F5: 109.991 | I5: Manufacturing | J5: =F6 -> 7738.841 | K5: =F15 -> 370.61 | L5: =J5/J$10 -> 0.46885557 | M5: =K5/K$10 -> 0.27657236
A6: - Manufacturing | B6: 5057.812 | C6: 4696.734 | D6: 5634.338 | E6: 6241.324 | F6: 7738.841 | I6: Retailing | J6: =F7 -> 0 | K6: =F16 -> 0 | L6: =J6/J$10 -> 0 | M6: =K6/K$10 -> 0
A7: - Retailing | B7: 502.777 | I7: Property Dev | J7: =F8 -> 110.693 | K7: =F17 -> 25.219 | L7: =J7/J$10 -> 0.0067063052 | M7: =K7/K$10 -> 0.018819995
A8: - Property Dev | B8: 172.516 | C8: 208.589 | D8: 117.063 | E8: 123.275 | F8: 110.693 | I8: Investment Income | J8: =F9 -> 122.542 | K8: =SUM(F18:F19) -> 116.455 | L8: =J8/J$10 -> 0.0074241737 | M8: =K8/K$10 -> 0.086906003
A9: - Investment Inc | B9: 62.922 | C9: 79.75 | D9: 78.799 | E9: 125.846 | F9: 122.542 | I9: Others | J9: =F10 -> 78.664 | K9: =F20 -> 0.45 | L9: =J9/J$10 -> 0.004765837 | M9: =K9/K$10 -> 0.00033581814
A10: - Others | B10: 27.702 | C10: 31.478 | D10: 64.843 | E10: 73.299 | F10: 78.664 | I10: Total | J10: =SUM(J3:J9) -> 16505.81 | K10: =SUM(K3:K9) -> 1340.011 | L10: =SUM(L3:L9) -> 1 | M10: =SUM(M3:M9) -> 1
A12: Group Profit
A13: - Palm Products | B13: 1069.504 | C13: 734.689 | D13: 985.875 | E13: 775.606 | F13: 817.16 | J13: 2012 | K13: =J13+1 -> 2013 | L13: =K13+1 -> 2014 | M13: =L13+1 -> 2015 | N13: =M13+1 -> 2016
A14: - Rubber | B14: 109.34 | C14: 45.804 | D14: 20.589 | E14: 4.721 | F14: 10.117 | I14: % of Total Revenue
A15: - Manufacturing | B15: 187.736 | C15: 329.275 | D15: 288.077 | E15: 218.912 | F15: 370.61 | I15: =A33 -> - Palm Products | J15: =B33 -> 0.424588 | K15: =C33 -> 0.43206424 | L15: =D33 -> 0.45730318 | M15: =E33 -> 0.51111367 | N15: =F33 -> 0.50558434
A16: - Retailing | B16: 27.744 | I16: =A35 -> - Manufacturing | J16: =B35 -> 0.47849783 | K16: =C35 -> 0.51345437 | L16: =D35 -> 0.50623106 | M16: =E35 -> 0.45724015 | N16: =F35 -> 0.46885557
A17: - Property Dev | B17: 36.879 | C17: 80.807 | D17: 45.672 | E17: 49.448 | F17: 25.219 | I17: =A34 -> - Rubber | J17: =B34 -> 0.024454059 | K17: =C34 -> 0.019518493 | L17: =D34 -> 0.01304208 | M17: =E34 -> 0.0080256463 | N17: =F34 -> 0.0066637748
A18: - Investment Holding | B18: 35.127 | C18: 59.117 | D18: 33.662 | E18: 70.714 | F18: 60.006 | I18: =A36 -> - Retailing | J18: =B36 -> 0.047565568 | K18: =C36 -> 0 | L18: =D36 -> 0 | M18: =E36 -> 0 | N18: =F36 -> 0
A19: - Interest Income | B19: 27.442 | C19: 29.363 | D19: 36.109 | E19: 43.302 | F19: 56.449 | I19: =A37 -> - Property Dev | J19: =B37 -> 0.016320996 | K19: =C37 -> 0.022803279 | L19: =D37 -> 0.010517815 | M19: =E37 -> 0.0090311415 | N19: =F37 -> 0.0067063052
A20: - Others | B20: 4.404 | C20: -9.065 | D20: 21.279 | E20: 14.987 | F20: 0.45 | I20: =A38 -> - Investment Inc | J20: =B38 -> 0.0059527796 | K20: =C38 -> 0.0087183958 | L20: =D38 -> 0.0070798914 | M20: =E38 -> 0.0092194933 | N20: =F38 -> 0.0074241737
A21: - Share of Associate | B21: 10.567 | C21: 13.432 | D21: 5.878 | E21: 11.882 | F21: 0.865 | I21: =A39 -> - Others | J21: =B39 -> 0.002620767 | K21: =C39 -> 0.0034412246 | L21: =D39 -> 0.00582598 | M21: =E39 -> 0.0053698937 | N21: =F39 -> 0.004765837
A22: - Share of JV | E22: -14.25 | F22: 4.137 | I22: % Segmental Growth
A23: - Corporate | B23: 117.918 | C23: -2.753 | D23: -32.069 | E23: 63.783 | F23: 525.047 | I23: =A53 -> - Palm Products | K23: =C53 -> -0.11937299 | L23: =D53 -> 0.28782217 | M23: =E53 -> 0.37072879 | N23: =F53 -> 0.19613608
I24: =A55 -> - Manufacturing | K24: =C55 -> -0.071390158 | L24: =D55 -> 0.19962893 | M24: =E55 -> 0.10772978 | N24: =F55 -> 0.23993579
A25: Finance Cost | B25: -66.225 | C25: -80.902 | D25: -87.375 | E25: -104.507 | F25: -157.776 | I25: =A54 -> - Rubber | K25: =C54 -> -0.30927253 | L25: =D54 -> -0.18698121 | M25: =E54 -> -0.24530512 | N25: =F54 -> 0.0040255591
A26: Profit Before Tax | B26: =SUM(B13:B23,B25) -> 1560.436 | C26: =SUM(C13:C23,C25) -> 1199.767 | D26: =SUM(D13:D23,D25) -> 1317.697 | E26: =SUM(E13:E23,E25) -> 1134.598 | F26: =SUM(F13:F23,F25) -> 1712.284 | I26: =A56 -> - Retailing | K26: =C56 -> -1 | L26: =D56 -> 0 | M26: =E56 -> 0 | N26: =F56 -> 0
A27: Tax Expense | B27: -300.347 | C27: -232.797 | D27: -285.003 | E27: -250.56 | F27: -29.144 | I27: =A57 -> - Property Dev | K27: =C57 -> 0.20909945 | L27: =D57 -> -0.43878632 | M27: =E57 -> 0.053065443 | N27: =F57 -> -0.10206449
A28: Profit for the Year | B28: =SUM(B26:B27) -> 1260.089 | C28: =SUM(C26:C27) -> 966.97 | D28: =SUM(D26:D27) -> 1032.694 | E28: =SUM(E26:E27) -> 884.038 | F28: =SUM(F26:F27) -> 1683.14 | I28: =A58 -> - Investment Inc | K28: =C58 -> 0.26744223 | L28: =D58 -> -0.011924765 | M28: =E58 -> 0.59705072 | N28: =F58 -> -0.026254311
I29: =A59 -> - Others | K29: =C59 -> 0.13630785 | L29: =D59 -> 1.0599466 | M29: =E59 -> 0.13040729 | N29: =F59 -> 0.073193359
A30: =SUM(A28:A29) -> 0 | I30: Total Growth | K30: =C60 -> -0.13461095 | L30: =D60 -> 0.21674621 | M30: =E60 -> 0.22641726 | N30: =F60 -> 0.20921765
A31: Analysis | J31: 2012 | K31: =J31+1 -> 2013 | L31: =K31+1 -> 2014 | M31: =L31+1 -> 2015 | N31: =M31+1 -> 2016
A32: % to Total Revenue | B32: =SUM(B33:B39) -> 1 | C32: =SUM(C33:C39) -> 1 | D32: =SUM(D33:D39) -> 1 | E32: =SUM(E33:E39) -> 1 | F32: =SUM(F33:F39) -> 1 | I32: % EBIT Margin
A33: - Palm Products | B33: =B4/B$3 -> 0.424588 | C33: =C4/C$3 -> 0.43206424 | D33: =D4/D$3 -> 0.45730318 | E33: =E4/E$3 -> 0.51111367 | F33: =F4/F$3 -> 0.50558434 | I33: =A63 -> - Palm Products | J33: =B63 -> 0.23830436 | K33: =C63 -> 0.18589217 | L33: =D63 -> 0.19369728 | M33: =E63 -> 0.11117095 | N33: =F63 -> 0.097921182
A34: - Rubber | B34: =B5/B$3 -> 0.024454059 | C34: =C5/C$3 -> 0.019518493 | D34: =D5/D$3 -> 0.01304208 | E34: =E5/E$3 -> 0.0080256463 | F34: =F5/F$3 -> 0.0066637748 | I34: =A65 -> - Manufacturing | J34: =B65 -> 0.037118027 | K34: =C65 -> 0.070107228 | L34: =D65 -> 0.051128811 | M34: =E65 -> 0.035074609 | N34: =F65 -> 0.0478896
A35: - Manufacturing | B35: =B6/B$3 -> 0.47849783 | C35: =C6/C$3 -> 0.51345437 | D35: =D6/D$3 -> 0.50623106 | E35: =E6/E$3 -> 0.45724015 | F35: =F6/F$3 -> 0.46885557 | I35: =A64 -> - Rubber | J35: =B64 -> 0.42300491 | K35: =C64 -> 0.25654468 | L35: =D64 -> 0.14183855 | M35: =E64 -> 0.043094477 | N35: =F64 -> 0.091980253
A36: - Retailing | B36: =B7/B$3 -> 0.047565568 | C36: =C7/C$3 -> 0 | D36: =D7/D$3 -> 0 | E36: =E7/E$3 -> 0 | F36: =F7/F$3 -> 0 | I36: =A66 -> - Retailing | J36: =B66 -> 0.055181522 | K36: N/A | L36: N/A | M36: N/A | N36: N/A
A37: - Property Dev | B37: =B8/B$3 -> 0.016320996 | C37: =C8/C$3 -> 0.022803279 | D37: =D8/D$3 -> 0.010517815 | E37: =E8/E$3 -> 0.0090311415 | F37: =F8/F$3 -> 0.0067063052 | I37: =A67 -> - Property Dev | J37: =B67 -> 0.21377148 | K37: =C67 -> 0.38739818 | L37: =D67 -> 0.39014889 | M37: =E67 -> 0.40111945 | N37: =F67 -> 0.22782832
A38: - Investment Inc | B38: =B9/B$3 -> 0.0059527796 | C38: =C9/C$3 -> 0.0087183958 | D38: =D9/D$3 -> 0.0070798914 | E38: =E9/E$3 -> 0.0092194933 | F38: =F9/F$3 -> 0.0074241737 | I38: =A68 -> - Investment Income | J38: =B68 -> 0.99438988 | K38: =C68 -> 1.1094671 | L38: =D68 -> 0.88543002 | M38: =E68 -> 0.90599622 | N38: =F68 -> 0.95032723
A39: - Others | B39: =B10/B$3 -> 0.002620767 | C39: =C10/C$3 -> 0.0034412246 | D39: =D10/D$3 -> 0.00582598 | E39: =E10/E$3 -> 0.0053698937 | F39: =F10/F$3 -> 0.004765837 | I39: =A69 -> - Others | J39: =B69 -> 0.15897769 | K39: =C69 -> -0.28797891 | L39: =D69 -> 0.32816187 | M39: =E69 -> 0.20446391 | N39: =F69 -> 0.0057205329
I40: % Contribution to GP
A41: Total Profit for Segment | B41: =SUM(B13:B20) -> 1498.176 | C41: =SUM(C13:C20) -> 1269.99 | D41: =SUM(D13:D20) -> 1431.263 | E41: =SUM(E13:E20) -> 1177.69 | F41: =SUM(F13:F20) -> 1340.011 | I41: - Palm Products | J41: =B43 -> 0.71387073 | K41: =C43 -> 0.57849983 | L41: =D43 -> 0.6888147 | M41: =E43 -> 0.65858248 | N41: =F43 -> 0.60981589
...

Sheet CPO Price
A1: Palm oil - Monthly Price
A2: Month | B2: Price | C2: Change | D2: Return
A3: 39173 | B3: 645.41 | C3: - | D3: =B3/$B$3 -> 1 | E3: 1
A4: 39203 | B4: 740.63 | C4: 0.1475 | D4: =B4/$B$3 -> 1.1475341 | E4: =E3 -> 1
A5: 39234 | B5: 748.43 | C5: 0.0105 | D5: =B5/$B$3 -> 1.1596195 | E5: =E4 -> 1
A6: 39264 | B6: 764.47 | C6: 0.0214 | D6: =B6/$B$3 -> 1.1844719 | E6: =E5 -> 1
A7: 39295 | B7: 729.56 | C7: -0.0457 | D7: =B7/$B$3 -> 1.1303822 | E7: =E6 -> 1
A8: 39326 | B8: 745.18 | C8: 0.0214 | D8: =B8/$B$3 -> 1.1545839 | E8: =E7 -> 1
A9: 39356 | B9: 824.07 | C9: 0.1059 | D9: =B9/$B$3 -> 1.2768163 | E9: =E8 -> 1
A10: 39387 | B10: 877.34 | C10: 0.0646 | D10: =B10/$B$3 -> 1.359353 | E10: =E9 -> 1
A11: 39417 | B11: 883.45 | C11: 0.007 | D11: =B11/$B$3 -> 1.3688198 | E11: =E10 -> 1
A12: 39448 | B12: 987.02 | C12: 0.1172 | D12: =B12/$B$3 -> 1.5292915 | E12: =E11 -> 1
A13: 39479 | B13: 1109.5 | C13: 0.1241 | D13: =B13/$B$3 -> 1.7190623 | E13: =E12 -> 1
A14: 39508 | B14: 1146.86 | C14: 0.0337 | D14: =B14/$B$3 -> 1.776948 | E14: =E13 -> 1
A15: 39539 | B15: 1083.48 | C15: -0.0553 | D15: =B15/$B$3 -> 1.6787468 | E15: =E14 -> 1
... A17: 39600 | B17: 1096.39 | C17: 0.0088 | D17: =B17/$B$3 -> 1.6987496 | E17: =E16 -> 1
A18: 39630 | B18: 1026.25 | C18: -0.064 | D18: =B18/$B$3 -> 1.5900745 | E18: =E17 -> 1 | H18: Return | I18: Price
A19: 39661 | B19: 791.77 | C19: -0.2285 | D19: =B19/$B$3 -> 1.2267706 | E19: =E18 -> 1 | G19: Average | H19: =AVERAGE(D4:D123) -> 1.215437 | I19: =AVERAGE(B4:B123) -> 784.45517
A20: 39692 | B20: 667.04 | C20: -0.1575 | D20: =B20/$B$3 -> 1.0335136 | E20: =E19 -> 1 | G20: Median | H20: =MEDIAN(D4:D123) -> 1.1704033 | I20: =MEDIAN(B4:B123) -> 755.39
A21: 39722 | B21: 486.4 | C21: -0.2708 | D21: =B21/$B$3 -> 0.75362948 | E21: =E20 -> 1 | G21: Min | H21: =MIN(D4:D123) -> 0.67104631 | I21: =MIN(B4:B123) -> 433.1
A22: 39753 | B22: 433.1 | C22: -0.1096 | D22: =B22/$B$3 -> 0.67104631 | E22: =E21 -> 1 | G22: Max | H22: =MAX(D4:D123) -> 1.9345067 | I22: =MAX(B4:B123) -> 1248.55
A23: 39783 | B23: 440.38 | C23: 0.0168 | D23: =B23/$B$3 -> 0.68232596 | E23: =E22 -> 1 | G23: S. Dev | H23: =_xlfn.STDEV.P(D4:D123) -> 0.29219211 | I23: =_xlfn.STDEV.P(B4:B123) -> 188.58371
A24: 39814 | B24: 522.15 | C24: 0.1857 | D24: =B24/$B$3 -> 0.80902062 | E24: =E23 -> 1 | G24: 95 % CI
A25: 39845 | B25: 529.4 | C25: 0.0139 | D25: =B25/$B$3 -> 0.82025379 | E25: =E24 -> 1 | G25: Min | H25: =H$19 - _xlfn.CONFIDENCE.T(0.05, H$23, 120) -> 1.162621 | I25: =I$19 - _xlfn.CONFIDENCE.T(0.05, I$23, 120) -> 750.36724
A26: 39873 | B26: 557.21 | C26: 0.0525 | D26: =B26/$B$3 -> 0.86334268 | E26: =E25 -> 1 | G26: Max | H26: =H$19 + _xlfn.CONFIDENCE.T(0.05, H$23, 120) -> 1.2682529 | I26: =I$19 + _xlfn.CONFIDENCE.T(0.05, I$23, 120) -> 818.5431
A27: 39904 | B27: 693.21 | C27: 0.2441 | D27: =B27/$B$3 -> 1.0740614 | E27: =E26 -> 1
A28: 39934 | B28: 772.39 | C28: 0.1142 | D28: =B28/$B$3 -> 1.1967432 | E28: =E27 -> 1
A29: 39965 | B29: 690.82 | C29: -0.1056 | D29: =B29/$B$3 -> 1.0703584 | E29: =E28 -> 1
A30: 39995 | B30: 601.95 | C30: -0.1286 | D30: =B30/$B$3 -> 0.93266296 | E30: =E29 -> 1
A31: 40026 | B31: 686.79 | C31: 0.1409 | D31: =B31/$B$3 -> 1.0641143 | E31: =E30 -> 1
A32: 40057 | B32: 636.42 | C32: -0.0733 | D32: =B32/$B$3 -> 0.98607087 | E32: =E31 -> 1
A33: 40087 | B33: 636.56 | C33: 0.0002 | D33: =B33/$B$3 -> 0.98628779 | E33: =E32 -> 1
A34: 40118 | B34: 674.33 | C34: 0.0593 | D34: =B34/$B$3 -> 1.0448087 | E34: =E33 -> 1
A35: 40148 | B35: 727.6 | C35: 0.079 | D35: =B35/$B$3 -> 1.1273454 | E35: =E34 -> 1
A36: 40179 | B36: 742 | C36: 0.0198 | D36: =B36/$B$3 -> 1.1496568 | E36: =E35 -> 1
A37: 40210 | B37: 754.32 | C37: 0.0166 | D37: =B37/$B$3 -> 1.1687454 | E37: =E36 -> 1
A38: 40238 | B38: 793.9 | C38: 0.0525 | D38: =B38/$B$3 -> 1.2300708 | E38: =E37 -> 1
... A123: 42826 | B123: 623.21 | C123: -0.0604 | D123: =B123/$B$3 -> 0.96560326 | E123: =E122 -> 1

Sheet Land
A1: Source: Annual Report 2016 pg 17
B2: Unit | C2: 2012 | D2: 2013 | E2: 2014 | F2: 2015 | G2: 2016
A3: Oil Palm
A4: FFB Production | B4: mt
A5: - Own Estates | B5: mt | C5: 3259342 | D5: 3608636 | E5: 3733867 | F5: 3806043 | G5: 3495931
A6: - Sold | B6: mt | C6: 122673 | D6: 142189 | E6: 40630 | F6: 36373 | G6: 58461
A7: - Purchased | B7: mt | C7: 819796 | D7: 940925 | E7: 1052395 | F7: 886918 | G7: 715664
A8: - total processed | B8: mt | C8: 3956465 | D8: 4407372 | E8: 4745632 | F8: 4656588 | G8: 4153114
A9: Yield per mature hectare | B9: mt FFb | C9: 21.33 | D9: 22.51 | E9: 22.39 | F9: 21.96 | G9: 19.82
A10: Profit per mature hectare | B10: RM | C10: 7218 | D10: 4599 | E10: 6307 | F10: 4668 | G10: 4327
A11: Average Selling Price
A12: - Refined Palm producs | B12: RM/mt | C12: 3220 | D12: 2460 | E12: 2519 | F12: 2227 | G12: 2392
A13: - Crude Palm Oil | B13: RM/mt | C13: 2829 | D13: 2275 | E13: 2396 | F13: 2106 | G13: 2270
A14: - Palm Kernel Oil | B14: RM/mt | C14: 3295 | D14: 2225 | E14: 3294 | F14: 3205 | G14: 4191
A15: - Palm Kernel Cake | B15: RM/mt | C15: 286 | D15: 401 | E15: 430 | F15: 262 | G15: 277
A16: - Palm Kernels | B16: RM/mt | C16: 1580 | D16: 1105 | E16: 1576 | F16: 1424 | G16: 1881
A17: - FFB | B17: RM/mt | C17: 506 | D17: 317 | E17: 520 | F17: 462 | G17: 575
A19: Rubber
A20: Production | B20: 000 Kg | C20: 18997 | D20: 17531 | E20: 16547 | F20: 15224 | G20: 16007
A23: Planted Area (Weighted Average)
A24: Oil Palm | C24: =SUM(C25:C26) -> 192424 | D24: =SUM(D25:D26) -> 196232 | E24: =SUM(E25:E26) -> 204781 | F24: =SUM(F25:F26) -> 209249 | G24: =SUM(G25:G26) -> 211574
A25: - Mature | B25: Ha | C25: 152829 | D25: 160328 | E25: 166781 | F25: 173313 | G25: 176391
A26: - Immature | B26: Ha | C26: 39595 | D26: 35904 | E26: 38000 | F26: 35936 | G26: 35183
A27: Rubber | C27: =SUM(C28:C29) -> 19580 | D27: =SUM(D28:D29) -> 18699 | E27: =SUM(E28:E29) -> 16134 | F27: =SUM(F28:F29) -> 14277 | G27: =SUM(G28:G29) -> 13669
A28: - Mature | B28: Ha | C28: 15957 | D28: 15029 | E28: 12456 | F28: 10777 | G28: 10305
A29: - Immature | B29: Ha | C29: 3623 | D29: 3670 | E29: 3678 | F29: 3500 | G29: 3364
A30: Total Planted Area | B30: Ha | C30: =C24+C27 -> 212004 | D30: =D24+D27 -> 214931 | E30: =E24+E27 -> 220915 | F30: =F24+F27 -> 223526 | G30: =G24+G27 -> 225243
A32: Total Mature | C32: =C28+C25 -> 168786 | D32: =D28+D25 -> 175357 | E32: =E28+E25 -> 179237 | F32: =F28+F25 -> 184090 | G32: =G28+G25 -> 186696
A33: Total Immature | C33: =C29+C26 -> 43218 | D33: =D29+D26 -> 39574 | E33: =E29+E26 -> 41678 | F33: =F29+F26 -> 39436 | G33: =G29+G26 -> 38547
A34: % Mature | C34: =C32/C$30 -> 0.79614536 | D34: =D32/D$30 -> 0.81587579 | E34: =E32/E$30 -> 0.8113392 | F34: =F32/F$30 -> 0.8235731 | G34: =G32/G$30 -> 0.82886483
A35: % Immature | C35: =C33/C$30 -> 0.20385464 | D35: =D33/D$30 -> 0.18412421 | E35: =E33/E$30 -> 0.1886608 | F35: =F33/F$30 -> 0.1764269 | G35: =G33/G$30 -> 0.17113517
A37: % Oil Palm | C37: =C24/C30 -> 0.90764325 | D37: =D24/D30 -> 0.91299999 | E37: =E24/E30 -> 0.92696739 | F37: =F24/F30 -> 0.93612824 | G37: =G24/G30 -> 0.93931443
A38: % Rubber | C38: =C27/C30 -> 0.092356748 | D38: =D27/D30 -> 0.087000014 | E38: =E27/E30 -> 0.073032614 | F38: =F27/F30 -> 0.063871764 | G38: =G27/G30 -> 0.060685571
A40: Geographical Location of Oil Palm Planted Areas
A41: Total Land for Oil Palm | B41: ha | G41: 205472
A42: % Malaysia | G42: 0.44
A43: % Indonesia | G43: 0.52
A44: % Liberia | G44: 0.04
A45: Implied Hectarage
A46: Malaysia | B46: ha | G46: =G42*G$41 -> 90407.68
...

Sheet Debt
B2: Debt Profile
B3: Source: Annual Report 2016 pg 132
E4: Interest Rates per Annum (2016)
B5: Long Term Debt | C5: 2015 | D5: 2016 | E5: Min | F5: Max | G5: Mean
B7: Secured | C7: =C8 -> 1.286 | D7: =D8 -> 11.424 | E7: =E8 -> 0.0112 | F7: =F8 -> 0.0286 | G7: =G8 -> 0.0199
B8: Term Loan | C8: 1.286 | D8: 11.424 | E8: 0.0112 | F8: 0.0286 | G8: =AVERAGE(E8:F8) -> 0.0199
B9: Unsecured | C9: =SUM(C10:C11) -> 2679.935 | D9: =SUM(D10:D11) -> 2956.384 | E9: =($D10/$D9)*E10 + ($D11/$D9)*E11 -> 0.035472896 | F9: =($D10/$D9)*F10 + ($D11/$D9)*F11 -> 0.044342204 | G9: =($D10/$D9)*G10 + ($D11/$D9)*G11 -> 0.03990755
B10: Term Loans | C10: 279.935 | D10: 356.384 | E10: 0.0112 | F10: 0.0286 | G10: =AVERAGE(E10:F10) -> 0.0199
B11: Islamic Medium Term Notes | C11: 2400 | D11: 2600 | E11: 0.0388 | F11: 0.0465 | G11: =AVERAGE(E11:F11) -> 0.04265
B13: Total LT Debt | C13: =SUM(C7,C9) -> 2681.221 | D13: =SUM(D7,D9) -> 2967.808 | E13: =($D7/$D13)*E7 + ($D9/$D13)*E9 -> 0.035379462 | F13: =($D7/$D13)*F7 + ($D9/$D13)*F9 -> 0.044281607 | G13: =($D7/$D13)*G7 + ($D9/$D13)*G9 -> 0.039830535
B15: Short Term Debt
B16: Secured | C16: =C17 -> 1.001 | D16: =D17 -> 7.899 | E16: =E17 -> 0.0112 | F16: =F17 -> 0.0286 | G16: =G17 -> 0.0199
B17: Term Loan | C17: 1.001 | D17: 7.899 | E17: 0.0112 | F17: 0.0286 | G17: =AVERAGE(E17:F17) -> 0.0199
B18: Unsecured | C18: =SUM(C19:C25) -> 1911.839 | D18: =SUM(D19:D25) -> 1564.323 | E18: =($D19/$D27)*E19 + ($D20/$D27)*E20 + ($D21/$D27)*E21 + ($D22/$D27)*E22 + ($D23/$D27)*E23 + ($D24/$D27)*E24 + ($D25/$D27)*E25 -> 0.024711101 | F18: =($D19/$D27)*F19 + ($D20/$D27)*F20 + ($D21/$D27)*F21 + ($D22/$D27)*F22 + ($D23/$D27)*F23 + ($D24/$D27)*F24 + ($D25/$D27)*F25 -> 0.036036563 | G18: =($D19/$D27)*G19 + ($D20/$D27)*G20 + ($D21/$D27)*G21 + ($D22/$D27)*G22 + ($D23/$D27)*G23 + ($D24/$D27)*G24 + ($D25/$D27)*G25 -> 0.030373832
B19: Bank Overdrafts | C19: 27.168 | D19: 40.71 | E19: 0.0033 | F19: 0.0034 | G19: =AVERAGE(E19:F19) -> 0.00335
B20: Term Loan | C20: 186.623 | D20: 82.459 | E20: 0.0112 | F20: 0.0286 | G20: =AVERAGE(E20:F20) -> 0.0199
B21: Export Credit Refinancing | C21: 135.92 | D21: 287.125 | E21: 0.034 | F21: 0.038 | G21: =AVERAGE(E21:F21) -> 0.036
B22: Bankers' Acceptance | C22: 554.717 | D22: 433.741 | E22: 0.0304 | F22: 0.043 | G22: =AVERAGE(E22:F22) -> 0.0367
B23: Revolving Credit | C23: 193.918 | D23: 126.934 | E23: 0.01 | F23: 0.0453 | G23: =AVERAGE(E23:F23) -> 0.02765
B24: Trade Financing | C24: 813.493 | D24: 293.354 | E24: 0.0066 | F24: 0.0167 | G24: =AVERAGE(E24:F24) -> 0.01165
B25: Islamic Medium Term Notes | C25: 0 | D25: 300 | E25: 0.0388 | F25: 0.0465 | G25: =AVERAGE(E25:F25) -> 0.04265
B27: Total ST Debt | C27: =SUM(C16,C18) -> 1912.84 | D27: =SUM(D16,D18) -> 1572.222 | E27: =($D18/$D27)*E18 + ($D16/$D27)*E16 -> 0.02464322 | F27: =($D18/$D27)*F18 + ($D16/$D27)*F16 -> 0.0359992 | G27: =($D18/$D27)*G18 + ($D16/$D27)*G16 -> 0.03032121
B29: Total Debt | C29: =C27+C13 -> 4594.061 | D29: =D27+D13 -> 4540.03 | E29: =($D13/$D29)*E13 + ($D27/$D29)*E27 -> 0.031661478 | F29: =($D13/$D29)*F13 + ($D27/$D29)*F27 -> 0.041413392 | G29: =($D13/$D29)*G13 + ($D27/$D29)*G27 -> 0.036537435

Sheet Products
B2: Product Name | C2: Description and Uses
B3: Palm Oil
B4: Crude Palm Oil (CPO) | C4: Obtained from mesocrap of fresh fruit bunches. The basic commodity for wide ranging application
B5: RBD Palm Oil | C5: Obtained from refinement of CPO. Used as frying oil for instant noodle and snacks, and margarine, ice cream, condensed milk and soap
B6: RBD Palm Olein | C6: Obtained from fractionating refined palm oil. Used as cooking oil for food industries and margarine
B7: RBD Palm Stearin | C7: Obtained from fractionating refined palm oil. Used for margarine, soap, candels and oleochemical industries
B8: Palm Fatty Acid Distillate | C8: By product from refining crude palm oil. Used for soap, animal feed industries and for oleochemical industries
B9: Palm Kernels
B10: Palm Kernel Oil | C10: Obtained from crushing of oil palm kernel. Used for oleochemical industires and specialty fats
B11: Palm Kernel Expeller Cakes | C11: By product from kernel extraction. Used for animal feed, especially cattle feed.
B12: Oleochemcial
B13: Oleochemcial | C13: Derived from plant and animal fats. Used in production of laundary detergent, toothpase, soap bars, shower cream, shampoo, biodiesel

Sheet Competitor Analysis
B1: Company: Kuala Lumpur Kepong | M1: Company: Astra Agro Lestari | U1: Company: Bumitama Agri | AC1: Company: Felda Global Venture | AK1: Company: First Resources | AS1: Company: Genting Plantations | BA1: Company: Golden Agri-Resources | BI1: Company: IOI Corp
C2: 2012 | D2: =C2+1 -> 2013 | E2: =D2+1 -> 2014 | F2: =E2+1 -> 2015 | G2: =F2+1 -> 2016 | H2: Average | N2: 2012 | O2: =N2+1 -> 2013 | P2: =O2+1 -> 2014 | Q2: =P2+1 -> 2015 | R2: =Q2+1 -> 2016 | S2: Average | V2: 2012 | W2: =V2+1 -> 2013 | X2: =W2+1 -> 2014 | Y2: =X2+1 -> 2015 | Z2: =Y2+1 -> 2016 | AA2: Average | AD2: 2012 | AE2: =AD2+1 -> 2013 | AF2: =AE2+1 -> 2014 | AG2: =AF2+1 -> 2015 | AH2: =AG2+1 -> 2016 | AI2: Average | AL2: 2012 | AM2: =AL2+1 -> 2013 | AN2: =AM2+1 -> 2014 | AO2: =AN2+1 -> 2015 | AP2: =AO2+1 -> 2016 | AQ2: Average | AT2: 2012 | AU2: =AT2+1 -> 2013 | AV2: =AU2+1 -> 2014 | AW2: =AV2+1 -> 2015 | AX2: =AW2+1 -> 2016 | AY2: Average | BB2: 2012 | BC2: =BB2+1 -> 2013 | BD2: =BC2+1 -> 2014 | BE2: =BD2+1 -> 2015 | BF2: =BE2+1 -> 2016 | BG2: Average | BJ2: 2012 | BK2: =BJ2+1 -> 2013 | BL2: =BK2+1 -> 2014 | BM2: =BL2+1 -> 2015 | BN2: =BM2+1 -> 2016 | BO2: Average
B3: Revenue | C3: =Financials!C7 -> 10067 | D3: =Financials!D7 -> 9147 | E3: =Financials!E7 -> 11130 | F3: =Financials!F7 -> 13650 | G3: =Financials!G7 -> 16506 | H3: =AVERAGE(C3:G3) -> 12100 | L3: 1 | M3: Revenue | N3: =N25 -> 11564319 | O3: =O25 -> 12674999 | P3: =P25 -> 16305831 | Q3: =Q25 -> 13059216 | R3: =R25 -> 14121374 | S3: =AVERAGE(N3:R3) -> 13545148 | U3: Revenue | V3: =V25 -> 470394.7 | W3: =W25 -> 486578.2 | X3: =X25 -> 614844.4 | Y3: =Y25 -> 568912.1 | Z3: =Z25 -> 688203 | AA3: =AVERAGE(V3:Z3) -> 565786.48 | AC3: Revenue | AD3: =AD25 -> 12886 | AE3: =AE25 -> 12568 | AF3: =AF25 -> 15258 | AG3: =AG25 -> 15559 | AH3: =AH25 -> 17241 | AI3: =AVERAGE(AD3:AH3) -> 14702.4 | AK3: Revenue | AL3: =AL25 -> 753931.1 | AM3: =AM25 -> 783952 | AN3: =AN25 -> 779862.6 | AO3: =AO25 -> 623919.1 | AP3: =AP25 -> 794195.6 | AQ3: =AVERAGE(AL3:AP3) -> 747172.08 | AS3: Revenue | AT3: =AT25 -> 1233 | AU3: =AU25 -> 1384 | AV3: =AV25 -> 1643 | AW3: =AW25 -> 1375 | AX3: =AX25 -> 1480 | AY3: =AVERAGE(AT3:AX3) -> 1423 | BA3: Revenue | BB3: =BB25 -> 7561 | BC3: =BC25 -> 8240 | BD3: =BD25 -> 9654 | BE3: =BE25 -> 8953 | BF3: =BF25 -> 9953 | BG3: =AVERAGE(BB3:BF3) -> 8872.2 | BI3: Revenue | BJ3: =BJ25 -> 14599 | BK3: =BK25 -> 12199 | BL3: =BL25 -> 11911 | BM3: =BM25 -> 11542 | BN3: =BN25 -> 11739 | BO3: =AVERAGE(BJ3:BN3) -> 12398
B4: Gross Profit | C4: =Financials!C9 -> 2425 | D4: =Financials!D9 -> 2233 | E4: =Financials!E9 -> 2454 | F4: =Financials!F9 -> 2343 | G4: =Financials!G9 -> 2552 | H4: =AVERAGE(C4:G4) -> 2401.4 | M4: Gross Profit | N4: =N26 -> 4817729 | O4: =O26 -> 4564313 | P4: =P26 -> 5643321 | Q4: =Q26 -> 3918202 | R4: =R26 -> 4571076 | S4: =AVERAGE(N4:R4) -> 4702928.2 | U4: Gross Profit | V4: =V26 -> 200531.9 | W4: =W26 -> 204290.1 | X4: =X26 -> 268535.7 | Y4: =Y26 -> 204925.5 | Z4: =Z26 -> 248638.3 | AA4: =AVERAGE(V4:Z4) -> 225384.3 | AC4: Gross Profit | AD4: =AD26 -> 1682 | AE4: =AE26 -> 988 | AF4: =AF26 -> 2623 | AG4: =AG26 -> 2593 | AH4: =AH26 -> 2299 | AI4: =AVERAGE(AD4:AH4) -> 2037 | AK4: Gross Profit | AL4: =AL26 -> 502269.7 | AM4: =AM26 -> 505297.2 | AN4: =AN26 -> 440747.8 | AO4: =AO26 -> 379128.6 | AP4: =AP26 -> 439373.2 | AQ4: =AVERAGE(AL4:AP4) -> 453363.3 | AS4: Gross Profit | AT4: =AT26 -> 573 | AU4: =AU26 -> 594 | AV4: =AV26 -> 760 | AW4: =AW26 -> 560 | AX4: =AX26 -> 731 | AY4: =AVERAGE(AT4:AX4) -> 643.6 | BA4: Gross Profit | BB4: =BB26 -> 2128 | BC4: =BC26 -> 1838 | BD4: =BD26 -> 1810 | BE4: =BE26 -> 1761 | BF4: =BF26 -> 1832 | BG4: =AVERAGE(BB4:BF4) -> 1873.8 | BI4: Gross Profit | BJ4: =BJ26 -> 2706 | BK4: =BK26 -> 2383 | BL4: =BL26 -> 2825 | BM4: =BM26 -> 2445 | BN4: =BN26 -> 2716 | BO4: =AVERAGE(BJ4:BN4) -> 2615
B5: EBITDA | C5: =Financials!C12 -> 1653 | D5: =Financials!D12 -> 1447 | E5: =Financials!E12 -> 1815 | F5: =Financials!F12 -> 1630 | G5: =Financials!G12 -> 1746 | H5: =AVERAGE(C5:G5) -> 1658.2 | M5: EBITDA | N5: =N27 -> 3973578 | O5: =O27 -> 3555893 | P5: =P27 -> 4489281 | Q5: =Q27 -> 2776728 | R5: =R27 -> 3665744 | S5: =AVERAGE(N5:R5) -> 3692244.8 | U5: EBITDA | V5: =V27 -> 170714.8 | W5: =W27 -> 175054 | X5: =X27 -> 231540.3 | Y5: =Y27 -> 165199.2 | Z5: =Z27 -> 208934 | AA5: =AVERAGE(V5:Z5) -> 190288.46 | AC5: EBITDA | AD5: =AD27 -> 1253 | AE5: =AE27 -> 587 | AF5: =AF27 -> 1513 | AG5: =AG27 -> 1223 | AH5: =AH27 -> 1050 | AI5: =AVERAGE(AD5:AH5) -> 1125.2 | AK5: EBITDA | AL5: =AL27 -> 403247.5 | AM5: =AM27 -> 424093.7 | AN5: =AN27 -> 379777.6 | AO5: =AO27 -> 298974.3 | AP5: =AP27 -> 343194.5 | AQ5: =AVERAGE(AL5:AP5) -> 369857.52 | AS5: EBITDA | AT5: =AT27 -> 400 | AU5: =AU27 -> 430 | AV5: =AV27 -> 612 | AW5: =AW27 -> 409 | AX5: =AX27 -> 573 | AY5: =AVERAGE(AT5:AX5) -> 484.8 | BA5: EBITDA | BB5: =BB27 -> 919 | BC5: =BC27 -> 778 | BD5: =BD27 -> 640 | BE5: =BE27 -> 658 | BF5: =BF27 -> 722 | BG5: =AVERAGE(BB5:BF5) -> 743.4 | BI5: EBITDA | BJ5: =BJ27 -> 1910 | BK5: =BK27 -> 1512 | BL5: =BL27 -> 2006 | BM5: =BM27 -> 1726 | BN5: =BN27 -> 1966 | BO5: =AVERAGE(BJ5:BN5) -> 1824
B6: EBT | C6: =Financials!C21 -> 1391 | D6: =Financials!D21 -> 1186 | E6: =Financials!E21 -> 1311 | F6: =Financials!F21 -> 1137 | G6: =Financials!G21 -> 1706 | H6: =AVERAGE(C6:G6) -> 1346.2 | M6: EBT | N6: =N28 -> 3524893 | O6: =O28 -> 2605071 | P6: =P28 -> 3681837 | Q6: =Q28 -> 1175513 | R6: =R28 -> 2208778 | S6: =AVERAGE(N6:R6) -> 2639218.4 | U6: EBT | V6: =V28 -> 156313 | W6: =W28 -> 153776.2 | X6: =X28 -> 194579.7 | Y6: =Y28 -> 102855.7 | Z6: =Z28 -> 157335.4 | AA6: =AVERAGE(V6:Z6) -> 152972 | AC6: EBT | AD6: =AD28 -> 953 | AE6: =AE28 -> 1539 | AF6: =AF28 -> 940 | AG6: =AG28 -> 393 | AH6: =AH28 -> 253 | AI6: =AVERAGE(AD6:AH6) -> 815.6 | AK6: EBT | AL6: =AL28 -> 407716.7 | AM6: =AM28 -> 392370.2 | AN6: =AN28 -> 319211.7 | AO6: =AO28 -> 199182.8 | AP6: =AP28 -> 252758 | AQ6: =AVERAGE(AL6:AP6) -> 314247.88 | AS6: EBT | AT6: =AT28 -> 404 | AU6: =AU28 -> 300 | AV6: =AV28 -> 520 | AW6: =AW28 -> 247 | AX6: =AX28 -> 501 | AY6: =AVERAGE(AT6:AX6) -> 394.4 | BA6: EBT | BB6: =BB28 -> 764 | BC6: =BC28 -> 539 | BD6: =BD28 -> 201 | BE6: =BE28 -> -13 | BF6: =BF28 -> 183 | BG6: =AVERAGE(BB6:BF6) -> 334.8 | BI6: EBT | BJ6: =BJ28 -> 1592 | BK6: =BK28 -> 1604 | BL6: =BL28 -> 1671 | BM6: =BM28 -> 316 | BN6: =BN28 -> 966 | BO6: =AVERAGE(BJ6:BN6) -> 1229.8
B7: Net Income | C7: =Financials!C24 -> 1105 | D7: =Financials!D24 -> 966 | E7: =Financials!E24 -> 1032 | F7: =Financials!F24 -> 884 | G7: =Financials!G24 -> 1682 | H7: =AVERAGE(C7:G7) -> 1133.8 | M7: Net Income | N7: =N29 -> 2520266 | O7: =O29 -> 1903088 | P7: =P29 -> 2622072 | Q7: =Q29 -> 695684 | R7: =R29 -> 2114299 | S7: =AVERAGE(N7:R7) -> 1971081.8 | U7: Net Income | V7: =V29 -> 120325 | W7: =W29 -> 117579.4 | X7: =X29 -> 146498.5 | Y7: =Y29 -> 82690.3 | Z7: =Z29 -> 123334.4 | AA7: =AVERAGE(V7:Z7) -> 118085.52 | AC7: Net Income | AD7: =AD29 -> 873 | AE7: =AE29 -> 1137 | AF7: =AF29 -> 680 | AG7: =AG29 -> 292 | AH7: =AH29 -> 69 | AI7: =AVERAGE(AD7:AH7) -> 610.2 | AK7: Net Income | AL7: =AL29 -> 310095.2 | AM7: =AM29 -> 307963.4 | AN7: =AN29 -> 229060.3 | AO7: =AO29 -> 137055.5 | AP7: =AP29 -> 181959.7 | AQ7: =AVERAGE(AL7:AP7) -> 233226.82 | AS7: Net Income | AT7: =AT29 -> 322 | AU7: =AU29 -> 220 | AV7: =AV29 -> 384 | AW7: =AW29 -> 177 | AX7: =AX29 -> 370 | AY7: =AVERAGE(AT7:AX7) -> 294.6 | BA7: Net Income | BB7: =BB29 -> 519 | BC7: =BC29 -> 395 | BD7: =BD29 -> 148 | BE7: =BE29 -> 14 | BF7: =BF29 -> 556 | BG7: =AVERAGE(BB7:BF7) -> 326.4 | BI7: Net Income | BJ7: =BJ29 -> 1188 | BK7: =BK29 -> 1283 | BL7: =BL29 -> 1262 | BM7: =BM29 -> 55 | BN7: =BN29 -> 646 | BO7: =AVERAGE(BJ7:BN7) -> 886.8
B9: % Margin To Revenue | M9: % Margin To Revenue | U9: % Margin To Revenue | AC9: % Margin To Revenue | AK9: % Margin To Revenue | AS9: % Margin To Revenue | BA9: % Margin To Revenue | BI9: % Margin To Revenue
B10: =B4 -> Gross Profit | C10: =C4/C$3 -> 0.24088606 | D10: =D4/D$3 -> 0.24412376 | E10: =E4/E$3 -> 0.22048518 | F10: =F4/F$3 -> 0.17164835 | G10: =G4/G$3 -> 0.15461044 | H10: =AVERAGE(C10:G10) -> 0.20635076 | M10: =M4 -> Gross Profit | N10: =N4/N$3 -> 0.41660291 | O10: =O4/O$3 -> 0.36010362 | P10: =P4/P$3 -> 0.3460922 | Q10: =Q4/Q$3 -> 0.30003348 | R10: =R4/R$3 -> 0.3236991 | S10: =AVERAGE(N10:R10) -> 0.34930626 | U10: =U4 -> Gross Profit | V10: =V4/V$3 -> 0.42630561 | W10: =W4/W$3 -> 0.4198505 | X10: =X4/X$3 -> 0.43675392 | Y10: =Y4/Y$3 -> 0.36020591 | Z10: =Z4/Z$3 -> 0.36128628 | AA10: =AVERAGE(V10:Z10) -> 0.40088044 | AC10: =AC4 -> Gross Profit | AD10: =AD4/AD$3 -> 0.13052926 | AE10: =AE4/AE$3 -> 0.078612349 | AF10: =AF4/AF$3 -> 0.17190982 | AG10: =AG4/AG$3 -> 0.16665595 | AH10: =AH4/AH$3 -> 0.13334493 | AI10: =AVERAGE(AD10:AH10) -> 0.13621046 | AK10: =AK4 -> Gross Profit | AL10: =AL4/AL$3 -> 0.66620106 | AM10: =AM4/AM$3 -> 0.6445512 | AN10: =AN4/AN$3 -> 0.56516084 | AO10: =AO4/AO$3 -> 0.60765667 | AP10: =AP4/AP$3 -> 0.55323046 | AQ10: =AVERAGE(AL10:AP10) -> 0.60736005 | AS10: =AS4 -> Gross Profit | AT10: =AT4/AT$3 -> 0.46472019 | AU10: =AU4/AU$3 -> 0.42919075 | AV10: =AV4/AV$3 -> 0.46256847 | AW10: =AW4/AW$3 -> 0.40727273 | AX10: =AX4/AX$3 -> 0.49391892 | AY10: =AVERAGE(AT10:AX10) -> 0.45153421 | BA10: =BA4 -> Gross Profit | BB10: =BB4/BB$3 -> 0.28144425 | BC10: =BC4/BC$3 -> 0.22305825 | BD10: =BD4/BD$3 -> 0.18748705 | BE10: =BE4/BE$3 -> 0.19669385 | BF10: =BF4/BF$3 -> 0.18406511 | BG10: =AVERAGE(BB10:BF10) -> 0.2145497 | BI10: =BI4 -> Gross Profit | BJ10: =BJ4/BJ$3 -> 0.18535516 | BK10: =BK4/BK$3 -> 0.19534388 | BL10: =BL4/BL$3 -> 0.23717572 | BM10: =BM4/BM$3 -> 0.21183504 | BN10: =BN4/BN$3 -> 0.23136553 | BO10: =AVERAGE(BJ10:BN10) -> 0.21221507
B11: =B5 -> EBITDA | C11: =C5/C$3 -> 0.16419986 | D11: =D5/D$3 -> 0.15819394 | E11: =E5/E$3 -> 0.16307278 | F11: =F5/F$3 -> 0.11941392 | G11: =G5/G$3 -> 0.10577972 | H11: =AVERAGE(C11:G11) -> 0.14213204 | M11: =M5 -> EBITDA | N11: =N5/N$3 -> 0.34360674 | O11: =O5/O$3 -> 0.28054385 | P11: =P5/P$3 -> 0.27531752 | Q11: =Q5/Q$3 -> 0.21262593 | R11: =R5/R$3 -> 0.25958834 | S11: =AVERAGE(N11:R11) -> 0.27433648 | U11: =U5 -> EBITDA | V11: =V5/V$3 -> 0.3629182 | W11: =W5/W$3 -> 0.3597654 | X11: =X5/X$3 -> 0.37658357 | Y11: =Y5/Y$3 -> 0.29037737 | Z11: =Z5/Z$3 -> 0.30359356 | AA11: =AVERAGE(V11:Z11) -> 0.33864762 | AC11: =AC5 -> EBITDA | AD11: =AD5/AD$3 -> 0.097237312 | AE11: =AE5/AE$3 -> 0.04670592 | AF11: =AF5/AF$3 -> 0.099161096 | AG11: =AG5/AG$3 -> 0.078604023 | AH11: =AH5/AH$3 -> 0.06090134 | AI11: =AVERAGE(AD11:AH11) -> 0.076521938 | AK11: =AK5 -> EBITDA | AL11: =AL5/AL$3 -> 0.53485988 | AM11: =AM5/AM$3 -> 0.54096896 | AN11: =AN5/AN$3 -> 0.48698014 | AO11: =AO5/AO$3 -> 0.47918761 | AP11: =AP5/AP$3 -> 0.43212843 | AQ11: =AVERAGE(AL11:AP11) -> 0.49482501 | AS11: =AS5 -> EBITDA | AT11: =AT5/AT$3 -> 0.324412 | AU11: =AU5/AU$3 -> 0.31069364 | AV11: =AV5/AV$3 -> 0.37248935 | AW11: =AW5/AW$3 -> 0.29745455 | AX11: =AX5/AX$3 -> 0.38716216 | AY11: =AVERAGE(AT11:AX11) -> 0.33844234 | BA11: =BA5 -> EBITDA | BB11: =BB5/BB$3 -> 0.12154477 | BC11: =BC5/BC$3 -> 0.094417476 | BD11: =BD5/BD$3 -> 0.066293764 | BE11: =BE5/BE$3 -> 0.073494918 | BF11: =BF5/BF$3 -> 0.072540942 | BG11: =AVERAGE(BB11:BF11) -> 0.085658374 | BI11: =BI5 -> EBITDA | BJ11: =BJ5/BJ$3 -> 0.13083088 | BK11: =BK5/BK$3 -> 0.12394459 | BL11: =BL5/BL$3 -> 0.16841575 | BM11: =BM5/BM$3 -> 0.14954081 | BN11: =BN5/BN$3 -> 0.16747593 | BO11: =AVERAGE(BJ11:BN11) -> 0.14804159
B12: =B6 -> EBT | C12: =C6/C$3 -> 0.13817423 | D12: =D6/D$3 -> 0.12966 | E12: =E6/E$3 -> 0.11778976 | F12: =F6/F$3 -> 0.083296703 | G12: =G6/G$3 -> 0.10335636 | H12: =AVERAGE(C12:G12) -> 0.11445541 | M12: =M6 -> EBT | N12: =N6/N$3 -> 0.30480766 | O12: =O6/O$3 -> 0.2055283 | P12: =P6/P$3 -> 0.2257988 | Q12: =Q6/Q$3 -> 0.090014056 | R12: =R6/R$3 -> 0.15641382 | S12: =AVERAGE(N12:R12) -> 0.19651253 | U12: =U6 -> EBT | V12: =V6/V$3 -> 0.33230179 | W12: =W6/W$3 -> 0.31603594 | X12: =X6/X$3 -> 0.31646983 | Y12: =Y6/Y$3 -> 0.18079366 | Z12: =Z6/Z$3 -> 0.22861772 | AA12: =AVERAGE(V12:Z12) -> 0.27484379 | AC12: =AC6 -> EBT | AD12: =AD6/AD$3 -> 0.073956232 | AE12: =AE6/AE$3 -> 0.12245385 | AF12: =AF6/AF$3 -> 0.061607026 | AG12: =AG6/AG$3 -> 0.025258693 | AH12: =AH6/AH$3 -> 0.014674323 | AI12: =AVERAGE(AD12:AH12) -> 0.059590025 | AK12: =AK6 -> EBT | AL12: =AL6/AL$3 -> 0.54078775 | AM12: =AM6/AM$3 -> 0.50050284 | AN12: =AN6/AN$3 -> 0.40931787 | AO12: =AO6/AO$3 -> 0.31924459 | AP12: =AP6/AP$3 -> 0.31825661 | AQ12: =AVERAGE(AL12:AP12) -> 0.41762193 | AS12: =AS6 -> EBT | AT12: =AT6/AT$3 -> 0.32765612 | AU12: =AU6/AU$3 -> 0.21676301 | AV12: =AV6/AV$3 -> 0.31649422 | AW12: =AW6/AW$3 -> 0.17963636 | AX12: =AX6/AX$3 -> 0.33851351 | AY12: =AVERAGE(AT12:AX12) -> 0.27581264 | BA12: =BA6 -> EBT | BB12: =BB6/BB$3 -> 0.10104484 | BC12: =BC6/BC$3 -> 0.065412621 | BD12: =BD6/BD$3 -> 0.020820385 | BE12: =BE6/BE$3 -> -0.0014520273 | BF12: =BF6/BF$3 -> 0.018386416 | BG12: =AVERAGE(BB12:BF12) -> 0.040842446 | BI12: =BI6 -> EBT | BJ12: =BJ6/BJ$3 -> 0.10904856 | BK12: =BK6/BK$3 -> 0.13148619 | BL12: =BL6/BL$3 -> 0.14029049 | BM12: =BM6/BM$3 -> 0.027378271 | BN12: =BN6/BN$3 -> 0.082289803 | BO12: =AVERAGE(BJ12:BN12) -> 0.098098663
B13: =B7 -> Net Income | C13: =C7/C$3 -> 0.10976458 | D13: =D7/D$3 -> 0.1056084 | E13: =E7/E$3 -> 0.092722372 | F13: =F7/F$3 -> 0.064761905 | G13: =G7/G$3 -> 0.10190234 | H13: =AVERAGE(C13:G13) -> 0.094951918 | M13: =M7 -> Net Income | N13: =N7/N$3 -> 0.21793467 | O13: =O7/O$3 -> 0.15014502 | P13: =P7/P$3 -> 0.16080579 | Q13: =Q7/Q$3 -> 0.053271498 | R13: =R7/R$3 -> 0.14972332 | S13: =AVERAGE(N13:R13) -> 0.14637606 | U13: =U7 -> Net Income | V13: =V7/V$3 -> 0.25579582 | W13: =W7/W$3 -> 0.24164543 | X13: =X7/X$3 -> 0.23826923 | Y13: =Y7/Y$3 -> 0.14534811 | Z13: =Z7/Z$3 -> 0.17921224 | AA13: =AVERAGE(V13:Z13) -> 0.21205417 | AC13: =AC7 -> Net Income | AD13: =AD7/AD$3 -> 0.067747944 | AE13: =AE7/AE$3 -> 0.090467855 | AF13: =AF7/AF$3 -> 0.044566785 | AG13: =AG7/AG$3 -> 0.018767273 | AH13: =AH7/AH$3 -> 0.004002088 | AI13: =AVERAGE(AD13:AH13) -> 0.045110389 | AK13: =AK7 -> Net Income | AL13: =AL7/AL$3 -> 0.41130443 | AM13: =AM7/AM$3 -> 0.39283451 | AN13: =AN7/AN$3 -> 0.29371879 | AO13: =AO7/AO$3 -> 0.2196687 | AP13: =AP7/AP$3 -> 0.22911195 | AQ13: =AVERAGE(AL13:AP13) -> 0.30932768 | AS13: =AS7 -> Net Income | AT13: =AT7/AT$3 -> 0.26115166 | AU13: =AU7/AU$3 -> 0.15895954 | AV13: =AV7/AV$3 -> 0.23371881 | AW13: =AW7/AW$3 -> 0.12872727 | AX13: =AX7/AX$3 -> 0.25 | AY13: =AVERAGE(AT13:AX13) -> 0.20651146 | BA13: =BA7 -> Net Income | BB13: =BB7/BB$3 -> 0.068641714 | BC13: =BC7/BC$3 -> 0.047936893 | BD13: =BD7/BD$3 -> 0.015330433 | BE13: =BE7/BE$3 -> 0.0015637217 | BF13: =BF7/BF$3 -> 0.055862554 | BG13: =AVERAGE(BB13:BF13) -> 0.037867063 | BI13: =BI7 -> Net Income | BJ13: =BJ7/BJ$3 -> 0.081375437 | BK13: =BK7/BK$3 -> 0.10517256 | BL13: =BL7/BL$3 -> 0.10595248 | BM13: =BM7/BM$3 -> 0.0047652053 | BN13: =BN7/BN$3 -> 0.055030241 | BO13: =AVERAGE(BJ13:BN13) -> 0.070459184
C15: KLK | D15: AAL | E15: B. Agri | F15: FGV | G15: F. Res | H15: Genting | I15: GAR | J15: IOI | K15: Comps
B16: 2016 Margin (%) | M16: Astra | N16: 2016 | O16: =N16-1 -> 2015 | P16: =O16-1 -> 2014 | Q16: =P16-1 -> 2013 | R16: =Q16-1 -> 2012 | U16: Bumitama | V16: 2016 | W16: =V16-1 -> 2015 | X16: =W16-1 -> 2014 | Y16: =X16-1 -> 2013 | Z16: =Y16-1 -> 2012 | AC16: FGV | AD16: 2016 | AE16: =AD16-1 -> 2015 | AF16: =AE16-1 -> 2014 | AG16: =AF16-1 -> 2013 | AH16: =AG16-1 -> 2012 | AK16: First Resources | AL16: 2016 | AM16: =AL16-1 -> 2015 | AN16: =AM16-1 -> 2014 | AO16: =AN16-1 -> 2013 | AP16: =AO16-1 -> 2012 | AS16: Genting Plantation | AT16: 2016 | AU16: =AT16-1 -> 2015 | AV16: =AU16-1 -> 2014 | AW16: =AV16-1 -> 2013 | AX16: =AW16-1 -> 2012 | BA16: Golden Agri-Resource | BB16: 2016 | BC16: =BB16-1 -> 2015 | BD16: =BC16-1 -> 2014 | BE16: =BD16-1 -> 2013 | BF16: =BE16-1 -> 2012 | BI16: IOI | BJ16: 2016 | BK16: =BJ16-1 -> 2015 | BL16: =BK16-1 -> 2014 | BM16: =BL16-1 -> 2013 | BN16: =BM16-1 -> 2012
B17: Gross Profit | C17: =G10 -> 0.15461044 | D17: =R10 -> 0.3236991 | E17: =Z10 -> 0.36128628 | F17: =AH10 -> 0.13334493 | G17: =AP10 -> 0.55323046 | H17: =AX10 -> 0.49391892 | I17: =BF10 -> 0.18406511 | J17: =BN10 -> 0.23136553 | K17: =AVERAGE(D17:J17) -> 0.32584433 | M17: Revenue | N17: 14121374 | O17: 13059216 | P17: 16305831 | Q17: 12674999 | R17: 11564319 | U17: Revenue | V17: 688203 | W17: 568912.1 | X17: 614844.4 | Y17: 486578.2 | Z17: 470394.7 | AC17: Revenue | AD17: 17241 | AE17: 15559 | AF17: 15258 | AG17: 12568 | AH17: 12886 | AK17: Revenue | AL17: 794195.6 | AM17: 623919.1 | AN17: 779862.6 | AO17: 783952 | AP17: 753931.1 | AS17: Revenue | AT17: 1480 | AU17: 1375 | AV17: 1643 | AW17: 1384 | AX17: 1233 | BA17: Revenue | BB17: 9953 | BC17: 8953 | BD17: 9654 | BE17: 8240 | BF17: 7561 | BI17: Revenue | BJ17: 11739 | BK17: 11542 | BL17: 11911 | BM17: 12199 | BN17: 14599
