Workbook

Sheet Hard Input
B2: Financial Statement Input | I2: Share Price | Q2: Analyst Recommendations | X2: Dividends | AE2: GDP Growth (%) | AJ2: Arrival of Tourist by Country | AP2: Genting Malaysia Berhad Statistics
B3: Source: CNBC | I3: Source: Yahoo Finance | Q3: Source: i3 Investor | X3: Source: MorningStar | AE3: Source: World Bank | AJ3: Source: Tourism Malaysia | AP3: Source: CIMB 9th Annual Malaysia Corporate Day
C6: 2013 | D6: 2014 | E6: 2015 | F6: 2016 | I6: Date | J6: Open | K6: High | L6: Low | M6: Close | N6: Adj Close | O6: Volume | Q6: Date | R6: Open Price | S6: Target Price | T6: Upside/Downside | U6: Price Call | V6: Source | X6: Annual Dividends | AP6: Million | AQ6: Visitor Arrivals (Malaysia) | AT6: Hotel | AV6: Malaysia L&H
B7: Balance Sheet | I7: 41045 | J7: 3.63 | K7: 3.66 | L7: 3.51 | M7: 3.51 | N7: 3.51 | O7: 6004400 | Q7: 42790 | R7: 5.5 | S7: 6.1 | T7: +0.60 (10.91%) | U7: BUY | V7: TA | Y7: 41244 | Z7: 41609 | AA7: 41974 | AB7: 42339 | AC7: 42705 | AF7: Malaysia | AG7: China | AH7: World | AK7: Tourist Arrival | AL7: Asia | AM7: China | AN7: Singapore | AP7: Year | AQ7: Day-Trippers | AR7: Hotel Guest | AS7: Total | AT7: ARR | AU7: AOR | AV7: Revenue
B8: Cash | C8: 1261 | D8: 1282 | E8: 1719 | F8: 1610 | I8: 41046 | J8: 3.53 | K8: 3.64 | L8: 3.52 | M8: 3.6 | N8: 3.6 | O8: 4571800 | Q8: 42790 | R8: 5.5 | S8: 5.1 | T8: -0.40 (7.27%) | U8: HOLD | V8: PUBLIC BANK | X8: Dividend Amount | Y8: 0.09 | Z8: 0.09 | AA8: 0.07 | AB8: 0.06 | AC8: 0.07 | AE8: 2004 | AF8: 0.067834377 | AG8: 0.10111223 | AH8: 0.04449 | AJ8: 2004 | AK8: 15703406 | AL8: 13945696 | AM8: 632807 | AN8: 9520306 | AP8: 2010 | AQ8: 14.6 | AR8: 5.3 | AS8: =SUM(AQ8:AR8) -> 19.9 | AT8: 81 | AU8: 0.93 | AV8: 5068
B9: Short Term Investments | C9: 3554 | D9: 2780 | E9: 3439 | F9: 3844 | I9: 41047 | J9: 3.55 | K9: 3.57 | L9: 3.52 | M9: 3.57 | N9: 3.57 | O9: 3356600 | Q9: 42790 | R9: 5.5 | S9: 5.66 | T9: +0.16 (2.91%) | U9: HOLD | V9: KENANGA | X9: Year-end Yield % | Y9: 2.42 | Z9: 2.12 | AA9: 1.7 | AB9: 1.44 | AC9: 1.59 | AE9: 2005 | AF9: 0.053321391 | AG9: 0.11395776 | AH9: 0.03848 | AJ9: 2005 | AK9: 16431055 | AL9: 14657396 | AM9: 432570 | AN9: 9634506 | AP9: 2011 | AQ9: 14.8 | AR9: 5.4 | AS9: =SUM(AQ9:AR9) -> 20.2 | AT9: 82 | AU9: 0.94 | AV9: 5418
B10: ASSETS | I10: 41050 | J10: 3.57 | K10: 3.58 | L10: 3.54 | M10: 3.55 | N10: 3.55 | O10: 1275500 | Q10: 42790 | R10: 5.5 | S10: 5.1 | T10: -0.40 (7.27%) | U10: HOLD | V10: HLG | X10: *Dividend Amount is calculated using the ex-dividend date | AE10: 2006 | AF10: 0.055848471 | AG10: 0.12719479 | AH10: 0.04338 | AJ10: 2006 | AK10: 17546863 | AL10: 15505995 | AM10: 532914 | AN10: 9656251 | AP10: 2012 | AQ10: 14.9 | AR10: 5.6 | AS10: =SUM(AQ10:AR10) -> 20.5 | AT10: 84 | AU10: 0.95 | AV10: 5490
B11: Cash & Short Term Investments | C11: 4815 | D11: 4063 | E11: 5158 | F11: 5455 | I11: 41051 | J11: 3.58 | K11: 3.63 | L11: 3.55 | M11: 3.62 | N11: 3.62 | O11: 2525000 | Q11: 42761 | R11: 4.97 | S11: 5.66 | T11: +0.69 (13.88%) | U11: BUY | V11: KENANGA | AE11: 2007 | AF11: 0.094276651 | AG11: 0.14231388 | AH11: 0.0426 | AJ11: 2007 | AK11: 20972822 | AL11: 17724628 | AM11: 789783 | AN11: 10492692 | AP11: 2013 | AQ11: 14.3 | AR11: 5.3 | AS11: =SUM(AQ11:AR11) -> 19.6 | AT11: 89 | AU11: 0.9 | AV11: 5684
B12: Receivables - Net | C12: 384 | D12: 642 | E12: 947 | F12: 300 | I12: 41052 | J12: 3.59 | K12: 3.6 | L12: 3.52 | M12: 3.54 | N12: 3.54 | O12: 3235300 | Q12: 42747 | R12: 4.85 | S12: 4.8 | T12: -0.05 (1.03%) | U12: HOLD | V12: MACQUARIE GROUP | AE12: 2008 | AF12: 0.033195943 | AG12: 0.096542894 | AH12: 0.01829 | AJ12: 2008 | AK12: 22052488 | AL12: 19140693 | AM12: 949864 | AN12: 11003492 | AP12: 2014 | AQ12: 13.1 | AR12: 5 | AS12: =SUM(AQ12:AR12) -> 18.1 | AT12: 80 | AU12: 0.91 | AV12: 5362
B13: Raw Materials | C13: 32 | D13: 27 | E13: 33 | F13: 30 | I13: 41053 | J13: 3.54 | K13: 3.58 | L13: 3.54 | M13: 3.58 | N13: 3.58 | O13: 1747200 | Q13: 42739 | R13: 4.58 | S13: 5 | T13: +0.42 (9.17%) | U13: BUY | V13: PUBLIC BANK | AE13: 2009 | AF13: -0.025258257 | AG13: 0.093998132 | AH13: -0.01704 | AJ13: 2009 | AK13: 23646191 | AL13: 20929002 | AM13: 1019756 | AN13: 12733082 | AP13: 2015 | AQ13: 13.7 | AR13: 5.7 | AS13: =SUM(AQ13:AR13) -> 19.4 | AT13: 88 | AU13: 0.9 | AV13: 5577
B14: Finished Goods | C14: 23 | D14: 23 | E14: 23 | F14: 23 | I14: 41054 | J14: 3.59 | K14: 3.62 | L14: 3.56 | M14: 3.6 | N14: 3.6 | O14: 1072900 | Q14: 42706 | R14: 4.75 | S14: 5.6 | T14: +0.85 (17.89%) | U14: BUY | V14: Affin Hwang Capital | AE14: 2010 | AF14: 0.069809568 | AG14: 0.1063614 | AH14: 0.04327 | AJ14: 2010 | AK14: 24577196 | AL14: 21887182 | AM14: 1130261 | AN14: 13042004 | AP14: 2016 | AQ14: =10.9/0.75 -> 14.533333 | AR14: =4.4/0.75 -> 5.8666667 | AS14: =SUM(AQ14:AR14) -> 20.4 | AT14: 93 | AU14: 0.91 | AV14: =4116/0.75 -> 5488
B15: Progress Payments Other | C15: 33 | D15: 51 | E15: 64 | F15: 45 | I15: 41057 | J15: 3.62 | K15: 3.66 | L15: 3.59 | M15: 3.64 | N15: 3.64 | O15: 657800 | Q15: 42699 | R15: 4.72 | S15: 4.6 | T15: -0.12 (2.54%) | U15: HOLD | V15: PUBLIC BANK | AE15: 2011 | AF15: 0.052937911 | AG15: 0.09536443 | AH15: 0.03117 | AJ15: 2011 | AK15: 24714324 | AL15: 21979178 | AM15: 1250536 | AN15: 13372647 | AP15: 2020 | AS15: 30
B16: Inventories - Total | C16: 88 | D16: 100 | E16: 120 | F16: 98 | I16: 41058 | J16: 3.64 | K16: 3.75 | L16: 3.62 | M16: 3.75 | N16: 3.75 | O16: 1551500 | Q16: 42699 | R16: 4.72 | S16: 5.35 | T16: +0.63 (13.35%) | U16: BUY | V16: MAYBANK | AE16: 2012 | AF16: 0.054743855 | AG16: 0.078562621 | AH16: 0.02413 | AJ16: 2012 | AK16: 25032708 | AL16: 22778387 | AM16: 1583318 | AN16: 13014268
B17: Prepaid Expenses | C17: 100 | D17: 117 | E17: 242 | F17: 234 | I17: 41059 | J17: 3.76 | K17: 3.85 | L17: 3.72 | M17: 3.84 | N17: 3.84 | O17: 4808300 | AE17: 2013 | AF17: 0.046929192 | AG17: 0.077576351 | AH17: 0.02535 | AJ17: 2013 | AK17: 25715460 | AL17: 23328292 | AM17: 1791423 | AN17: 13178774
B18: Other Current Assets | C18: 30 | D18: 59 | E18: 2074 | F18: 42 | I18: 41060 | J18: 3.76 | K18: 3.78 | L18: 3.69 | M18: 3.69 | N18: 3.69 | O18: 8092700 | Q18: Current P/E at 16 May 2017 | T18: 11.31 | AE18: 2014 | AF18: 0.060121665 | AG18: 0.07297666 | AH18: 0.02727 | AJ18: 2014 | AK18: 27437315 | AL18: 24808382 | AM18: 1613355 | AN18: 13932967 | AP18: Projects in GITP | AR18: 10380
B19: CURRENT ASSETS - TOTAL | C19: 5417 | D19: 4980 | E19: 8541 | F19: 6129 | I19: 41061 | J19: 3.69 | K19: 3.72 | L19: 3.65 | M19: 3.69 | N19: 3.69 | O19: 5215600 | AE19: 2015 | AF19: 0.049687852 | AG19: 0.069183364 | AH19: 0.02171 | AJ19: 2015 | AK19: 25721251 | AL19: 23361016 | AM19: 1677163 | AN19: 12930754 | AP19: 20th Century Fox
B20: Land | C20: 595 | D20: 598 | E20: 830 | F20: 771 | I20: 41064 | J20: 3.65 | K20: 3.76 | L20: 3.54 | M20: 3.54 | N20: 3.54 | O20: 4794700 | Q20: Date | R20: Open Price | S20: Target Price | T20: Upside/Downside | U20: Price Call | V20: Source | AE20: 2016 | AF20: 0.042 | AG20: 0.067 | AH20: 0.023 | AJ20: 2016 | AK20: 26757392 | AL20: 24781902 | AM20: 2124942 | AN20: 13272961 | AP20: 1,300 room First World Hotel
B21: Buildings | C21: 4766 | D21: 5073 | E21: 6762 | F21: 7940 | I21: 41065 | J21: 3.56 | K21: 3.58 | L21: 3.52 | M21: 3.52 | N21: 3.52 | O21: 4448200 | Q21: 42900 | R21: 5.62 | S21: 5.2 | T21: -0.42 (7.47%) | U21: SELL | V21: AMMB | AE21: 2017e | AF21: 0.043 | AG21: 0.065 | AH21: 0.027 | AJ21: 2017e | AP21: Indoor Theme Park
B22: Machinery & Equipment | C22: 4228 | D22: 4432 | E22: 5291 | F22: 6084 | I22: 41066 | J22: 3.55 | K22: 3.58 | L22: 3.53 | M22: 3.53 | N22: 3.53 | O22: 5881400 | Q22: 42885 | R22: 5.94 | S22: 5.15 | T22: -0.79 (13.30%) | U22: SELL | V22: UOBKayHian | AE22: 2018e | AF22: 0.045 | AG22: 0.063 | AH22: 0.029 | AJ22: 2018e | AP22: All-Suite Premium Luxury Hotel
B23: Transportation Equipment | C23: 600 | D23: 685 | E23: 790 | F23: 471 | I23: 41067 | J23: 3.56 | K23: 3.59 | L23: 3.54 | M23: 3.57 | N23: 3.57 | O23: 3199000 | Q23: 42885 | R23: 5.94 | S23: 6 | T23: +0.06 (1.01%) | U23: HOLD | V23: KENANGA | AE23: 2019e | AF23: 0.045 | AG23: 0.063 | AH23: 0.029 | AJ23: 2019e | AP23: Sky Avenue lifestyle mall and Sky Plaza
B24: Other Property, Plant & Equipment | C24: -- | D24: 7426 | E24: 10475 | F24: 12159 | I24: 41068 | J24: 3.55 | K24: 3.57 | L24: 3.53 | M24: 3.54 | N24: 3.54 | O24: 1510400 | Q24: 42885 | R24: 5.94 | S24: 5.2 | T24: -0.74 (12.46%) | U24: SELL | V24: AMMB | AJ24: 2020e | AK24: 36000000 | AP24: High-speed cable car system
B25: Property, Plant, & Equipment under Capitalized Leases | C25: 51 | D25: 51 | E25: 25 | F25: 25 | I25: 41071 | J25: 3.56 | K25: 3.58 | L25: 3.51 | M25: 3.53 | N25: 3.53 | O25: 4618700 | Q25: 42885 | R25: 5.94 | S25: 6 | T25: +0.06 (1.01%) | U25: HOLD | V25: Affin Hwang Capital | AP25: Luxury Hotels
B26: Property, Plant and Equipment - Gross | C26: 10754 | D26: 12446 | E26: 16170 | F26: 18174 | I26: 41072 | J26: 3.47 | K26: 3.51 | L26: 3.46 | M26: 3.46 | N26: 3.46 | O26: 3508600 | Q26: 42790 | R26: 5.5 | S26: 6.1 | T26: +0.60 (10.91%) | U26: BUY | V26: TA | AP26: Infra | AR26: s
B27: Accumulated Depreciation | C27: -4481 | D27: -4835 | E27: -5510 | F27: -5830 | G27: ` | I27: 41073 | J27: 3.47 | K27: 3.48 | L27: 3.43 | M27: 3.44 | N27: 3.44 | O27: 3615800 | Q27: 42790 | R27: 5.5 | S27: 5.1 | T27: -0.40 (7.27%) | U27: HOLD | V27: PUBLIC BANK
B28: Property, Plant and Equipment - Net | C28: 6273 | D28: 7611 | E28: 10660 | F28: 12343 | I28: 41074 | J28: 3.42 | K28: 3.43 | L28: 3.4 | M28: 3.4 | N28: 3.4 | O28: 4160800 | Q28: 42790 | R28: 5.5 | S28: 5.66 | T28: +0.16 (2.91%) | U28: HOLD | V28: KENANGA
B29: Long Term Receivables | C29: 263 | D29: 252 | E29: 252 | F29: 1731 | I29: 41075 | J29: 3.44 | K29: 3.6 | L29: 3.44 | M29: 3.6 | N29: 3.6 | O29: 5952100 | Q29: 42790 | R29: 5.5 | S29: 5.1 | T29: -0.40 (7.27%) | U29: HOLD | V29: HLG
B30: Other Investments | C30: 3337 | D30: 3198 | E30: 2392 | F30: 2421 | I30: 41078 | J30: 3.6 | K30: 3.63 | L30: 3.54 | M30: 3.58 | N30: 3.58 | O30: 1060800 | Q30: 42761 | R30: 4.97 | S30: 5.66 | T30: +0.69 (13.88%) | U30: BUY | V30: KENANGA
B31: Deferred Charges | C31: 0 | D31: 73 | E31: 71 | F31: 112 | I31: 41079 | J31: 3.58 | K31: 3.61 | L31: 3.55 | M31: 3.61 | N31: 3.61 | O31: 2823100
B32: Total Intangible Other Assets - Net | C32: 4387 | D32: 4482 | E32: 5367 | F32: 5036 | I32: 41080 | J32: 3.59 | K32: 3.65 | L32: 3.57 | M32: 3.65 | N32: 3.65 | O32: 2019800 | Q32: Date | R32: 42907
B33: Other Assets - Total | C33: 4561 | D33: 4756 | E33: 5676 | F33: 5270 | I33: 41081 | J33: 3.65 | K33: 3.65 | L33: 3.58 | M33: 3.6 | N33: 3.6 | O33: 1678300 | Q33: Current P/E at 21 Jun 2017 | T33: 10.25
B34: TOTAL ASSETS | C34: 19677 | D34: 20597 | E34: 27283 | F34: 27772 | I34: 41082 | J34: 3.58 | K34: 3.64 | L34: 3.55 | M34: 3.55 | N34: 3.55 | O34: 2928900
B35: LIABILITIES | I35: 41085 | J35: 3.57 | K35: 3.59 | L35: 3.54 | M35: 3.54 | N35: 3.54 | O35: 826500
B36: Accounts Payable | C36: 415 | D36: 431 | E36: 503 | F36: 442 | I36: 41086 | J36: 3.54 | K36: 3.56 | L36: 3.5 | M36: 3.52 | N36: 3.52 | O36: 5736800
B37: Short Term Debt & Current Portion of Long Term Debt | C37: 197 | D37: 207 | E37: 784 | F37: 1103 | I37: 41087 | J37: 3.5 | K37: 3.56 | L37: 3.5 | M37: 3.56 | N37: 3.56 | O37: 1881500
B38: Accrued Payroll | C38: 14 | D38: 16 | E38: 19 | F38: 32 | I38: 41088 | J38: 3.54 | K38: 3.55 | L38: 3.51 | M38: 3.52 | N38: 3.52 | O38: 1682100
B39: Income Taxes Payable | C39: 72 | D39: 52 | E39: 52 | F39: 4 | I39: 41089 | J39: 3.52 | K39: 3.6 | L39: 3.52 | M39: 3.6 | N39: 3.6 | O39: 4890700
B40: Other Current Liabilities | C40: 1342 | D40: 1547 | E40: 2309 | F40: 2450 | I40: 41092 | J40: 3.61 | K40: 3.62 | L40: 3.58 | M40: 3.6 | N40: 3.6 | O40: 1835400
B41: CURRENT LIABILITIES - TOTAL | C41: 2040 | D41: 2253 | E41: 3667 | F41: 4032 | I41: 41093 | J41: 3.61 | K41: 3.64 | L41: 3.6 | M41: 3.63 | N41: 3.63 | O41: 4496900
B42: Long Term Debt | C42: 1483 | D42: 1411 | E42: 3841 | F42: 3223 | I42: 41094 | J42: 3.62 | K42: 3.64 | L42: 3.61 | M42: 3.63 | N42: 3.63 | O42: 3652900
B43: Provision for Risks and Charges | C43: 171 | D43: 186 | E43: 190 | F43: 211 | I43: 41095 | J43: 3.6 | K43: 3.62 | L43: 3.56 | M43: 3.58 | N43: 3.58 | O43: 2880600
...

Sheet Analysis
B2: Share Price Performance
K4: Share Price | L4: Volume
J5: Average | K5: =AVERAGE('Hard Input'!$N$7:$N$1242) -> 4.2116019 | L5: =AVERAGE('Hard Input'!$O$7:$O$1242) -> 4448439
J6: Median | K6: =MEDIAN('Hard Input'!$N$7:$N$1242) -> 4.23 | L6: =MEDIAN('Hard Input'!$O$7:$O$1242) -> 3707200
J7: Min | K7: =MIN('Hard Input'!$N$7:$N$1242) -> 3.28 | L7: =MIN('Hard Input'!$O$7:$O$1242) -> 0
J8: Max | K8: =MAX('Hard Input'!$N$7:$N$1242) -> 6.02 | L8: =MAX('Hard Input'!$O$7:$O$1242) -> 30035100
J9: S. Dev | K9: =_xlfn.STDEV.P('Hard Input'!$N$7:$N$1242) -> 0.46842177 | L9: =_xlfn.STDEV.P('Hard Input'!$O$7:$O$1242) -> 3152436.9
J10: Range | K10: =CONCATENATE(ROUND(K7,2), " - ",ROUND(K8, 2)) -> 3.28 - 6.02 | L10: =CONCATENATE(ROUND(L7,2), " - ",ROUND(L8, 2)) -> 0 - 30035100
J12: Total Shareholder Return (without dividend)
J13: From
J14: 2012-2013 | K14: ='Hard Input'!N162/'Hard Input'!N7 - 1 -> 0.011396011
J15: 2013-2014 | K15: ='Hard Input'!N408/'Hard Input'!N163 - 1 -> 0.22969188
J16: 2014-2015 | K16: ='Hard Input'!N655/'Hard Input'!N409 - 1 -> -0.073394495
J17: 2015-2016 | K17: ='Hard Input'!N901/'Hard Input'!N656 - 1 -> 0.081481481
J18: 2016-2017 | K18: ='Hard Input'!N1151/'Hard Input'!N902 - 1 -> 0.09569378
J19: 2017-Present | K19: ='Hard Input'!N1242/'Hard Input'!N1152 - 1 -> 0.26637555
J21: 2013-Present | K21: ='Hard Input'!N1242/'Hard Input'!N163 - 1 -> 0.62464986
J23: CAGR
J24: From
J25: 2013 | K25: 2017 | L25: =('Hard Input'!N1151/'Hard Input'!N163)^(1/(K25-J25)) - 1 -> 0.064263862
B28: Dividend History
C30: Share Price | D30: Dividend | E30: Div Yield | G30: Average | H30: =AVERAGE(E31:E35) -> 0.028730513
B31: ='Hard Input'!I7 -> 41045 | C31: ='Hard Input'!N7 -> 3.51 | D31: ='Hard Input'!Y8 -> 0.09 | E31: =D31/C31 -> 0.025641026 | G31: Median | H31: =MEDIAN(E31:E35) -> 0.025210084
B32: ='Hard Input'!I163 -> 41276 | C32: ='Hard Input'!N163 -> 3.57 | D32: ='Hard Input'!Z8 -> 0.09 | E32: =D32/C32 -> 0.025210084 | G32: Min | H32: =MIN(E31:E35) -> 0.016055046
B33: ='Hard Input'!I409 -> 41641 | C33: ='Hard Input'!N409 -> 4.36 | D33: ='Hard Input'!AA8 -> 0.07 | E33: =D33/C33 -> 0.016055046 | G33: Max | H33: =MAX(E31:E35) -> 0.06
B34: ='Hard Input'!I656 -> 42006 | C34: 1 | D34: ='Hard Input'!AB8 -> 0.06 | E34: =D34/C34 -> 0.06 | G34: Std Dev | H34: =_xlfn.STDEV.P(E31:E35) -> 0.016149336
B35: ='Hard Input'!I902 -> 42373 | C35: ='Hard Input'!N902 -> 4.18 | D35: ='Hard Input'!AC8 -> 0.07 | E35: =D35/C35 -> 0.016746411
B38: Year | C38: 2012 | D38: 2013 | E38: 2014 | F38: 2015 | G38: 2016
B39: Dividend Yield | C39: =E31 -> 0.025641026 | D39: =E32 -> 0.025210084 | E39: =E33 -> 0.016055046 | F39: =E34 -> 0.06 | G39: =E35 -> 0.016746411
B46: Financials
B48: P&L Analysis | H48: Without Other Income Portion
C49: 2013 | D49: =C49+1 -> 2014 | E49: =D49+1 -> 2015 | F49: =E49+1 -> 2016 | H49: 2013 | I49: =H49+1 -> 2014 | J49: =I49+1 -> 2015 | K49: =J49+1 -> 2016
B50: Revenue + Other Income | C50: =SUM(C51:C52) -> 8561 | D50: =SUM(D51:D52) -> 8458 | E50: =SUM(E51:E52) -> 9038 | F50: =SUM(F51:F52) -> 10696 | H50: =C51 -> 8327 | I50: =D51 -> 8229 | J50: =E51 -> 8396 | K50: =F51 -> 8932
B51: Revenue | C51: ='Hard Input'!C69 -> 8327 | D51: ='Hard Input'!D69 -> 8229 | E51: ='Hard Input'!E69 -> 8396 | F51: ='Hard Input'!F69 -> 8932
B52: Other Income | C52: ='Hard Input'!C81 -> 234 | D52: ='Hard Input'!D81 -> 229 | E52: ='Hard Input'!E81 -> 642 | F52: ='Hard Input'!F81 -> 1764
B53: Cost of Goods Sold | C53: =-'Hard Input'!C70 -> -5013 | D53: =-'Hard Input'!D70 -> -5234 | E53: =-'Hard Input'!E70 -> -5690 | F53: =-'Hard Input'!F70 -> -5668 | H53: =C53 -> -5013 | I53: =D53 -> -5234 | J53: =E53 -> -5690 | K53: =F53 -> -5668
B54: Gross Profit | C54: =C50+C53 -> 3548 | D54: =D50+D53 -> 3224 | E54: =E50+E53 -> 3348 | F54: =F50+F53 -> 5028 | H54: =H50+H53 -> 3314 | I54: =I50+I53 -> 2995 | J54: =J50+J53 -> 2706 | K54: =K50+K53 -> 3264
B55: SGA Expense | C55: =-'Hard Input'!C75 -> -845 | D55: =-'Hard Input'!D75 -> -758 | E55: =-'Hard Input'!E75 -> -747 | F55: =-'Hard Input'!F75 -> -981 | H55: =C55 -> -845 | I55: =D55 -> -758 | J55: =E55 -> -747 | K55: =F55 -> -981
B56: Other Op Expense | C56: =-'Hard Input'!C76 -> -280 | D56: =-'Hard Input'!D76 -> -291 | E56: =-'Hard Input'!E76 -> -381 | F56: =-'Hard Input'!F76 -> -171 | H56: =C56 -> -280 | I56: =D56 -> -291 | J56: =E56 -> -381 | K56: =F56 -> -171
B57: EBITDA | C57: =SUM(C54:C56) -> 2423 | D57: =SUM(D54:D56) -> 2175 | E57: =SUM(E54:E56) -> 2220 | F57: =SUM(F54:F56) -> 3876 | H57: =SUM(H54:H56) -> 2189 | I57: =SUM(I54:I56) -> 1946 | J57: =SUM(J54:J56) -> 1578 | K57: =SUM(K54:K56) -> 2112
...

Sheet Valuation
B2: Current Market Valuation | F2: Date | G2: 42876
B4: Price | C4: 5.8 | E4: No of Shares (mil) | G4: 5688
B5: P/E | C5: 11.39
B6: Div Yield | C6: 0.0159
B7: EPS | C7: 0.51
B8: Market Cap (RM m) | C8: 32877
B10: Financial Model
B12: Cost of Equity | C12: 0.1 | E12: Revenue Growth | G12: 0.03 | I12: Cash + ST | J12: =Analysis!F142 -> 5454
B13: Cost of Debt | C13: =Analysis!F198 -> 0.042533518 | E13: EBITDA Margin | G13: =Analysis!K83 -> 0.2364532 | I13: Debt | J13: =Analysis!F191 -> 4326
B14: Tax Rate | C14: 0.24 | E14: Net Income Margin | G14: =Analysis!K87 -> 0.11609942
B15: D/(D+E) | C15: =Analysis!F238 -> 0.17882684 | E15: EBIT Margin | G15: =Analysis!K85 -> 0.15640394
B16: WACC | C16: =C12*(1-C15) + C13*(1-C14)*C15 -> 0.087897979 | E16: Terminal Growth | G16: 0.03
B19: Net Working Capital
C21: 2013 | D21: =C21+1 -> 2014 | E21: =D21+1 -> 2015 | F21: =E21+1 -> 2016 | G21: Average | H21: Median | J21: 2017 | K21: =J21+1 -> 2018 | L21: =K21+1 -> 2019 | M21: =L21+1 -> 2020
B22: Net Receivables | C22: ='Hard Input'!C12 -> 384 | D22: ='Hard Input'!D12 -> 642 | E22: ='Hard Input'!E12 -> 947 | F22: ='Hard Input'!F12 -> 300
B23: Inventories | C23: ='Hard Input'!C16 -> 88 | D23: ='Hard Input'!D16 -> 100 | E23: ='Hard Input'!E16 -> 120 | F23: ='Hard Input'!F16 -> 98
B24: Payable | C24: ='Hard Input'!C36 -> 415 | D24: ='Hard Input'!D36 -> 431 | E24: ='Hard Input'!E36 -> 503 | F24: ='Hard Input'!F36 -> 442
B26: Net Working Capital | C26: =C24-C22-C23 -> -57 | D26: =D24-D22-D23 -> -311 | E26: =E24-E22-E23 -> -564 | F26: =F24-F22-F23 -> 44 | G26: =AVERAGE(C26:F26) -> -222 | H26: =MEDIAN(C26:F26) -> -184
B28: Depreciation and Amortisation
B29: PPE | C29: =Analysis!C170 -> 6273 | D29: =Analysis!D170 -> 7611 | E29: =Analysis!E170 -> 10660 | F29: =Analysis!F170 -> 12343 | G29: =AVERAGE(C29:F29) -> 9221.75 | H29: =MEDIAN(C29:F29) -> 9135.5 | J29: =F29+J39-J33 -> 12200.68 | K29: =J29+K39-K33 -> 11871.367 | L29: =K29+L39-L33 -> 11562.143 | M29: =L29+M39-M33 -> 11271.784
B30: Intangibles | C30: ='Hard Input'!C32 -> 4387 | D30: ='Hard Input'!D32 -> 4482 | E30: ='Hard Input'!E32 -> 5367 | F30: ='Hard Input'!F32 -> 5036 | G30: =AVERAGE(C30:F30) -> 4818 | H30: =MEDIAN(C30:F30) -> 4759 | J30: =H30-J34 -> 4668.0584 | K30: =J30-K34 -> 4578.8547 | L30: =K30-L34 -> 4491.3556 | M30: =L30-M34 -> 4405.5285
B31: Total PPE + Intangibles | C31: =SUM(C29:C30) -> 10660 | D31: =SUM(D29:D30) -> 12093 | E31: =SUM(E29:E30) -> 16027 | F31: =SUM(F29:F30) -> 17379 | G31: =AVERAGE(C31:F31) -> 14039.75 | H31: =MEDIAN(C31:F31) -> 14060
B33: Depreciation | C33: =-Analysis!C61 -> 440 | D33: =-Analysis!D61 -> 511 | E33: =-Analysis!E61 -> 567 | F33: =-Analysis!F61 -> 661 | G33: =AVERAGE(C33:F33) -> 544.75 | H33: =MEDIAN(C33:F33) -> 539 | J33: =J36*H29 -> 557.31953 | K33: =J29*K36 -> 744.31367 | L33: =K29*L36 -> 724.22359 | M33: =L29*M36 -> 705.35912
B34: Amortisation | C34: =-Analysis!C62 -> 75 | D34: =-Analysis!D62 -> 79 | E34: =-Analysis!E62 -> 96 | F34: =-Analysis!F62 -> 120 | G34: =AVERAGE(C34:F34) -> 92.5 | H34: =MEDIAN(C34:F34) -> 87.5 | J34: =J37*H30 -> 90.941573 | K34: =J30*K37 -> 89.203735 | L34: =K30*L37 -> 87.499107 | M34: =L30*M37 -> 85.827052
B36: % of Depreciation to PPE | C36: =C33/C29 -> 0.070141878 | D36: =D33/D29 -> 0.067139666 | E36: =E33/E29 -> 0.053189493 | F36: =F33/F29 -> 0.053552621 | G36: =AVERAGE(C36:F36) -> 0.061005915 | H36: =MEDIAN(C36:F36) -> 0.060346144 | J36: =G36 -> 0.061005915 | K36: =J36 -> 0.061005915 | L36: =K36 -> 0.061005915 | M36: =L36 -> 0.061005915
B37: % of Amortization to Intangible | C37: =C34/C30 -> 0.017095965 | D37: =D34/D30 -> 0.01762606 | E37: =E34/E30 -> 0.017887088 | F37: =F34/F30 -> 0.023828435 | G37: =AVERAGE(C37:F37) -> 0.019109387 | H37: =MEDIAN(C37:F37) -> 0.017756574 | J37: =G37 -> 0.019109387 | K37: =J37 -> 0.019109387 | L37: =K37 -> 0.019109387 | M37: =L37 -> 0.019109387
B39: CAPEX | C39: =Analysis!C169 -> 1416 | D39: =Analysis!D169 -> 1827 | E39: =Analysis!E169 -> 2531 | F39: =Analysis!F169 -> 3117 | J39: =C44 -> 415 | K39: =J39 -> 415 | L39: =K39 -> 415 | M39: =L39 -> 415
B41: GITP Commitment | C41: 10380
B42: Capex from 2014-2016 | C42: =SUM(D39:F39) -> 7475 | D42: According to its latest CIMB presentation, they have commited RM7.3bn
B43: Remaining CAPEX | C43: =C41-C42 -> 2905
B44: CAPEX per year (7 years) | C44: =C43/7 -> 415
C47: Actual | G47: Projection
B48: Year | C48: 2013 | D48: =C48+1 -> 2014 | E48: =D48+1 -> 2015 | F48: =E48+1 -> 2016 | G48: 2017 | H48: 2018 | I48: 2019 | J48: 2020
B49: Revenue | C49: =Analysis!H50 -> 8327 | D49: =Analysis!I50 -> 8229 | E49: =Analysis!J50 -> 8396 | F49: =Analysis!K50 -> 8932 | G49: =F49*(1+$G$12) -> 9199.96 | H49: =G49*(1+$G$12) -> 9475.9588 | I49: =H49*(1+$G$12) -> 9760.2376 | J49: =I49*(1+$G$12) -> 10053.045
B50: EBIT | C50: =Analysis!H63 -> 1596 | D50: =Analysis!I63 -> 1329 | E50: =Analysis!J63 -> 926 | F50: =Analysis!K63 -> 1397 | G50: =G49*G51 -> 1438.91 | H50: =H49*H51 -> 1482.0773 | I50: =I49*I51 -> 1526.5396 | J50: =J49*J51 -> 1572.3358
B51: EBIT Margin | C51: =C50/C49 -> 0.19166567 | D51: =D50/D49 -> 0.16150201 | E51: =E50/E49 -> 0.11029061 | F51: =F50/F49 -> 0.15640394 | G51: =G15 -> 0.15640394 | H51: =G51 -> 0.15640394 | I51: =H51 -> 0.15640394 | J51: =I51 -> 0.15640394
B52: ( - ) Tax Expense | G52: =-G50*$C$14 -> -345.3384 | H52: =-H50*$C$14 -> -355.69855 | I52: =-I50*$C$14 -> -366.36951 | J52: =-J50*$C$14 -> -377.36059
B53: Unlevered Net Income | G53: =G50+G52 -> 1093.5716 | H53: =H50+H52 -> 1126.3787 | I53: =I50+I52 -> 1160.1701 | J53: =J50+J52 -> 1194.9752
B54: ( + ) Depreciation | G54: =J33 -> 557.31953 | H54: =K33 -> 744.31367 | I54: =L33 -> 724.22359 | J54: =M33 -> 705.35912
B55: Dep % to PPE | G55: =G36 -> 0.061005915 | H55: =G55 -> 0.061005915 | I55: =H55 -> 0.061005915 | J55: =I55 -> 0.061005915
...

Sheet June 17 Update
B2: Share Price Update
K3: Genting Malaysia Berhad
K4: Share Price | L4: Volume
J5: Average | K5: =AVERAGE('Hard Input'!$M$1244:$M$1264) -> 5.7909524 | L5: =AVERAGE('Hard Input'!$O$1244:$O$1264) -> 9077695.2
J6: Median | K6: =MEDIAN('Hard Input'!$M$1244:$M$1264) -> 5.73 | L6: =MEDIAN('Hard Input'!$O$1244:$O$1264) -> 7757600
J7: Min | K7: =MIN('Hard Input'!$M$1244:$M$1264) -> 5.59 | L7: =MIN('Hard Input'!$O$1244:$O$1264) -> 0
J8: Max | K8: =MAX('Hard Input'!$M$1244:$M$1264) -> 6.2 | L8: =MAX('Hard Input'!$O$1244:$O$1264) -> 36415100
J9: Range | K9: =CONCATENATE(K7, " - ", K8) -> 5.59 - 6.2 | L9: =CONCATENATE(L7, " - ", L8) -> 0 - 36415100
J11: Decline in Share Price | L11: ='Hard Input'!M1264/'Hard Input'!M1244 - 1 -> -0.066777963
B21: Date | C21: Open Price | D21: Target Price | E21: Upside/Downside | F21: Price Call | G21: Source
B22: 42900 | C22: 5.62 | D22: 5.2 | E22: -0.42 (7.47%) | F22: SELL | G22: AMMB
B23: 42885 | C23: 5.94 | D23: 5.15 | E23: -0.79 (13.30%) | F23: SELL | G23: UOBKayHian
B24: 42885 | C24: 5.94 | D24: 6 | E24: +0.06 (1.01%) | F24: HOLD | G24: KENANGA | H24: Up
B25: 42885 | C25: 5.94 | D25: 5.2 | E25: -0.74 (12.46%) | F25: SELL | G25: AMMB
B26: 42885 | C26: 5.94 | D26: 6 | E26: +0.06 (1.01%) | F26: HOLD | G26: Affin Hwang Capital | H26: Up
B27: 42790 | C27: 5.5 | D27: 6.1 | E27: +0.60 (10.91%) | F27: BUY | G27: TA
B28: 42790 | C28: 5.5 | D28: 5.1 | E28: -0.40 (7.27%) | F28: HOLD | G28: PUBLIC BANK
B29: 42790 | C29: 5.5 | D29: 5.66 | E29: +0.16 (2.91%) | F29: HOLD | G29: KENANGA
B30: 42790 | C30: 5.5 | D30: 5.1 | E30: -0.40 (7.27%) | F30: HOLD | G30: HLG
B31: 42761 | C31: 4.97 | D31: 5.66 | E31: +0.69 (13.88%) | F31: BUY | G31: KENANGA
B33: Current P/E at 21 Jun 2017 | E33: 10.25

Sheet 8 Aug Update

Sheet Quarterly Numbers
A2: Income Statement | I2: =B3 -> 42460 | J2: =C3 -> 42551 | K2: =D3 -> 42643 | L2: =E3 -> 42735 | M2: =F3 -> 42825
A3: Fiscal year is January-December. All values MYR Millions. | B3: 42460 | C3: 42551 | D3: 42643 | E3: 42735 | F3: 42825 | H3: Revenue | I3: =B4 -> 2214 | J3: =C4 -> 2235 | K3: =D4 -> 2200 | L3: =E4 -> 2283 | M3: =F4 -> 2224
A4: Sales/Revenue | B4: 2214 | C4: 2235 | D4: 2200 | E4: 2283 | F4: 2224 | H4: Non Op Income | I4: =B22 -> 82 | J4: =C22 -> 42 | K4: =D22 -> 100 | L4: =E22 -> 1361 | M4: =F22 -> 60
A5: Sales Growth | B5: - | C5: 0.0091 | D5: -0.0156 | E5: 0.0378 | F5: -0.0259 | H5: Profit Before Tax | I5: =B27 -> 262 | J5: =C27 -> 512 | K5: =D27 -> 520 | L5: =E27 -> 1797 | M5: =F27 -> 344
H6: Net Income | I6: =B36 -> 162 | J6: =C36 -> 476 | K6: =D36 -> 556 | L6: =E36 -> 1686 | M6: =F36 -> 324
A7: Cost of Goods Sold (COGS) incl. D&A | B7: 1615 | C7: 1554 | D7: 1590 | E7: 1690 | F7: 1684
A8: COGS excluding D&A | B8: 1427 | C8: 1376 | D8: 1394 | E8: 1451 | F8: 1436 | H8: Without Non-Op Income
A9: Depreciation & Amortization Expense | B9: 188 | C9: 178 | D9: 196 | E9: 239 | F9: 248 | H9: - Profit Before Tax | I9: =I5-I4 -> 180 | J9: =J5-J4 -> 470 | K9: =K5-K4 -> 420 | L9: =L5-L4 -> 436 | M9: =M5-M4 -> 284
A10: COGS Growth | B10: - | C10: -0.0379 | D10: 0.0235 | E10: 0.0625 | F10: -0.0033 | H10: - Net Income | I10: =I6-I4 -> 80 | J10: =J6-J4 -> 434 | K10: =K6-K4 -> 456 | L10: =L6-L4 -> 325 | M10: =M6-M4 -> 264
A12: Gross Income | B12: 599 | C12: 681 | D12: 609 | E12: 593 | F12: 540
A13: Gross Income Growth | B13: - | C13: 0.1359 | D13: -0.1048 | E13: -0.0265 | F13: -0.0902 | L13: 1Q Differential with
I14: 1Q 2017 | J14: 1Q 2016 | K14: 4Q 2016 | L14: 1Q 2016 | M14: 4Q 2016
A15: Gross Profit Margin | B15: - | C15: - | D15: - | E15: - | F15: 0.278 | H15: Margin to Revenue (%)
A16: SG&A Expense | B16: 411 | C16: 248 | D16: 277 | E16: 192 | F16: 306 | H16: - EBITDA | I16: =F50/F4 -> 0.21672662 | J16: =B50/B4 -> 0.17028004 | K16: =E50/E4 -> 0.2803329 | L16: =I16-J16 -> 0.046446583 | M16: =I16-K16 -> -0.063606277
A17: Other SG&A | B17: 411 | C17: 248 | D17: 277 | E17: 192 | F17: 306 | H17: - Profit Before Tax (With Non-Op Income) | I17: =M5/M3 -> 0.15467626 | J17: =I5/I3 -> 0.11833785 | K17: =L5/L3 -> 0.78712221 | L17: =I17-J17 -> 0.036338409 | M17: =I17-K17 -> -0.63244595
A18: SGA Growth | B18: - | C18: -0.3955 | D18: 0.1168 | E18: -0.3095 | F18: 0.5973 | H18: - Net Income (With Non-Op Income) | I18: =M6/M3 -> 0.14568345 | J18: =I6/I3 -> 0.073170732 | K18: =L6/L3 -> 0.73850197 | L18: =I18-J18 -> 0.072512722 | M18: =I18-K18 -> -0.59281852
H19: Without Non-Op Income
A20: Unusual Expense | B20: 2 | C20: 2 | D20: -43 | E20: 21 | F20: 1 | H20: - Profit Before Tax (w/o Non-Op Income) | I20: =M9/M3 -> 0.12769784 | J20: =I9/I3 -> 0.081300813 | K20: =L9/L3 -> 0.19097678 | L20: =I20-J20 -> 0.046397029 | M20: =I20-K20 -> -0.063278943
H21: - Net Income (w/o Non-Op Income) | I21: =M10/M3 -> 0.11870504 | J21: =I10/I3 -> 0.036133695 | K21: =L10/L3 -> 0.14235655 | L21: =I21-J21 -> 0.082571341 | M21: =I21-K21 -> -0.023651512
A22: Non Operating Income/Expense | B22: 82 | C22: 42 | D22: 100 | E22: 1361 | F22: 60 | H22: Growth (%)
A23: Interest Expense | B23: 25 | C23: 28 | D23: 21 | E23: 17 | F23: 19 | H23: - Revenue | J23: =M3/I3 - 1 -> 0.0045167118 | K23: =M3/L3 - 1 -> -0.025843189
A24: Interest Expense Growth | B24: - | C24: 0.0851 | D24: -0.2414 | E24: -0.1711 | F24: 0.0983 | H24: - EBITDA | J24: =F50/B50 - 1 -> 0.27851459 | K24: =F50/E50 - 1 -> -0.246875
H25: - Net Income | J25: =M10/I10 - 1 -> 2.3 | K25: =M10/L10 - 1 -> -0.18769231
A26: Gross Interest Expense | B26: 42 | C26: 49 | D26: 47 | E26: 46 | F26: 47 | H26: Debt Coverage
A27: Pretax Income | B27: 262 | C27: 512 | D27: 520 | E27: 1797 | F27: 344 | H27: Operational Cash Flow | I27: =B146/1000 -> 265.625 | J27: =F146/1000 -> 260.885 | K27: =C146/1000 -> 1003.808 | L27: =I27-J27 -> 4.74 | M27: =I27-K27 -> -738.183
A28: Pretax Income Growth | B28: - | C28: 0.9535 | D28: 0.0148 | E28: 2.4576 | F28: -0.8084 | H28: Interest Expense | I28: =F23 -> 19 | J28: =B23 -> 25 | K28: =E23 -> 17 | L28: =I28-J28 -> -6 | M28: =I28-K28 -> 2
H29: ST Debt + ST Portion of LT | I29: =B90 -> 1319 | J29: =F90 -> 1029 | K29: =C90 -> 1103 | L29: =I29-J29 -> 290 | M29: =I29-K29 -> 216
A30: Pretax Margin | B30: - | C30: - | D30: - | E30: - | F30: 0.346 | H30: ST Debt + ST Portion of LT (Divide by 4) | I30: =I29/4 -> 329.75 | J30: =J29/4 -> 257.25 | K30: =K29/4 -> 275.75
A31: Income Tax | B31: 118 | C31: 47 | D31: -13 | E31: 138 | F31: 49
H32: (Interest + ST) / Op Cash Flow | I32: =(I28+I30)/I27 -> 1.3129412 | J32: =(J28+J30)/J27 -> 1.0818943 | K32: =(K28+K30)/K27 -> 0.29163944 | L32: =I32-J32 -> 0.23104686 | M32: =I32-K32 -> 1.0213017
A33: Consolidated Net Income | B33: 144 | C33: 465 | D33: 532 | E33: 1659 | F33: 295 | H33: EBIT | I33: =F50-F9 -> 234 | J33: =B50-B9 -> 189 | K33: =E50-E9 -> 401 | L33: =I33-J33 -> 45 | M33: =I33-K33 -> -167
A34: Minority Interest Expense | B34: -17 | C34: -11 | D34: -24 | E34: -27 | F34: -29 | H34: Interest Expense | I34: =F23 -> 19 | J34: =B23 -> 25 | K34: =E23 -> 17 | L34: =I34-J34 -> -6 | M34: =I34-K34 -> 2
A36: Net Income | B36: 162 | C36: 476 | D36: 556 | E36: 1686 | F36: 324 | H36: Interest Expense/ EBIT | I36: =I34/I33 -> 0.081196581 | J36: =J34/J33 -> 0.13227513 | K36: =K34/K33 -> 0.042394015 | L36: =I36-J36 -> -0.051078551 | M36: =I36-K36 -> 0.038802566
A37: Net Income Growth | B37: - | C37: 1.9489 | D37: 0.1664 | E37: 2.0344 | F37: -0.8082
A39: Net Margin | B39: - | C39: - | D39: - | E39: - | F39: 0.3225
A40: Net Income After Extraordinaries | B40: 162 | C40: 476 | D40: 556 | E40: 1686 | F40: 324
A41: Net Income Available to Common | B41: 162 | C41: 476 | D41: 556 | E41: 1686 | F41: 324
A42: EPS (Basic) | B42: 0.03 | C42: 0.08 | D42: 0.1 | E42: 0.3 | F42: 0.06
A43: EPS (Basic) Growth | B43: - | C43: 1.9441 | D43: 0.1663 | E43: 2.0356 | F43: -0.8081
A45: Basic Shares Outstanding | B45: 5656 | C45: 5658 | D45: 5658 | E45: 5657 | F45: 5658
...

Sheet Share Price
A1: Date | B1: Open | C1: High | D1: Low | E1: Close | F1: Volume
A2: 06/21/17 | B2: 5.59 | C2: 5.6 | D2: 5.49 | E2: 5.5 | F2: 7682300
A3: 06/22/17 | B3: 5.51 | C3: 5.6 | D3: 5.5 | E3: 5.56 | F3: 7918600
A4: 06/23/17 | B4: 5.57 | C4: 5.87 | D4: 5.56 | E4: 5.83 | F4: 10414800
A5: 06/28/17 | B5: 5.82 | C5: 5.83 | D5: 5.59 | E5: 5.59 | F5: 8182200
A6: 06/29/17 | B6: 5.63 | C6: 5.67 | D6: 5.58 | E6: 5.58 | F6: 4149400
A7: 06/30/17 | B7: 5.55 | C7: 5.59 | D7: 5.46 | E7: 5.5 | F7: 12936200
A8: 42801 | B8: 5.5 | C8: 5.63 | D8: 5.5 | E8: 5.63 | F8: 3943900
A9: 42832 | B9: 5.6 | C9: 5.63 | D9: 5.57 | E9: 5.62 | F9: 1969700
A10: 42862 | B10: 5.62 | C10: 5.67 | D10: 5.62 | E10: 5.66 | F10: 4492700
A11: 42893 | B11: 5.66 | C11: 5.76 | D11: 5.65 | E11: 5.76 | F11: 6210400
A12: 42923 | B12: 5.76 | C12: 5.76 | D12: 5.65 | E12: 5.66 | F12: 2391000
A13: 43015 | B13: 5.65 | C13: 5.67 | D13: 5.58 | E13: 5.61 | F13: 4236000
A14: 43046 | B14: 5.61 | C14: 5.67 | D14: 5.59 | E14: 5.65 | F14: 5211600
A15: 43076 | B15: 5.65 | C15: 5.69 | D15: 5.65 | E15: 5.67 | F15: 2016700
A16: 07/13/17 | B16: 5.7 | C16: 5.73 | D16: 5.69 | E16: 5.7 | F16: 3779600
A17: 07/14/17 | B17: 5.72 | C17: 5.75 | D17: 5.7 | E17: 5.74 | F17: 2087800
A18: 07/17/17 | B18: 5.74 | C18: 5.78 | D18: 5.73 | E18: 5.76 | F18: 1787200
A19: 07/18/17 | B19: 5.76 | C19: 5.77 | D19: 5.72 | E19: 5.75 | F19: 3019800 | H19: MYR | I19: Share Price
A20: 07/19/17 | B20: 5.75 | C20: 5.82 | D20: 5.75 | E20: 5.82 | F20: 5174700 | H20: Average | I20: =AVERAGE(E2:E36) -> 5.8277143
A21: 07/20/17 | B21: 5.82 | C21: 5.9 | D21: 5.8 | E21: 5.88 | F21: 6523700 | H21: Median | I21: =MEDIAN(E2:E36) -> 5.82
A22: 07/21/17 | B22: 5.88 | C22: 5.98 | D22: 5.82 | E22: 5.98 | F22: 4960700 | H22: Min | I22: =MIN(E2:E36) -> 5.5
A23: 07/24/17 | B23: 5.98 | C23: 6.05 | D23: 5.95 | E23: 6.05 | F23: 4216500 | H23: Max | I23: =MAX(E2:E36) -> 6.13
A24: 07/25/17 | B24: 6.06 | C24: 6.19 | D24: 6.05 | E24: 6.13 | F24: 6115500 | H24: Return
A25: 07/26/17 | B25: 6.13 | C25: 6.17 | D25: 6.03 | E25: 6.1 | F25: 5744500 | H25: - 1 Month | I25: =E36/E13 - 1 -> 0.046345811
A26: 07/27/17 | B26: 6.09 | C26: 6.13 | D26: 5.96 | E26: 6.11 | F26: 3463800 | H26: - YTD | I26: ='Share Price'!E36/'Hard Input'!N1152 - 1 -> 0.28165939
A27: 07/28/17 | B27: 6.11 | C27: 6.11 | D27: 5.96 | E27: 5.99 | F27: 4282800 | H27: - Coverage Start | I27: ='Share Price'!E36/'Hard Input'!N1244 - 1 -> -0.0099874891
A28: 07/31/17 | B28: 5.97 | C28: 6.06 | D28: 5.96 | E28: 6 | F28: 4365800
A29: 42743 | B29: 6.1 | C29: 6.13 | D29: 6.05 | E29: 6.1 | F29: 8538700
A30: 42774 | B30: 6.1 | C30: 6.13 | D30: 6.02 | E30: 6.06 | F30: 4882700
A31: 42802 | B31: 6.08 | C31: 6.12 | D31: 6.06 | E31: 6.1 | F31: 5326400
A32: 42833 | B32: 6.1 | C32: 6.11 | D32: 6.05 | E32: 6.05 | F32: 2365000
A33: 42924 | B33: 6.08 | C33: 6.08 | D33: 6.03 | E33: 6.05 | F33: 3020500
A34: 42955 | B34: 6.07 | C34: 6.09 | D34: 5.99 | E34: 5.99 | F34: 3966600
A35: 42986 | B35: 5.99 | C35: 6.02 | D35: 5.91 | E35: 5.92 | F35: 4468900
A36: 43016 | B36: 5.92 | C36: 5.99 | D36: 5.85 | E36: 5.87 | F36: 2717700
A38: Date | B38: Open Price | C38: Target Price | D38: Upside/Downside | E38: Price Call | F38: Source | G38: News
A39: 42933 | B39: 5.74 | C39: 5.5 | D39: -0.24 (4.18%) | E39: HOLD | F39: PUBLIC BANK
A40: 42926 | B40: 5.65 | C40: 5.5 | D40: -0.15 (2.65%) | E40: HOLD | F40: PUBLIC BANK
A41: 42908 | B41: 5.52 | C41: 5.15 | D41: -0.37 (6.70%) | E41: HOLD | F41: UOBKayHian
...
