Workbook

Sheet Hard Input (2017)
A1: Source: WSJ
A3: Income Statement
A4: Fiscal year is January-December. All values MYR Millions. | B4: 2013 | C4: 2014 | D4: 2015 | E4: 2016 | F4: 2017
A5: Sales/Revenue | B5: 8328 | C5: 8229 | D5: 8396 | E5: 8932 | F5: 9329
A6: Sales Growth | B6: - | C6: -0.0118 | D6: 0.0202 | E6: 0.0638 | F6: 0.0445
A8: Cost of Goods Sold (COGS) incl. D&A | B8: 5527 | C8: 5823 | D8: 6354 | E8: 6449 | F8: 7136
A9: COGS excluding D&A | B9: 4975 | C9: 5216 | D9: 5669 | E9: 5648 | F9: 6196
A10: Depreciation & Amortization Expense | B10: 552 | C10: 608 | D10: 684 | E10: 801 | F10: 940
A11: Depreciation | B11: 478 | C11: 529 | D11: 588 | E11: 681 | F11: -
A12: Amortization of Intangibles | B12: 75 | C12: 79 | D12: 96 | E12: 120 | F12: -
A13: COGS Growth | B13: - | C13: 0.0536 | D13: 0.091 | E13: 0.015 | F13: 0.1065
A14: Gross Income | B14: 2800 | C14: 2406 | D14: 2042 | E14: 2483 | F14: 2193
A15: Gross Income Growth | B15: - | C15: -0.1408 | D15: -0.1511 | E15: 0.2155 | F15: -0.1166
A17: Gross Profit Margin | B17: - | C17: - | D17: - | E17: - | F17: 0.2351
A18: SG&A Expense | B18: 845 | C18: 758 | D18: 747 | E18: 981 | F18: 1130
A19: Other SG&A | B19: 845 | C19: 758 | D19: 747 | E19: 981 | F19: 1130
A20: SGA Growth | B20: - | C20: -0.1034 | D20: -0.0141 | E20: 0.3127 | F20: 0.152
A22: Other Operating Expense | B22: - | C22: - | D22: - | E22: - | F22: -192
A24: EBIT | B24: 1955 | C24: 1648 | D24: 1295 | E24: 1502 | F24: 1255
A25: Unusual Expense | B25: 78 | C25: 148 | D25: 14 | E25: -20 | F25: 63
A27: Non Operating Income/Expense | B27: -132 | C27: -30 | D27: 190 | E27: 1404 | F27: -63
A29: Non-Operating Interest Income | B29: 68 | C29: 89 | D29: 95 | E29: 257 | F29: 304
A30: Interest Expense | B30: 34 | C30: 35 | D30: 36 | E30: 92 | F30: 115
A31: Interest Expense Growth | B31: - | C31: 0.0205 | D31: 0.0316 | E31: 1.5487 | F31: 0.2557
A32: Gross Interest Expense | B32: 34 | C32: 44 | D32: 65 | E32: 184 | F32: 237
A33: Interest Capitalized | B33: - | C33: 9 | D33: 29 | E33: 93 | F33: 122
A34: Pretax Income | B34: 1779 | C34: 1525 | D34: 1530 | E34: 3091 | F34: 1318
A35: Pretax Income Growth | B35: - | C35: -0.1432 | D35: 0.0036 | E35: 1.02 | F35: -0.5735
A37: Pretax Margin | B37: - | C37: - | D37: - | E37: - | F37: 0.1413
A38: Income Tax | B38: 182 | C38: 384 | D38: 287 | E38: 290 | F38: 247
A39: Income Tax - Current Domestic | B39: 428 | C39: 373 | D39: 313 | E39: 74 | F39: 56
A40: Income Tax - Current Foreign | B40: 37 | C40: 37 | D40: -2 | E40: 66 | F40: 66
A42: Income Tax - Deferred Domestic | B42: -283 | C42: -27 | D42: -23 | E42: 150 | F42: 125
A44: Equity in Affiliates | B44: -13 | C44: - | D44: - | E44: - | F44: -
A46: Consolidated Net Income | B46: 1584 | C46: 1140 | D46: 1243 | E46: 2801 | F46: 1071
A47: Minority Interest Expense | B47: -19 | C47: -48 | D47: -15 | E47: -79 | F47: -89
A49: Net Income | B49: 1603 | C49: 1189 | D49: 1258 | E49: 2880 | F49: 1160
A50: Net Income Growth | B50: - | C50: -0.2585 | D50: 0.0582 | E50: 1.2896 | F50: -0.5973
A52: Net Margin | B52: - | C52: - | D52: - | E52: - | F52: 0.1243
A53: Net Income After Extraordinaries | B53: 1603 | C53: 1189 | D53: 1258 | E53: 2880 | F53: 1160
...

Sheet Analysis (2017)
B2: Share Price Performance | P2: 2015-2018
Z3: Share Price | AB3: 95% C.I
L4: Share Price | N4: Volume | Y4: Average | Z4: =AVERAGE('Hard Input'!$N$656:$N$1539) -> 4.7808627 | AB4: =$Z$4-(1.96*$Z$8/(883)^(1/2)) -> 4.7418433
K5: Average | L5: =AVERAGE('Hard Input'!N7:N1539) -> 4.4359965 | N5: =AVERAGE('Hard Input'!$O$7:$O$1539) -> 4907227.2 | Y5: Median | Z5: =MEDIAN('Hard Input'!$N$656:$N$1539) -> 4.595 | AB5: =$Z$4+(1.96*$Z$8/(883)^(1/2)) -> 4.8198822
K6: Median | L6: =MEDIAN('Hard Input'!N7:N1539) -> 4.3 | N6: =MEDIAN('Hard Input'!$O$7:$O$1539) -> 4105350 | Y6: Min | Z6: =MIN('Hard Input'!$N$656:$N$1539) -> 3.79
K7: Min | L7: =MIN('Hard Input'!$N$7:$N$1539) -> 3.28 | N7: =MIN('Hard Input'!$O$7:$O$1539) -> 0 | Y7: Max | Z7: =MAX('Hard Input'!$N$656:$N$1539) -> 6.18
K8: Max | L8: =MAX('Hard Input'!$N$7:$N$1539) -> 6.18 | N8: =MAX('Hard Input'!$O$7:$O$1539) -> 36415100 | Y8: S.Dev | Z8: =_xlfn.STDEV.P('Hard Input'!$N$656:$N$1539) -> 0.59156923
K9: S. Dev | L9: =_xlfn.STDEV.P('Hard Input'!$N$7:$N$1539) -> 0.64188383 | N9: =_xlfn.STDEV.P('Hard Input'!$O$7:$O$1539) -> 3569594.8 | Y9: Range | Z9: =CONCATENATE(ROUND(Z6,2), " - ",ROUND(Z7, 2)) -> 3.79 - 6.18
K10: Range | L10: =CONCATENATE(ROUND(L7,2), " - ",ROUND(L8, 2)) -> 3.28 - 6.18 | N10: =CONCATENATE(ROUND(N7,2), " - ",ROUND(N8, 2)) -> 0 - 36415100
Y11: Total Shareholder Return (without Dividend)
K12: Total Shareholder Return (without dividend) | Y12: From | AA12: Returns | AB12: Average
K13: From | L13: Returns | M13: Average | Y13: 2015-2016 | AA13: ='Hard Input'!N901/'Hard Input'!N656 - 1 -> 0.081481481 | AB13: =AVERAGE('Hard Input'!N901:'Hard Input'!N656) -> 4.1849593
K14: 2012-2013 | L14: ='Hard Input'!N162/'Hard Input'!N7 - 1 -> 0.011396011 | M14: =AVERAGE('Hard Input'!N162:'Hard Input'!N7) -> 3.5284615 | Y14: 2016-2017 | AA14: ='Hard Input'!N1151/'Hard Input'!N902 - 1 -> 0.09569378 | AB14: =AVERAGE('Hard Input'!N1151:'Hard Input'!N902) -> 4.4658
K15: 2013-2014 | L15: ='Hard Input'!N408/'Hard Input'!N163 - 1 -> 0.22969188 | M15: =AVERAGE('Hard Input'!N408:'Hard Input'!N163) -> 3.9773171 | Y15: 2017-2018 | AA15: ='Hard Input'!N1393/'Hard Input'!N1152 - 1 -> 0.26200873 | AB15: =AVERAGE('Hard Input'!N1393:'Hard Input'!N1152) -> 5.4848044
K16: 2014-2015 | L16: ='Hard Input'!N655/'Hard Input'!N409 - 1 -> -0.073394495 | M16: =AVERAGE('Hard Input'!N655:'Hard Input'!N409) -> 4.2317409 | Y16: 2018-Present | AA16: ='Hard Input'!N1539/'Hard Input'!N1152 - 1 -> 0.12008734 | AB16: =AVERAGE('Hard Input'!N1539:'Hard Input'!N1152) -> 5.3616821
K17: 2015-2016 | L17: ='Hard Input'!N901/'Hard Input'!N656 - 1 -> 0.081481481 | M17: =AVERAGE('Hard Input'!N901:'Hard Input'!N656) -> 4.1849593
K18: 2016-2017 | L18: ='Hard Input'!N1151/'Hard Input'!N902 - 1 -> 0.09569378 | M18: =AVERAGE('Hard Input'!N1151:'Hard Input'!N902) -> 4.4658 | Y18: CAGR
K19: 2017-2018 | L19: ='Hard Input'!N1393/'Hard Input'!N1152 - 1 -> 0.26200873 | M19: =AVERAGE('Hard Input'!N1393:'Hard Input'!N1152) -> 5.4848044 | Y19: 2015 - Present | AA19: =('Hard Input'!N1539/'Hard Input'!N656)^(1/4) - 1 -> 0.060878347
K21: 2013-Present | L21: ='Hard Input'!N1539/'Hard Input'!N163 - 1 -> 0.43697479
K23: CAGR
K24: From
K25: 2013 | L25: 2018 | N25: =('Hard Input'!N1539/'Hard Input'!N163)^(1/(L25-K25)) - 1 -> 0.075201421
B28: Dividend History
C30: Share Price | D30: Dividend | E30: Div Yield | H30: Average | I30: =AVERAGE(E31:E35) -> 0.028730513
B31: ='Hard Input'!I7 -> 41045 | C31: ='Hard Input'!N7 -> 3.51 | D31: ='Hard Input'!AC8 -> 0.09 | E31: =D31/C31 -> 0.025641026 | H31: Median | I31: =MEDIAN(E31:E35) -> 0.025210084
B32: ='Hard Input'!I163 -> 41276 | C32: ='Hard Input'!N163 -> 3.57 | D32: ='Hard Input'!AD8 -> 0.09 | E32: =D32/C32 -> 0.025210084 | H32: Min | I32: =MIN(E31:E35) -> 0.016055046
B33: ='Hard Input'!I409 -> 41641 | C33: ='Hard Input'!N409 -> 4.36 | D33: ='Hard Input'!AE8 -> 0.07 | E33: =D33/C33 -> 0.016055046 | H33: Max | I33: =MAX(E31:E35) -> 0.06
B34: ='Hard Input'!I656 -> 42006 | C34: 1 | D34: ='Hard Input'!AF8 -> 0.06 | E34: =D34/C34 -> 0.06 | H34: Std Dev | I34: =_xlfn.STDEV.P(E31:E35) -> 0.016149336
B35: ='Hard Input'!I902 -> 42373 | C35: ='Hard Input'!N902 -> 4.18 | D35: ='Hard Input'!AG8 -> 0.07 | E35: =D35/C35 -> 0.016746411
B38: Year | C38: 2012 | D38: 2013 | E38: 2014 | F38: 2015 | H38: 2016
B39: Dividend Yield | C39: =E31 -> 0.025641026 | D39: =E32 -> 0.025210084 | E39: =E33 -> 0.016055046 | F39: =E34 -> 0.06 | H39: =E35 -> 0.016746411
B46: Financials
B48: P&L Analysis | I48: Without Other Income Portion
C49: 2013 | D49: =C49+1 -> 2014 | E49: =D49+1 -> 2015 | F49: =E49+1 -> 2016 | G49: 2017 | I49: 2013 | J49: =I49+1 -> 2014 | K49: =J49+1 -> 2015 | L49: =K49+1 -> 2016 | M49: 2017 | N49: Average
B50: Revenue + Other Income | C50: =SUM(C51:C52) -> 8264 | D50: =SUM(D51:D52) -> 8288 | E50: =SUM(E51:E52) -> 8681 | F50: =SUM(F51:F52) -> 10593 | G50: =SUM(G51:G52) -> 9570 | I50: =I51 -> 8328 | J50: =J51 -> 8229 | K50: =K51 -> 8396 | L50: =L51 -> 8932 | M50: =M51 -> 9329
B51: Revenue | C51: ='Hard Input (2017)'!B5 -> 8328 | D51: ='Hard Input (2017)'!C5 -> 8229 | E51: ='Hard Input (2017)'!D5 -> 8396 | F51: ='Hard Input (2017)'!E5 -> 8932 | G51: ='Hard Input (2017)'!F5 -> 9329 | I51: =C51 -> 8328 | J51: =D51 -> 8229 | K51: =E51 -> 8396 | L51: =F51 -> 8932 | M51: =G51 -> 9329
B52: Other Income | C52: =SUM('Hard Input (2017)'!B27:B29) -> -64 | D52: =SUM('Hard Input (2017)'!C27:C29) -> 59 | E52: =SUM('Hard Input (2017)'!D27:D29) -> 285 | F52: =SUM('Hard Input (2017)'!E27:E29) -> 1661 | G52: =SUM('Hard Input (2017)'!F27:F29) -> 241
B53: Cost of Goods Sold | C53: =-'Hard Input (2017)'!B9 -> -4975 | D53: =-'Hard Input (2017)'!C9 -> -5216 | E53: =-'Hard Input (2017)'!D9 -> -5669 | F53: =-'Hard Input (2017)'!E9 -> -5648 | G53: =-'Hard Input (2017)'!F9 -> -6196 | I53: =C53 -> -4975 | J53: =D53 -> -5216 | K53: =E53 -> -5669 | L53: =F53 -> -5648 | M53: =G53 -> -6196
B54: Gross Profit | C54: =SUM(C51:C53) -> 3289 | D54: =SUM(D51:D53) -> 3072 | E54: =SUM(E51:E53) -> 3012 | F54: =SUM(F51:F53) -> 4945 | G54: =SUM(G51:G53) -> 3374 | I54: =SUM(I51:I53) -> 3353 | J54: =SUM(J51:J53) -> 3013 | K54: =SUM(K51:K53) -> 2727 | L54: =SUM(L51:L53) -> 3284 | M54: =SUM(M51:M53) -> 3133
B55: SGA Expense | C55: =-'Hard Input (2017)'!B18 -> -845 | D55: =-'Hard Input (2017)'!C18 -> -758 | E55: =-'Hard Input (2017)'!D18 -> -747 | F55: =-'Hard Input (2017)'!E18 -> -981 | G55: =-'Hard Input (2017)'!F18 -> -1130 | I55: =C55 -> -845 | J55: =D55 -> -758 | K55: =E55 -> -747 | L55: =F55 -> -981 | M55: =G55 -> -1130
...

Sheet Valuation
B2: Current Market Valuation | F2: Date | G2: 43322
B4: Price | C4: 5.25 | E4: No of Shares (mil) | G4: 5660
B5: P/E | C5: 24.88
B6: Div Yield | C6: 0.0171
B7: EPS | C7: 0.21
B8: Market Cap (RM m) | C8: =C4*G4 -> 29715
B10: Financial Model
B12: Cost of Equity | C12: 0.1 | E12: Revenue Growth | G12: 0.03 | I12: Cash + ST | J12: ='Analysis (2017)'!G139 -> 6195
B13: Cost of Debt | C13: 0.048 | E13: EBITDA Margin | G13: ='Analysis (2017)'!M81 -> 0.23528781 | I13: Debt | J13: ='Analysis (2017)'!G187 -> 6900
B14: Tax Rate | C14: 0.24 | E14: Net Income Margin | G14: ='Analysis (2017)'!M85 -> 0.098510023
B15: D/(D+E) | C15: ='Analysis (2017)'!G217 -> 0.26300743 | E15: EBIT Margin | G15: ='Analysis (2017)'!M82 -> 0.13452674
B16: WACC | C16: =C12*(1-C15) + C13*(1-C14)*C15 -> 0.083293768 | E16: Terminal Growth | G16: 0.025
B19: Net Working Capital
C21: 2013 | D21: =C21+1 -> 2014 | E21: =D21+1 -> 2015 | F21: =E21+1 -> 2016 | G21: 2017 | H21: Average | I21: Median | K21: 2018 | L21: =K21+1 -> 2019 | M21: =L21+1 -> 2020 | N21: =M21+1 -> 2021
B22: Net Receivables | C22: ='Hard Input'!C12 -> 384 | D22: ='Hard Input'!D12 -> 642 | E22: ='Hard Input'!E12 -> 947 | F22: ='Hard Input'!F12 -> 300
B23: Inventories | C23: ='Hard Input'!C16 -> 88 | D23: ='Hard Input'!D16 -> 100 | E23: ='Hard Input'!E16 -> 120 | F23: ='Hard Input'!F16 -> 98
B24: Payable | C24: ='Hard Input'!C36 -> 415 | D24: ='Hard Input'!D36 -> 431 | E24: ='Hard Input'!E36 -> 503 | F24: ='Hard Input'!F36 -> 442
B26: Net Working Capital | C26: =C24-C22-C23 -> -57 | D26: =D24-D22-D23 -> -311 | E26: =E24-E22-E23 -> -564 | F26: =F24-F22-F23 -> 44 | H26: =AVERAGE(C26:F26) -> -222 | I26: =MEDIAN(C26:F26) -> -184
B28: Depreciation and Amortisation
B29: PPE | C29: ='Analysis (2017)'!C166 -> 6273 | D29: ='Analysis (2017)'!D166 -> 7611 | E29: ='Analysis (2017)'!E166 -> 10660 | F29: ='Analysis (2017)'!F166 -> 12527 | G29: ='Analysis (2017)'!G166 -> 14020 | H29: =AVERAGE(C29:F29) -> 9267.75 | I29: =MEDIAN(C29:F29) -> 9135.5 | K29: =G29+K39-K33 -> 13533.146 | L29: =K29+L39-L33 -> 13077.357 | M29: =L29+M39-M33 -> 12650.65 | N29: =M29+N39-N33 -> 12251.169
B30: Intangibles | C30: ='Hard Input'!C32 -> 4387 | D30: ='Hard Input'!D32 -> 4482 | E30: ='Hard Input'!E32 -> 5367 | F30: ='Hard Input'!F32 -> 5036 | G30: ='Hard Input (2017)'!F113 -> 4654 | H30: =AVERAGE(C30:F30) -> 4818 | I30: =MEDIAN(C30:F30) -> 4759 | K30: =G30-K34 -> 4565.0649 | L30: =K30-L34 -> 4477.8293 | M30: =L30-M34 -> 4392.2607 | N30: =M30-N34 -> 4308.3273
B31: Total PPE + Intangibles | C31: =SUM(C29:C30) -> 10660 | D31: =SUM(D29:D30) -> 12093 | E31: =SUM(E29:E30) -> 16027 | F31: =SUM(F29:F30) -> 17563 | G31: =SUM(G29:G30) -> 18674 | H31: =AVERAGE(C31:F31) -> 14085.75 | I31: =MEDIAN(C31:F31) -> 14060
B33: Depreciation | C33: =-'Analysis (2017)'!C60 -> 478 | D33: =-'Analysis (2017)'!D60 -> 529 | E33: =-'Analysis (2017)'!E60 -> 588 | F33: =-'Analysis (2017)'!F60 -> 681 | G33: =-'Analysis (2017)'!G60 -> 940 | H33: =AVERAGE(C33:F33) -> 569 | I33: =MEDIAN(C33:F33) -> 558.5 | K33: =K36*G29 -> 894.56819 | L33: =K29*L36 -> 863.50371 | M33: =L29*M36 -> 834.42134 | N33: =M29*N36 -> 807.19463
B34: Amortisation | C34: =-'Analysis (2017)'!C61 -> 75 | D34: =-'Analysis (2017)'!D61 -> 79 | E34: =-'Analysis (2017)'!E61 -> 96 | F34: =-'Analysis (2017)'!F61 -> 120 | H34: =AVERAGE(C34:F34) -> 92.5 | I34: =MEDIAN(C34:F34) -> 87.5 | K34: =K37*G30 -> 88.935087 | L34: =K30*L37 -> 87.235592 | M34: =L30*M37 -> 85.568574 | N34: =M30*N37 -> 83.933411
B36: % of Depreciation to PPE | C36: =C33/C29 -> 0.076199586 | D36: =D33/D29 -> 0.069504664 | E36: =E33/E29 -> 0.055159475 | F36: =F33/F29 -> 0.054362577 | G36: =G33/G29 -> 0.067047076 | H36: =AVERAGE(C36:F36) -> 0.063806575 | I36: =MEDIAN(C36:F36) -> 0.062332069 | K36: =H36 -> 0.063806575 | L36: =K36 -> 0.063806575 | M36: =L36 -> 0.063806575 | N36: =M36 -> 0.063806575
B37: % of Amortization to Intangible | C37: =C34/C30 -> 0.017095965 | D37: =D34/D30 -> 0.01762606 | E37: =E34/E30 -> 0.017887088 | F37: =F34/F30 -> 0.023828435 | H37: =AVERAGE(C37:F37) -> 0.019109387 | I37: =MEDIAN(C37:F37) -> 0.017756574 | K37: =H37 -> 0.019109387 | L37: =K37 -> 0.019109387 | M37: =L37 -> 0.019109387 | N37: =M37 -> 0.019109387
B39: CAPEX | C39: ='Analysis (2017)'!C165 -> 1440 | D39: ='Analysis (2017)'!D165 -> 1864 | E39: ='Analysis (2017)'!E165 -> 2537 | F39: ='Analysis (2017)'!F165 -> 3125 | G39: ='Analysis (2017)'!G165 -> 2659 | K39: =C44 -> 407.71429 | L39: =K39 -> 407.71429 | M39: =L39 -> 407.71429 | N39: =M39 -> 407.71429
B41: GITP Commitment | C41: 10380
B42: Capex from 2014-2016 | C42: =SUM(D39:F39) -> 7526 | D42: According to its latest CIMB presentation, they have commited RM7.3bn
B43: Remaining CAPEX | C43: =C41-C42 -> 2854
B44: CAPEX per year (7 years) | C44: =C43/7 -> 407.71429
C47: Actual | H47: Projection
B48: Year | C48: 2013 | D48: =C48+1 -> 2014 | E48: =D48+1 -> 2015 | F48: =E48+1 -> 2016 | G48: 2017 | H48: 2018 | I48: 2019 | J48: 2020 | K48: 2021
B49: Revenue | C49: ='Analysis (2017)'!I50 -> 8328 | D49: ='Analysis (2017)'!J50 -> 8229 | E49: ='Analysis (2017)'!K50 -> 8396 | F49: ='Analysis (2017)'!L50 -> 8932 | G49: ='Analysis (2017)'!M50 -> 9329 | H49: =G49*(1+$G$12) -> 9608.87 | I49: =H49*(1+$G$12) -> 9897.1361 | J49: =I49*(1+$G$12) -> 10194.05 | K49: =J49*(1+$G$12) -> 10499.872
B50: EBIT | C50: ='Analysis (2017)'!I62 -> 1955 | D50: ='Analysis (2017)'!J62 -> 1647 | E50: ='Analysis (2017)'!K62 -> 1296 | F50: ='Analysis (2017)'!L62 -> 1502 | G50: ='Analysis (2017)'!M62 -> 1255 | H50: =H49*H51 -> 1292.65 | I50: =I49*I51 -> 1331.4295 | J50: =J49*J51 -> 1371.3724 | K50: =K49*K51 -> 1412.5136
B51: EBIT Margin | C51: =C50/C49 -> 0.23475024 | D51: =D50/D49 -> 0.20014583 | E51: =E50/E49 -> 0.15435922 | F51: =F50/F49 -> 0.16815943 | G51: =G50/G49 -> 0.13452674 | H51: =G15 -> 0.13452674 | I51: =H51 -> 0.13452674 | J51: =I51 -> 0.13452674 | K51: =J51 -> 0.13452674
B52: ( - ) Tax Expense | H52: =-H50*$C$14 -> -310.236 | I52: =-I50*$C$14 -> -319.54308 | J52: =-J50*$C$14 -> -329.12937 | K52: =-K50*$C$14 -> -339.00325
B53: Unlevered Net Income | H53: =H50+H52 -> 982.414 | I53: =I50+I52 -> 1011.8864 | J53: =J50+J52 -> 1042.243 | K53: =K50+K52 -> 1073.5103
B54: ( + ) Depreciation | H54: =K33 -> 894.56819 | I54: =L33 -> 863.50371 | J54: =M33 -> 834.42134 | K54: =N33 -> 807.19463
B55: Dep % to PPE | H55: =G55 -> 0 | I55: =H55 -> 0 | J55: =I55 -> 0 | K55: =J55 -> 0
...

Sheet Comps
C1: Revenue | I1: EBITDA | O1: Net Income | U1: Operational Cash Flow | AA1: Total Borrowing | AG1: Total Common Equity
C2: 2013 | D2: =C2+1 -> 2014 | E2: =D2+1 -> 2015 | F2: =E2+1 -> 2016 | G2: =F2+1 -> 2017 | I2: 2013 | J2: =I2+1 -> 2014 | K2: =J2+1 -> 2015 | L2: =K2+1 -> 2016 | M2: =L2+1 -> 2017 | N2: Avg | O2: 2013 | P2: =O2+1 -> 2014 | Q2: =P2+1 -> 2015 | R2: =Q2+1 -> 2016 | S2: =R2+1 -> 2017 | T2: Avg | U2: 2013 | V2: =U2+1 -> 2014 | W2: =V2+1 -> 2015 | X2: =W2+1 -> 2016 | Y2: =X2+1 -> 2017 | AA2: 2013 | AB2: =AA2+1 -> 2014 | AC2: =AB2+1 -> 2015 | AD2: =AC2+1 -> 2016 | AE2: =AD2+1 -> 2017 | AG2: 2013 | AH2: =AG2+1 -> 2014 | AI2: =AH2+1 -> 2015 | AJ2: =AI2+1 -> 2016 | AK2: =AJ2+1 -> 2017
B3: Las Vegas Sands Corp | C3: 13770 | D3: 14584 | E3: 11688 | F3: 11410 | G3: 12882 | I3: 4488 | J3: 5164 | K3: 3923 | L3: 3813 | M3: 4662 | O3: 2306 | P3: 2841 | Q3: 1966 | R3: 1670 | S3: 2806 | U3: 4439 | V3: 4833 | W3: 3450 | X3: 4043 | Y3: 4543 | AA3: 378 | AB3: 100 | AC3: 95 | AD3: 167 | AE3: 296 | AG3: 7665 | AH3: 7214 | AI3: 6817 | AJ3: 6177 | AK3: 6493
AA4: 9383 | AB4: 9893 | AC4: 9249 | AD4: 9428 | AE4: 9344
B5: Kangwon Land Inc | C5: 1361287 | D5: 1496541 | E5: 1633717 | F5: 1696533 | G5: 1604470 | I5: 463495 | J5: 573353 | K5: 821433 | L5: 690271 | M5: 615048 | O5: 297599 | P5: 359364 | Q5: 441645 | R5: 454590 | S5: 437615 | U5: 424407 | V5: 510413 | W5: 574982 | X5: 596487 | Y5: 463050
B7: Bloomberry Resorts Corp | C7: 12290 | D7: 24037 | E7: 25040 | F7: 30387 | G7: 36651 | I7: 1064 | J7: 9998 | K7: 5105 | L7: 10554 | M7: 12281 | O7: -1315 | P7: 4072 | Q7: -3364 | R7: 2357 | S7: 6071 | U7: 1223 | V7: 6851 | W7: 4734 | X7: 4244 | Y7: 11371 | AA7: 1019 | AB7: 1994 | AC7: 3383 | AD7: 1966 | AE7: 2935 | AG7: 16033 | AH7: 25679 | AI7: 21727 | AJ7: 24107 | AK7: 30256
AA8: 16613 | AB8: 30614 | AC8: 33858 | AD8: 32112 | AE8: 29373
B9: MGM Resorts International | C9: 9810 | D9: 10082 | E9: 9190 | F9: 9455 | G9: 10774 | I9: 2042 | J9: 2116 | K9: 1910 | L9: 2128 | M9: 2573 | O9: -157 | P9: -150 | Q9: -448 | R9: 1101 | S9: 1942 | U9: 1311 | V9: 1131 | W9: 1207 | X9: 2076 | Y9: 2508 | AA9: 1 | AB9: 1250 | AC9: 336 | AD9: 17 | AE9: 158 | AG9: 4231 | AH9: 4091 | AI9: 5120 | AJ9: 6220 | AK9: 7613
AA10: 13448 | AB10: 12922 | AC10: 12377 | AD10: 12984 | AE10: 12751
B11: Galaxy Entertainment Group | C11: 66033 | D11: 71752 | E11: 50991 | F11: 52826 | G11: 62450 | I11: 12096 | J11: 11983 | K11: 7241 | L11: 9594 | M11: 13138 | O11: 10052 | P11: 10340 | Q11: 4161 | R11: 6283 | S11: 10504 | U11: 13788 | V11: 12376 | W11: 6869 | X11: 12864 | Y11: 19144 | AA11: 469 | AB11: 442 | AC11: 727 | AD11: 5614 | AE11: 9691 | AG11: 32441 | AH11: 38369 | AI11: 41101 | AJ11: 46345 | AK11: 55482
AA12: 237 | AB12: 576 | AC12: 671 | AD12: 526 | AE12: 259
B13: Margins | I13: =I3/C3 -> 0.32592593 | J13: =J3/D3 -> 0.35408667 | K13: =K3/E3 -> 0.33564339 | L13: =L3/F3 -> 0.33418054 | M13: =M3/G3 -> 0.36190033 | N13: =AVERAGE(I13:M13) -> 0.34234737 | O13: =O3/C3 -> 0.1674655 | P13: =P3/D3 -> 0.19480252 | Q13: =Q3/E3 -> 0.16820671 | R13: =R3/F3 -> 0.14636284 | S13: =S3/G3 -> 0.21782332 | T13: =AVERAGE(O13:S13) -> 0.17893218 | U13: =U3/C3 -> 0.32236747 | V13: =V3/D3 -> 0.33139057 | W13: =W3/E3 -> 0.29517454 | X13: =X3/F3 -> 0.3543383 | Y13: =Y3/G3 -> 0.35266263 | AA13: =SUM(AA3:AA4)/(SUM(AA3:AA4) + AG3) -> 0.56014002 | AB13: =SUM(AB3:AB4)/(SUM(AB3:AB4) + AH3) -> 0.58075202 | AC13: =SUM(AC3:AC4)/(SUM(AC3:AC4) + AI3) -> 0.57818204 | AD13: =SUM(AD3:AD4)/(SUM(AD3:AD4) + AJ3) -> 0.60835658 | AE13: =SUM(AE3:AE4)/(SUM(AE3:AE4) + AK3) -> 0.59753301 | AF13: =AVERAGE(AA13:AE13) -> 0.58499273
I15: =I5/C5 -> 0.34048294 | J15: =J5/D5 -> 0.38311881 | K15: =K5/E5 -> 0.50280006 | L15: =L5/F5 -> 0.40687154 | M15: =M5/G5 -> 0.38333406 | N15: =AVERAGE(I15:M15) -> 0.40332148 | O15: =O5/C5 -> 0.21861591 | P15: =P5/D5 -> 0.24012974 | Q15: =Q5/E5 -> 0.2703314 | R15: =R5/F5 -> 0.26795235 | S15: =S5/G5 -> 0.27274739 | T15: =AVERAGE(O15:S15) -> 0.25395536 | U15: =U5/C5 -> 0.31176894 | V15: =V5/D5 -> 0.34106182 | W15: =W5/E5 -> 0.35194712 | X15: =X5/F5 -> 0.35159175 | Y15: =Y5/G5 -> 0.28859997
I17: =I7/C7 -> 0.086574451 | J17: =J7/D7 -> 0.41594209 | K17: =K7/E7 -> 0.2038738 | L17: =L7/F7 -> 0.34731958 | M17: =M7/G7 -> 0.33507953 | N17: =AVERAGE(I17:M17) -> 0.27775789 | O17: =O7/C7 -> -0.10699756 | P17: =P7/D7 -> 0.1694055 | Q17: =Q7/E7 -> -0.13434505 | R17: =R7/F7 -> 0.077566064 | S17: =S7/G7 -> 0.1656435 | T17: =AVERAGE(O17:S17) -> 0.034254492 | U17: =U7/C7 -> 0.099511798 | V17: =V7/D7 -> 0.28501893 | W17: =W7/E7 -> 0.18905751 | X17: =X7/F7 -> 0.13966499 | Y17: =Y7/G7 -> 0.31025074 | AA17: =SUM(AA7:AA8)/(SUM(AA7:AA8) + AG7) -> 0.5237487 | AB17: =SUM(AB7:AB8)/(SUM(AB7:AB8) + AH7) -> 0.55943864 | AC17: =SUM(AC7:AC8)/(SUM(AC7:AC8) + AI7) -> 0.63154592 | AD17: =SUM(AD7:AD8)/(SUM(AD7:AD8) + AJ7) -> 0.5856836 | AE17: =SUM(AE7:AE8)/(SUM(AE7:AE8) + AK7) -> 0.51639921 | AF17: =AVERAGE(AA17:AE17) -> 0.56336321
I19: =I9/C9 -> 0.20815494 | J19: =J9/D9 -> 0.20987899 | K19: =K9/E9 -> 0.2078346 | L19: =L9/F9 -> 0.2250661 | M19: =M9/G9 -> 0.23881567 | N19: =AVERAGE(I19:M19) -> 0.21795006 | O19: =O9/C9 -> -0.016004077 | P19: =P9/D9 -> -0.014878 | Q19: =Q9/E9 -> -0.04874864 | R19: =R9/F9 -> 0.11644632 | S19: =S9/G9 -> 0.18024875 | T19: =AVERAGE(O19:S19) -> 0.043412871 | U19: =U9/C9 -> 0.13363914 | V19: =V9/D9 -> 0.11218012 | W19: =W9/E9 -> 0.13133841 | X19: =X9/F9 -> 0.21956637 | Y19: =Y9/G9 -> 0.23278262 | AA19: =SUM(AA9:AA10)/(SUM(AA9:AA10) + AG9) -> 0.76069005 | AB19: =SUM(AB9:AB10)/(SUM(AB9:AB10) + AH9) -> 0.77599518 | AC19: =SUM(AC9:AC10)/(SUM(AC9:AC10) + AI9) -> 0.71289183 | AD19: =SUM(AD9:AD10)/(SUM(AD9:AD10) + AJ9) -> 0.67639561 | AE19: =SUM(AE9:AE10)/(SUM(AE9:AE10) + AK9) -> 0.62903226 | AF19: =AVERAGE(AA19:AE19) -> 0.71100098
I21: =I11/C11 -> 0.18318114 | J21: =J11/D11 -> 0.1670058 | K21: =K11/E11 -> 0.14200545 | L21: =L11/F11 -> 0.18161511 | M21: =M11/G11 -> 0.2103763 | N21: =AVERAGE(I21:M21) -> 0.17683676 | O21: =O11/C11 -> 0.15222692 | P21: =P11/D11 -> 0.14410748 | Q21: =Q11/E11 -> 0.081602636 | R21: =R11/F11 -> 0.11893764 | S21: =S11/G11 -> 0.16819856 | T21: =AVERAGE(O21:S21) -> 0.13301465 | U21: =U11/C11 -> 0.20880469 | V21: =V11/D11 -> 0.172483 | W21: =W11/E11 -> 0.13471005 | X21: =X11/F11 -> 0.24351645 | Y21: =Y11/G11 -> 0.30654924 | AA21: =SUM(AA11:AA12)/(SUM(AA11:AA12) + AG11) -> 0.021299062 | AB21: =SUM(AB11:AB12)/(SUM(AB11:AB12) + AH11) -> 0.025846091 | AC21: =SUM(AC11:AC12)/(SUM(AC11:AC12) + AI11) -> 0.032894892 | AD21: =SUM(AD11:AD12)/(SUM(AD11:AD12) + AJ11) -> 0.11698581 | AE21: =SUM(AE11:AE12)/(SUM(AE11:AE12) + AK11) -> 0.15206627 | AF21: =AVERAGE(AA21:AE21) -> 0.069818423
C24: 2017 | E24: Average
C25: EBITDA | D25: Net Income | E25: EBITDA | F25: Net Income
B26: Genting Malaysia Berhad | C26: ='Analysis (2017)'!M81 -> 0.23528781 | D26: ='Analysis (2017)'!M85 -> 0.098510023 | E26: ='Analysis (2017)'!N81 -> 0.260827 | F26: ='Analysis (2017)'!N85 -> 0.13764751
B27: Comp Average | C27: =AVERAGE(C28:C32) -> 0.30590118 | D27: =AVERAGE(D28:D32) -> 0.2009323 | E27: =AVERAGE(E28:E32) -> 0.28364271 | F27: =AVERAGE(F28:F32) -> 0.12871391
B28: - Las Vegas Sands Corp | C28: =M13 -> 0.36190033 | D28: =S13 -> 0.21782332 | E28: =N13 -> 0.34234737 | F28: =T13 -> 0.17893218
B29: - Kangwon Land Inc | C29: =M15 -> 0.38333406 | D29: =S15 -> 0.27274739 | E29: =N15 -> 0.40332148 | F29: =T15 -> 0.25395536
B30: - Bloomberry Resorts Corp | C30: =M17 -> 0.33507953 | D30: =S17 -> 0.1656435 | E30: =N17 -> 0.27775789 | F30: =T17 -> 0.034254492
B31: - MGM Resorts International | C31: =M19 -> 0.23881567 | D31: =S19 -> 0.18024875 | E31: =N19 -> 0.21795006 | F31: =T19 -> 0.043412871
B32: - Galaxy Entertainment Group | C32: =M21 -> 0.2103763 | D32: =S21 -> 0.16819856 | E32: =N21 -> 0.17683676 | F32: =T21 -> 0.13301465
C34: D/ (D+ E)
C35: 2017 | D35: Average
B36: Genting Malaysia Berhad | C36: ='Analysis (2017)'!G234 -> 0.26300743 | D36: ='Analysis (2017)'!H234 -> 0.16504973
B37: Comp Average | C37: =AVERAGE(C38:C42) -> 0.47375768 | D37: =AVERAGE(D38:D42) -> 0.48229384
B38: - Las Vegas Sands Corp | C38: =AE13 -> 0.59753301 | D38: =AF13 -> 0.58499273
B39: - Kangwon Land Inc | C39: - | D39: -
B40: - Bloomberry Resorts Corp | C40: =AE17 -> 0.51639921 | D40: =AF17 -> 0.56336321
B41: - MGM Resorts International | C41: =AE19 -> 0.62903226 | D41: =AF19 -> 0.71100098
B42: - Galaxy Entertainment Group | C42: =AE21 -> 0.15206627 | D42: =AF21 -> 0.069818423

Sheet Hard Input
B2: Financial Statement Input | I2: Share Price | U2: Analyst Recommendations | AB2: Dividends | AI2: GDP Growth (%) | AP2: Arrival of Tourist by Country | AW2: Genting Malaysia Berhad Statistics
B3: Source: CNBC | I3: Source: Yahoo Finance | U3: Source: i3 Investor | AB3: Source: MorningStar | AI3: Source: World Bank | AP3: Source: Tourism Malaysia | AW3: Source: CIMB 9th Annual Malaysia Corporate Day
I4: Source: WSJ
C6: 2013 | D6: 2014 | E6: 2015 | F6: 2016 | I6: Date | J6: Open | K6: High | L6: Low | M6: Close | N6: Adj Close | O6: Volume | Q6: Average | R6: Low | S6: High | U6: Date | V6: Open Price | W6: Target Price | X6: Upside/Downside | Y6: Price Call | Z6: Source | AB6: Annual Dividends | AW6: Million | AX6: Visitor Arrivals (Malaysia) | BA6: Hotel | BC6: Malaysia L&H
B7: Balance Sheet | I7: 41045 | J7: 3.63 | K7: 3.66 | L7: 3.51 | M7: 3.51 | N7: 3.51 | O7: 6004400 | Q7: ='Analysis (2017)'!$Z$4 -> 4.7808627 | R7: ='Analysis (2017)'!$AB$4 -> 4.7418433 | S7: ='Analysis (2017)'!$AB$5 -> 4.8198822 | U7: 42790 | V7: 5.5 | W7: 6.1 | X7: +0.60 (10.91%) | Y7: BUY | Z7: TA | AC7: 41244 | AD7: 41609 | AE7: 41974 | AF7: 42339 | AG7: 42705 | AJ7: Malaysia | AK7: China | AL7: U.S | AM7: U.K | AN7: World | AQ7: Tourist Arrival | AR7: Asia | AS7: China | AT7: Singapore | AU7: Tourism Receipts | AW7: Year | AX7: Day-Trippers | AY7: Hotel Guest | AZ7: Total | BA7: ARR | BB7: AOR | BC7: Revenue
B8: Cash | C8: 1261 | D8: 1282 | E8: 1719 | F8: 1610 | I8: 41046 | J8: 3.53 | K8: 3.64 | L8: 3.52 | M8: 3.6 | N8: 3.6 | O8: 4571800 | Q8: =Q7 -> 4.7808627 | R8: =R7 -> 4.7418433 | S8: =S7 -> 4.8198822 | U8: 42790 | V8: 5.5 | W8: 5.1 | X8: -0.40 (7.27%) | Y8: HOLD | Z8: PUBLIC BANK | AB8: Dividend Amount | AC8: 0.09 | AD8: 0.09 | AE8: 0.07 | AF8: 0.06 | AG8: 0.07 | AI8: 2004 | AJ8: 0.067834377 | AK8: 0.10111223 | AL8: 0.037857428 | AM8: 0.023644553 | AN8: 0.044481988 | AP8: 2004 | AQ8: 15703406 | AR8: 13945696 | AS8: 632807 | AT8: 9520306 | AU8: 29651400000 | AW8: 2010 | AX8: 14.6 | AY8: 5.3 | AZ8: =SUM(AX8:AY8) -> 19.9 | BA8: 81 | BB8: 0.93 | BC8: 5068
B9: Short Term Investments | C9: 3554 | D9: 2780 | E9: 3439 | F9: 3844 | I9: 41047 | J9: 3.55 | K9: 3.57 | L9: 3.52 | M9: 3.57 | N9: 3.57 | O9: 3356600 | Q9: =Q8 -> 4.7808627 | R9: =R8 -> 4.7418433 | S9: =S8 -> 4.8198822 | U9: 42790 | V9: 5.5 | W9: 5.66 | X9: +0.16 (2.91%) | Y9: HOLD | Z9: KENANGA | AB9: Year-end Yield % | AC9: 2.42 | AD9: 2.12 | AE9: 1.7 | AF9: 1.44 | AG9: 1.59 | AI9: 2005 | AJ9: 0.053321391 | AK9: 0.11395776 | AL9: 0.033452161 | AM9: 0.030960889 | AN9: 0.038300448 | AP9: 2005 | AQ9: 16431055 | AR9: 14657396 | AS9: 432570 | AT9: 9634506 | AU9: 31954100000 | AW9: 2011 | AX9: 14.8 | AY9: 5.4 | AZ9: =SUM(AX9:AY9) -> 20.2 | BA9: 82 | BB9: 0.94 | BC9: 5418
B10: ASSETS | I10: 41050 | J10: 3.57 | K10: 3.58 | L10: 3.54 | M10: 3.55 | N10: 3.55 | O10: 1275500 | Q10: =Q9 -> 4.7808627 | R10: =R9 -> 4.7418433 | S10: =S9 -> 4.8198822 | U10: 42790 | V10: 5.5 | W10: 5.1 | X10: -0.40 (7.27%) | Y10: HOLD | Z10: HLG | AB10: *Dividend Amount is calculated using the ex-dividend date | AI10: 2006 | AJ10: 0.055848471 | AK10: 0.12719479 | AL10: 0.026666258 | AM10: 0.024559997 | AN10: 0.043056477 | AP10: 2006 | AQ10: 17546863 | AR10: 15505995 | AS10: 532914 | AT10: 9656251 | AU10: 36271700000 | AW10: 2012 | AX10: 14.9 | AY10: 5.6 | AZ10: =SUM(AX10:AY10) -> 20.5 | BA10: 84 | BB10: 0.95 | BC10: 5490
B11: Cash & Short Term Investments | C11: 4815 | D11: 4063 | E11: 5158 | F11: 5455 | I11: 41051 | J11: 3.58 | K11: 3.63 | L11: 3.55 | M11: 3.62 | N11: 3.62 | O11: 2525000 | Q11: =Q10 -> 4.7808627 | R11: =R10 -> 4.7418433 | S11: =S10 -> 4.8198822 | U11: 42761 | V11: 4.97 | W11: 5.66 | X11: +0.69 (13.88%) | Y11: BUY | Z11: KENANGA | AI11: 2007 | AJ11: 0.094276651 | AK11: 0.14231388 | AL11: 0.017785702 | AM11: 0.023567082 | AN11: 0.042280597 | AP11: 2007 | AQ11: 20972822 | AR11: 17724628 | AS11: 789783 | AT11: 10492692 | AU11: 46070000000 | AW11: 2013 | AX11: 14.3 | AY11: 5.3 | AZ11: =SUM(AX11:AY11) -> 19.6 | BA11: 89 | BB11: 0.9 | BC11: 5684
B12: Receivables - Net | C12: 384 | D12: 642 | E12: 947 | F12: 300 | I12: 41052 | J12: 3.59 | K12: 3.6 | L12: 3.52 | M12: 3.54 | N12: 3.54 | O12: 3235300 | Q12: =Q11 -> 4.7808627 | R12: =R11 -> 4.7418433 | S12: =S11 -> 4.8198822 | U12: 42747 | V12: 4.85 | W12: 4.8 | X12: -0.05 (1.03%) | Y12: HOLD | Z12: MACQUARIE GROUP | AI12: 2008 | AJ12: 0.033195943 | AK12: 0.096542894 | AL12: -0.0029162146 | AM12: -0.0047254032 | AN12: 0.018185518 | AP12: 2008 | AQ12: 22052488 | AR12: 19140693 | AS12: 949864 | AT12: 11003492 | AU12: 49561200000 | AW12: 2014 | AX12: 13.1 | AY12: 5 | AZ12: =SUM(AX12:AY12) -> 18.1 | BA12: 80 | BB12: 0.91 | BC12: 5362
B13: Raw Materials | C13: 32 | D13: 27 | E13: 33 | F13: 30 | I13: 41053 | J13: 3.54 | K13: 3.58 | L13: 3.54 | M13: 3.58 | N13: 3.58 | O13: 1747200 | Q13: =Q12 -> 4.7808627 | R13: =R12 -> 4.7418433 | S13: =S12 -> 4.8198822 | U13: 42739 | V13: 4.58 | W13: 5 | X13: +0.42 (9.17%) | Y13: BUY | Z13: PUBLIC BANK | AI13: 2009 | AJ13: -0.025258257 | AK13: 0.093998132 | AL13: -0.027755296 | AM13: -0.041877594 | AN13: -0.017340504 | AP13: 2009 | AQ13: 23646191 | AR13: 20929002 | AS13: 1019756 | AT13: 12733082 | AU13: 53367700000 | AW13: 2015 | AX13: 13.7 | AY13: 5.7 | AZ13: =SUM(AX13:AY13) -> 19.4 | BA13: 88 | BB13: 0.9 | BC13: 5577
B14: Finished Goods | C14: 23 | D14: 23 | E14: 23 | F14: 23 | I14: 41054 | J14: 3.59 | K14: 3.62 | L14: 3.56 | M14: 3.6 | N14: 3.6 | O14: 1072900 | Q14: =Q13 -> 4.7808627 | R14: =R13 -> 4.7418433 | S14: =S13 -> 4.8198822 | U14: 42706 | V14: 4.75 | W14: 5.6 | X14: +0.85 (17.89%) | Y14: BUY | Z14: Affin Hwang Capital | AI14: 2010 | AJ14: 0.069809568 | AK14: 0.1063614 | AL14: 0.025319206 | AM14: 0.016945471 | AN14: 0.043114723 | AP14: 2010 | AQ14: 24577196 | AR14: 21887182 | AS14: 1130261 | AT14: 13042004 | AU14: 56492500000 | AW14: 2016 | AX14: =10.9/0.75 -> 14.533333 | AY14: =4.4/0.75 -> 5.8666667 | AZ14: =SUM(AX14:AY14) -> 20.4 | BA14: 93 | BB14: 0.91 | BC14: =4116/0.75 -> 5488
B15: Progress Payments Other | C15: 33 | D15: 51 | E15: 64 | F15: 45 | I15: 41057 | J15: 3.62 | K15: 3.66 | L15: 3.59 | M15: 3.64 | N15: 3.64 | O15: 657800 | Q15: =Q14 -> 4.7808627 | R15: =R14 -> 4.7418433 | S15: =S14 -> 4.8198822 | U15: 42699 | V15: 4.72 | W15: 4.6 | X15: -0.12 (2.54%) | Y15: HOLD | Z15: PUBLIC BANK | AF15: 0.044481988 | AG15: 100 | AI15: 2011 | AJ15: 0.052937911 | AK15: 0.09536443 | AL15: 0.016014547 | AM15: 0.01452624 | AN15: 0.031808818 | AP15: 2011 | AQ15: 24714324 | AR15: 21979178 | AS15: 1250536 | AT15: 13372647 | AU15: 58315900000 | AW15: 2020 | AZ15: 30
B16: Inventories - Total | C16: 88 | D16: 100 | E16: 120 | F16: 98 | I16: 41058 | J16: 3.64 | K16: 3.75 | L16: 3.62 | M16: 3.75 | N16: 3.75 | O16: 1551500 | Q16: =Q15 -> 4.7808627 | R16: =R15 -> 4.7418433 | S16: =S15 -> 4.8198822 | U16: 42699 | V16: 4.72 | W16: 5.35 | X16: +0.63 (13.35%) | Y16: BUY | Z16: MAYBANK | AF16: 0.038300448 | AI16: 2012 | AJ16: 0.054743855 | AK16: 0.078562621 | AL16: 0.022240309 | AM16: 0.014813298 | AN16: 0.025080793 | AP16: 2012 | AQ16: 25032708 | AR16: 22778387 | AS16: 1583318 | AT16: 13014268 | AU16: 60556700000
B17: Prepaid Expenses | C17: 100 | D17: 117 | E17: 242 | F17: 234 | I17: 41059 | J17: 3.76 | K17: 3.85 | L17: 3.72 | M17: 3.84 | N17: 3.84 | O17: 4808300 | Q17: =Q16 -> 4.7808627 | R17: =R16 -> 4.7418433 | S17: =S16 -> 4.8198822 | AF17: 0.043056477 | AI17: 2013 | AJ17: 0.046929192 | AK17: 0.077576351 | AL17: 0.016773315 | AM17: 0.020523885 | AN17: 0.026148628 | AP17: 2013 | AQ17: 25715460 | AR17: 23328292 | AS17: 1791423 | AT17: 13178774 | AU17: 65443300000
B18: Other Current Assets | C18: 30 | D18: 59 | E18: 2074 | F18: 42 | I18: 41060 | J18: 3.76 | K18: 3.78 | L18: 3.69 | M18: 3.69 | N18: 3.69 | O18: 8092700 | Q18: =Q17 -> 4.7808627 | R18: =R17 -> 4.7418433 | S18: =S17 -> 4.8198822 | U18: Current P/E at 16 May 2017 | X18: 11.31 | AF18: 0.042280597 | AI18: 2014 | AJ18: 0.060121665 | AK18: 0.07297666 | AL18: 0.025691936 | AM18: 0.03054251 | AN18: 0.028557544 | AP18: 2014 | AQ18: 27437315 | AR18: 24808382 | AS18: 1613355 | AT18: 13932967 | AU18: 71998800000 | AW18: Projects in GITP | AY18: 10380
B19: CURRENT ASSETS - TOTAL | C19: 5417 | D19: 4980 | E19: 8541 | F19: 6129 | I19: 41061 | J19: 3.69 | K19: 3.72 | L19: 3.65 | M19: 3.69 | N19: 3.69 | O19: 5215600 | Q19: =Q18 -> 4.7808627 | R19: =R18 -> 4.7418433 | S19: =S18 -> 4.8198822 | AF19: 0.018185518 | AI19: 2015 | AJ19: 0.049687852 | AK19: 0.069183364 | AL19: 0.02861587 | AM19: 0.023459395 | AN19: 0.028569455 | AP19: 2015 | AQ19: 25721251 | AR19: 23361016 | AS19: 1677163 | AT19: 12930754 | AU19: 69119600000 | AW19: 20th Century Fox
B20: Land | C20: 595 | D20: 598 | E20: 830 | F20: 771 | I20: 41064 | J20: 3.65 | K20: 3.76 | L20: 3.54 | M20: 3.54 | N20: 3.54 | O20: 4794700 | Q20: =Q19 -> 4.7808627 | R20: =R19 -> 4.7418433 | S20: =S19 -> 4.8198822 | U20: Date | V20: Open Price | W20: Target Price | X20: Upside/Downside | Y20: Price Call | Z20: Source | AF20: -0.017340504 | AI20: 2016 | AJ20: 0.042 | AK20: 0.067 | AL20: 0.014852792 | AM20: 0.019357909 | AN20: 0.025057279 | AP20: 2016 | AQ20: 26757392 | AR20: 24781902 | AS20: 2124942 | AT20: 13272961 | AU20: 82098200000 | AW20: 1,300 room First World Hotel
B21: Buildings | C21: 4766 | D21: 5073 | E21: 6762 | F21: 7940 | I21: 41065 | J21: 3.56 | K21: 3.58 | L21: 3.52 | M21: 3.52 | N21: 3.52 | O21: 4448200 | Q21: =Q20 -> 4.7808627 | R21: =R20 -> 4.7418433 | S21: =S20 -> 4.8198822 | U21: 42900 | V21: 5.62 | W21: 5.2 | X21: -0.42 (7.47%) | Y21: SELL | Z21: AMMB | AF21: 0.043114723 | AI21: 2017 | AJ21: 0.059017692 | AK21: 0.069 | AL21: 0.022733385 | AM21: 0.01787151 | AN21: 0.031515099 | AP21: 2017e | AQ21: 25948459 | AR21: 23966645 | AS21: 2281666 | AT21: 12441713 | AU21: 82165000000 | AW21: Indoor Theme Park
B22: Machinery & Equipment | C22: 4228 | D22: 4432 | E22: 5291 | F22: 6084 | I22: 41066 | J22: 3.55 | K22: 3.58 | L22: 3.53 | M22: 3.53 | N22: 3.53 | O22: 5881400 | Q22: =Q21 -> 4.7808627 | R22: =R21 -> 4.7418433 | S22: =S21 -> 4.8198822 | U22: 42885 | V22: 5.94 | W22: 5.15 | X22: -0.79 (13.30%) | Y22: SELL | Z22: UOBKayHian | AF22: 0.031808818 | AI22: 2018e | AJ22: 0.054 | AK22: 0.051 | AL22: 0.027 | AN22: 0.031 | AP22: 2018e | AW22: All-Suite Premium Luxury Hotel
B23: Transportation Equipment | C23: 600 | D23: 685 | E23: 790 | F23: 471 | I23: 41067 | J23: 3.56 | K23: 3.59 | L23: 3.54 | M23: 3.57 | N23: 3.57 | O23: 3199000 | Q23: =Q22 -> 4.7808627 | R23: =R22 -> 4.7418433 | S23: =S22 -> 4.8198822 | U23: 42885 | V23: 5.94 | W23: 6 | X23: +0.06 (1.01%) | Y23: HOLD | Z23: KENANGA | AF23: 0.025080793 | AI23: 2019e | AJ23: 0.051 | AK23: 0.051 | AL23: 0.025 | AN23: 0.03 | AP23: 2019e | AW23: Sky Avenue lifestyle mall and Sky Plaza
B24: Other Property, Plant & Equipment | C24: -- | D24: 7426 | E24: 10475 | F24: 12159 | I24: 41068 | J24: 3.55 | K24: 3.57 | L24: 3.53 | M24: 3.54 | N24: 3.54 | O24: 1510400 | Q24: =Q23 -> 4.7808627 | R24: =R23 -> 4.7418433 | S24: =S23 -> 4.8198822 | U24: 42885 | V24: 5.94 | W24: 5.2 | X24: -0.74 (12.46%) | Y24: SELL | Z24: AMMB | AF24: 0.026148628 | AI24: 2020e | AJ24: 0.048 | AK24: 0.051 | AL24: 0.02 | AN24: 0.029 | AP24: 2020e | AQ24: 36000000 | AW24: High-speed cable car system
B25: Property, Plant, & Equipment under Capitalized Leases | C25: 51 | D25: 51 | E25: 25 | F25: 25 | I25: 41071 | J25: 3.56 | K25: 3.58 | L25: 3.51 | M25: 3.53 | N25: 3.53 | O25: 4618700 | Q25: =Q24 -> 4.7808627 | R25: =R24 -> 4.7418433 | S25: =S24 -> 4.8198822 | U25: 42885 | V25: 5.94 | W25: 6 | X25: +0.06 (1.01%) | Y25: HOLD | Z25: Affin Hwang Capital | AF25: 0.028557544 | AW25: Luxury Hotels
B26: Property, Plant and Equipment - Gross | C26: 10754 | D26: 12446 | E26: 16170 | F26: 18174 | I26: 41072 | J26: 3.47 | K26: 3.51 | L26: 3.46 | M26: 3.46 | N26: 3.46 | O26: 3508600 | Q26: =Q25 -> 4.7808627 | R26: =R25 -> 4.7418433 | S26: =S25 -> 4.8198822 | U26: 42790 | V26: 5.5 | W26: 6.1 | X26: +0.60 (10.91%) | Y26: BUY | Z26: TA | AF26: 0.028569455 | AI26: Average | AJ26: =AVERAGE(AJ8:AJ21) -> 0.051033308 | AK26: =AVERAGE(AK8:AK21) -> 0.09365318 | AL26: =AVERAGE(AL8:AL21) -> 0.018380814 | AM26: =AVERAGE(AM8:AM21) -> 0.015297839 | AN26: =AVERAGE(AN8:AN21) -> 0.029201204 | AW26: Infra | AY26: s
B27: Accumulated Depreciation | C27: -4481 | D27: -4835 | E27: -5510 | F27: -5830 | G27: ` | I27: 41073 | J27: 3.47 | K27: 3.48 | L27: 3.43 | M27: 3.44 | N27: 3.44 | O27: 3615800 | Q27: =Q26 -> 4.7808627 | R27: =R26 -> 4.7418433 | S27: =S26 -> 4.8198822 | U27: 42790 | V27: 5.5 | W27: 5.1 | X27: -0.40 (7.27%) | Y27: HOLD | Z27: PUBLIC BANK | AF27: 0.025057279
B28: Property, Plant and Equipment - Net | C28: 6273 | D28: 7611 | E28: 10660 | F28: 12343 | I28: 41074 | J28: 3.42 | K28: 3.43 | L28: 3.4 | M28: 3.4 | N28: 3.4 | O28: 4160800 | Q28: =Q27 -> 4.7808627 | R28: =R27 -> 4.7418433 | S28: =S27 -> 4.8198822 | U28: 42790 | V28: 5.5 | W28: 5.66 | X28: +0.16 (2.91%) | Y28: HOLD | Z28: KENANGA | AF28: 0.031515099
B29: Long Term Receivables | C29: 263 | D29: 252 | E29: 252 | F29: 1731 | I29: 41075 | J29: 3.44 | K29: 3.6 | L29: 3.44 | M29: 3.6 | N29: 3.6 | O29: 5952100 | Q29: =Q28 -> 4.7808627 | R29: =R28 -> 4.7418433 | S29: =S28 -> 4.8198822 | U29: 42790 | V29: 5.5 | W29: 5.1 | X29: -0.40 (7.27%) | Y29: HOLD | Z29: HLG
B30: Other Investments | C30: 3337 | D30: 3198 | E30: 2392 | F30: 2421 | I30: 41078 | J30: 3.6 | K30: 3.63 | L30: 3.54 | M30: 3.58 | N30: 3.58 | O30: 1060800 | Q30: =Q29 -> 4.7808627 | R30: =R29 -> 4.7418433 | S30: =S29 -> 4.8198822 | U30: 42761 | V30: 4.97 | W30: 5.66 | X30: +0.69 (13.88%) | Y30: BUY | Z30: KENANGA
B31: Deferred Charges | C31: 0 | D31: 73 | E31: 71 | F31: 112 | I31: 41079 | J31: 3.58 | K31: 3.61 | L31: 3.55 | M31: 3.61 | N31: 3.61 | O31: 2823100 | Q31: =Q30 -> 4.7808627 | R31: =R30 -> 4.7418433 | S31: =S30 -> 4.8198822
B32: Total Intangible Other Assets - Net | C32: 4387 | D32: 4482 | E32: 5367 | F32: 5036 | I32: 41080 | J32: 3.59 | K32: 3.65 | L32: 3.57 | M32: 3.65 | N32: 3.65 | O32: 2019800 | Q32: =Q31 -> 4.7808627 | R32: =R31 -> 4.7418433 | S32: =S31 -> 4.8198822 | U32: Date | V32: 42907
B33: Other Assets - Total | C33: 4561 | D33: 4756 | E33: 5676 | F33: 5270 | I33: 41081 | J33: 3.65 | K33: 3.65 | L33: 3.58 | M33: 3.6 | N33: 3.6 | O33: 1678300 | Q33: =Q32 -> 4.7808627 | R33: =R32 -> 4.7418433 | S33: =S32 -> 4.8198822 | U33: Current P/E at 21 Jun 2017 | X33: 10.25
B34: TOTAL ASSETS | C34: 19677 | D34: 20597 | E34: 27283 | F34: 27772 | I34: 41082 | J34: 3.58 | K34: 3.64 | L34: 3.55 | M34: 3.55 | N34: 3.55 | O34: 2928900 | Q34: =Q33 -> 4.7808627 | R34: =R33 -> 4.7418433 | S34: =S33 -> 4.8198822
B35: LIABILITIES | I35: 41085 | J35: 3.57 | K35: 3.59 | L35: 3.54 | M35: 3.54 | N35: 3.54 | O35: 826500 | Q35: =Q34 -> 4.7808627 | R35: =R34 -> 4.7418433 | S35: =S34 -> 4.8198822 | U35: Date | V35: Open Price | W35: Target Price | X35: Upside/Downside | Y35: Price Call | Z35: Source
B36: Accounts Payable | C36: 415 | D36: 431 | E36: 503 | F36: 442 | I36: 41086 | J36: 3.54 | K36: 3.56 | L36: 3.5 | M36: 3.52 | N36: 3.52 | O36: 5736800 | Q36: =Q35 -> 4.7808627 | R36: =R35 -> 4.7418433 | S36: =S35 -> 4.8198822 | U36: 43293 | V36: 4.9 | W36: 5.45 | X36: +0.55 (11.22%) | Y36: HOLD | Z36: AmInvest
B37: Short Term Debt & Current Portion of Long Term Debt | C37: 197 | D37: 207 | E37: 784 | F37: 1103 | I37: 41087 | J37: 3.5 | K37: 3.56 | L37: 3.5 | M37: 3.56 | N37: 3.56 | O37: 1881500 | Q37: =Q36 -> 4.7808627 | R37: =R36 -> 4.7418433 | S37: =S36 -> 4.8198822 | U37: 43245 | V37: 4.95 | W37: 5.05 | X37: +0.10 (2.02%) | Y37: HOLD | Z37: PUBLIC BANK
B38: Accrued Payroll | C38: 14 | D38: 16 | E38: 19 | F38: 32 | I38: 41088 | J38: 3.54 | K38: 3.55 | L38: 3.51 | M38: 3.52 | N38: 3.52 | O38: 1682100 | Q38: =Q37 -> 4.7808627 | R38: =R37 -> 4.7418433 | S38: =S37 -> 4.8198822 | U38: 43245 | V38: 4.95 | W38: 5.75 | X38: +0.80 (16.16%) | Y38: BUY | Z38: KENANGA
B39: Income Taxes Payable | C39: 72 | D39: 52 | E39: 52 | F39: 4 | I39: 41089 | J39: 3.52 | K39: 3.6 | L39: 3.52 | M39: 3.6 | N39: 3.6 | O39: 4890700 | Q39: =Q38 -> 4.7808627 | R39: =R38 -> 4.7418433 | S39: =S38 -> 4.8198822 | U39: 43245 | V39: 4.95 | W39: 5.8 | X39: +0.85 (17.17%) | Y39: BUY | Z39: HLG
B40: Other Current Liabilities | C40: 1342 | D40: 1547 | E40: 2309 | F40: 2450 | I40: 41092 | J40: 3.61 | K40: 3.62 | L40: 3.58 | M40: 3.6 | N40: 3.6 | O40: 1835400 | Q40: =Q39 -> 4.7808627 | R40: =R39 -> 4.7418433 | S40: =S39 -> 4.8198822 | U40: 43245 | V40: 4.95 | W40: 5.45 | X40: +0.50 (10.10%) | Y40: HOLD | Z40: AMMB
B41: CURRENT LIABILITIES - TOTAL | C41: 2040 | D41: 2253 | E41: 3667 | F41: 4032 | I41: 41093 | J41: 3.61 | K41: 3.64 | L41: 3.6 | M41: 3.63 | N41: 3.63 | O41: 4496900 | Q41: =Q40 -> 4.7808627 | R41: =R40 -> 4.7418433 | S41: =S40 -> 4.8198822 | U41: 43245 | V41: 4.95 | W41: 6 | X41: +1.05 (21.21%) | Y41: BUY | Z41: Affin Hwang Capital
B42: Long Term Debt | C42: 1483 | D42: 1411 | E42: 3841 | F42: 3223 | I42: 41094 | J42: 3.62 | K42: 3.64 | L42: 3.61 | M42: 3.63 | N42: 3.63 | O42: 3652900 | Q42: =Q41 -> 4.7808627 | R42: =R41 -> 4.7418433 | S42: =S41 -> 4.8198822 | U42: Average TP | W42: =AVERAGE(W36:W41) -> 5.5833333
...

Sheet June 17 Update
B2: Share Price Update
K3: Genting Malaysia Berhad
K4: Share Price | L4: Volume
J5: Average | K5: =AVERAGE('Hard Input'!$M$1243:$M$1263) -> 5.7909524 | L5: =AVERAGE('Hard Input'!$O$1243:$O$1263) -> 9077695.2
J6: Median | K6: =MEDIAN('Hard Input'!$M$1243:$M$1263) -> 5.73 | L6: =MEDIAN('Hard Input'!$O$1243:$O$1263) -> 7757600
J7: Min | K7: =MIN('Hard Input'!$M$1243:$M$1263) -> 5.59 | L7: =MIN('Hard Input'!$O$1243:$O$1263) -> 0
J8: Max | K8: =MAX('Hard Input'!$M$1243:$M$1263) -> 6.2 | L8: =MAX('Hard Input'!$O$1243:$O$1263) -> 36415100
J9: Range | K9: =CONCATENATE(K7, " - ", K8) -> 5.59 - 6.2 | L9: =CONCATENATE(L7, " - ", L8) -> 0 - 36415100
J11: Decline in Share Price | L11: ='Hard Input'!M1263/'Hard Input'!M1243 - 1 -> -0.066777963
B21: Date | C21: Open Price | D21: Target Price | E21: Upside/Downside | F21: Price Call | G21: Source
B22: 42900 | C22: 5.62 | D22: 5.2 | E22: -0.42 (7.47%) | F22: SELL | G22: AMMB
B23: 42885 | C23: 5.94 | D23: 5.15 | E23: -0.79 (13.30%) | F23: SELL | G23: UOBKayHian
B24: 42885 | C24: 5.94 | D24: 6 | E24: +0.06 (1.01%) | F24: HOLD | G24: KENANGA | H24: Up
B25: 42885 | C25: 5.94 | D25: 5.2 | E25: -0.74 (12.46%) | F25: SELL | G25: AMMB
B26: 42885 | C26: 5.94 | D26: 6 | E26: +0.06 (1.01%) | F26: HOLD | G26: Affin Hwang Capital | H26: Up
B27: 42790 | C27: 5.5 | D27: 6.1 | E27: +0.60 (10.91%) | F27: BUY | G27: TA
B28: 42790 | C28: 5.5 | D28: 5.1 | E28: -0.40 (7.27%) | F28: HOLD | G28: PUBLIC BANK
B29: 42790 | C29: 5.5 | D29: 5.66 | E29: +0.16 (2.91%) | F29: HOLD | G29: KENANGA
B30: 42790 | C30: 5.5 | D30: 5.1 | E30: -0.40 (7.27%) | F30: HOLD | G30: HLG
B31: 42761 | C31: 4.97 | D31: 5.66 | E31: +0.69 (13.88%) | F31: BUY | G31: KENANGA
B33: Current P/E at 21 Jun 2017 | E33: 10.25

Sheet 8 Aug Update

Sheet Quarterly Numbers
A2: Income Statement | I2: =B3 -> 42460 | J2: =C3 -> 42551 | K2: =D3 -> 42643 | L2: =E3 -> 42735 | M2: =F3 -> 42825
A3: Fiscal year is January-December. All values MYR Millions. | B3: 42460 | C3: 42551 | D3: 42643 | E3: 42735 | F3: 42825 | H3: Revenue | I3: =B4 -> 2214 | J3: =C4 -> 2235 | K3: =D4 -> 2200 | L3: =E4 -> 2283 | M3: =F4 -> 2224
A4: Sales/Revenue | B4: 2214 | C4: 2235 | D4: 2200 | E4: 2283 | F4: 2224 | H4: Non Op Income | I4: =B22 -> 82 | J4: =C22 -> 42 | K4: =D22 -> 100 | L4: =E22 -> 1361 | M4: =F22 -> 60
A5: Sales Growth | B5: - | C5: 0.0091 | D5: -0.0156 | E5: 0.0378 | F5: -0.0259 | H5: Profit Before Tax | I5: =B27 -> 262 | J5: =C27 -> 512 | K5: =D27 -> 520 | L5: =E27 -> 1797 | M5: =F27 -> 344
H6: Net Income | I6: =B36 -> 162 | J6: =C36 -> 476 | K6: =D36 -> 556 | L6: =E36 -> 1686 | M6: =F36 -> 324
A7: Cost of Goods Sold (COGS) incl. D&A | B7: 1615 | C7: 1554 | D7: 1590 | E7: 1690 | F7: 1684
A8: COGS excluding D&A | B8: 1427 | C8: 1376 | D8: 1394 | E8: 1451 | F8: 1436 | H8: Without Non-Op Income
A9: Depreciation & Amortization Expense | B9: 188 | C9: 178 | D9: 196 | E9: 239 | F9: 248 | H9: - Profit Before Tax | I9: =I5-I4 -> 180 | J9: =J5-J4 -> 470 | K9: =K5-K4 -> 420 | L9: =L5-L4 -> 436 | M9: =M5-M4 -> 284
A10: COGS Growth | B10: - | C10: -0.0379 | D10: 0.0235 | E10: 0.0625 | F10: -0.0033 | H10: - Net Income | I10: =I6-I4 -> 80 | J10: =J6-J4 -> 434 | K10: =K6-K4 -> 456 | L10: =L6-L4 -> 325 | M10: =M6-M4 -> 264
A12: Gross Income | B12: 599 | C12: 681 | D12: 609 | E12: 593 | F12: 540
A13: Gross Income Growth | B13: - | C13: 0.1359 | D13: -0.1048 | E13: -0.0265 | F13: -0.0902 | L13: 1Q Differential with
I14: 1Q 2017 | J14: 1Q 2016 | K14: 4Q 2016 | L14: 1Q 2016 | M14: 4Q 2016
A15: Gross Profit Margin | B15: - | C15: - | D15: - | E15: - | F15: 0.278 | H15: Margin to Revenue (%)
A16: SG&A Expense | B16: 411 | C16: 248 | D16: 277 | E16: 192 | F16: 306 | H16: - EBITDA | I16: =F50/F4 -> 0.21672662 | J16: =B50/B4 -> 0.17028004 | K16: =E50/E4 -> 0.2803329 | L16: =I16-J16 -> 0.046446583 | M16: =I16-K16 -> -0.063606277
A17: Other SG&A | B17: 411 | C17: 248 | D17: 277 | E17: 192 | F17: 306 | H17: - Profit Before Tax (With Non-Op Income) | I17: =M5/M3 -> 0.15467626 | J17: =I5/I3 -> 0.11833785 | K17: =L5/L3 -> 0.78712221 | L17: =I17-J17 -> 0.036338409 | M17: =I17-K17 -> -0.63244595
A18: SGA Growth | B18: - | C18: -0.3955 | D18: 0.1168 | E18: -0.3095 | F18: 0.5973 | H18: - Net Income (With Non-Op Income) | I18: =M6/M3 -> 0.14568345 | J18: =I6/I3 -> 0.073170732 | K18: =L6/L3 -> 0.73850197 | L18: =I18-J18 -> 0.072512722 | M18: =I18-K18 -> -0.59281852
H19: Without Non-Op Income
A20: Unusual Expense | B20: 2 | C20: 2 | D20: -43 | E20: 21 | F20: 1 | H20: - Profit Before Tax (w/o Non-Op Income) | I20: =M9/M3 -> 0.12769784 | J20: =I9/I3 -> 0.081300813 | K20: =L9/L3 -> 0.19097678 | L20: =I20-J20 -> 0.046397029 | M20: =I20-K20 -> -0.063278943
H21: - Net Income (w/o Non-Op Income) | I21: =M10/M3 -> 0.11870504 | J21: =I10/I3 -> 0.036133695 | K21: =L10/L3 -> 0.14235655 | L21: =I21-J21 -> 0.082571341 | M21: =I21-K21 -> -0.023651512
A22: Non Operating Income/Expense | B22: 82 | C22: 42 | D22: 100 | E22: 1361 | F22: 60 | H22: Growth (%)
A23: Interest Expense | B23: 25 | C23: 28 | D23: 21 | E23: 17 | F23: 19 | H23: - Revenue | J23: =M3/I3 - 1 -> 0.0045167118 | K23: =M3/L3 - 1 -> -0.025843189
A24: Interest Expense Growth | B24: - | C24: 0.0851 | D24: -0.2414 | E24: -0.1711 | F24: 0.0983 | H24: - EBITDA | J24: =F50/B50 - 1 -> 0.27851459 | K24: =F50/E50 - 1 -> -0.246875
H25: - Net Income | J25: =M10/I10 - 1 -> 2.3 | K25: =M10/L10 - 1 -> -0.18769231
A26: Gross Interest Expense | B26: 42 | C26: 49 | D26: 47 | E26: 46 | F26: 47 | H26: Debt Coverage
A27: Pretax Income | B27: 262 | C27: 512 | D27: 520 | E27: 1797 | F27: 344 | H27: Operational Cash Flow | I27: =B146/1000 -> 265.625 | J27: =F146/1000 -> 260.885 | K27: =C146/1000 -> 1003.808 | L27: =I27-J27 -> 4.74 | M27: =I27-K27 -> -738.183
A28: Pretax Income Growth | B28: - | C28: 0.9535 | D28: 0.0148 | E28: 2.4576 | F28: -0.8084 | H28: Interest Expense | I28: =F23 -> 19 | J28: =B23 -> 25 | K28: =E23 -> 17 | L28: =I28-J28 -> -6 | M28: =I28-K28 -> 2
H29: ST Debt + ST Portion of LT | I29: =B90 -> 1319 | J29: =F90 -> 1029 | K29: =C90 -> 1103 | L29: =I29-J29 -> 290 | M29: =I29-K29 -> 216
A30: Pretax Margin | B30: - | C30: - | D30: - | E30: - | F30: 0.346 | H30: ST Debt + ST Portion of LT (Divide by 4) | I30: =I29/4 -> 329.75 | J30: =J29/4 -> 257.25 | K30: =K29/4 -> 275.75
A31: Income Tax | B31: 118 | C31: 47 | D31: -13 | E31: 138 | F31: 49
H32: (Interest + ST) / Op Cash Flow | I32: =(I28+I30)/I27 -> 1.3129412 | J32: =(J28+J30)/J27 -> 1.0818943 | K32: =(K28+K30)/K27 -> 0.29163944 | L32: =I32-J32 -> 0.23104686 | M32: =I32-K32 -> 1.0213017
A33: Consolidated Net Income | B33: 144 | C33: 465 | D33: 532 | E33: 1659 | F33: 295 | H33: EBIT | I33: =F50-F9 -> 234 | J33: =B50-B9 -> 189 | K33: =E50-E9 -> 401 | L33: =I33-J33 -> 45 | M33: =I33-K33 -> -167
A34: Minority Interest Expense | B34: -17 | C34: -11 | D34: -24 | E34: -27 | F34: -29 | H34: Interest Expense | I34: =F23 -> 19 | J34: =B23 -> 25 | K34: =E23 -> 17 | L34: =I34-J34 -> -6 | M34: =I34-K34 -> 2
A36: Net Income | B36: 162 | C36: 476 | D36: 556 | E36: 1686 | F36: 324 | H36: Interest Expense/ EBIT | I36: =I34/I33 -> 0.081196581 | J36: =J34/J33 -> 0.13227513 | K36: =K34/K33 -> 0.042394015 | L36: =I36-J36 -> -0.051078551 | M36: =I36-K36 -> 0.038802566
A37: Net Income Growth | B37: - | C37: 1.9489 | D37: 0.1664 | E37: 2.0344 | F37: -0.8082
A39: Net Margin | B39: - | C39: - | D39: - | E39: - | F39: 0.3225
A40: Net Income After Extraordinaries | B40: 162 | C40: 476 | D40: 556 | E40: 1686 | F40: 324
A41: Net Income Available to Common | B41: 162 | C41: 476 | D41: 556 | E41: 1686 | F41: 324
A42: EPS (Basic) | B42: 0.03 | C42: 0.08 | D42: 0.1 | E42: 0.3 | F42: 0.06
A43: EPS (Basic) Growth | B43: - | C43: 1.9441 | D43: 0.1663 | E43: 2.0356 | F43: -0.8081
A45: Basic Shares Outstanding | B45: 5656 | C45: 5658 | D45: 5658 | E45: 5657 | F45: 5658
...

Sheet Share Price
A1: Date | B1: Open | C1: High | D1: Low | E1: Close | F1: Volume
A2: 06/21/17 | B2: 5.59 | C2: 5.6 | D2: 5.49 | E2: 5.5 | F2: 7682300
A3: 06/22/17 | B3: 5.51 | C3: 5.6 | D3: 5.5 | E3: 5.56 | F3: 7918600
A4: 06/23/17 | B4: 5.57 | C4: 5.87 | D4: 5.56 | E4: 5.83 | F4: 10414800
A5: 06/28/17 | B5: 5.82 | C5: 5.83 | D5: 5.59 | E5: 5.59 | F5: 8182200
A6: 06/29/17 | B6: 5.63 | C6: 5.67 | D6: 5.58 | E6: 5.58 | F6: 4149400
A7: 06/30/17 | B7: 5.55 | C7: 5.59 | D7: 5.46 | E7: 5.5 | F7: 12936200
A8: 42801 | B8: 5.5 | C8: 5.63 | D8: 5.5 | E8: 5.63 | F8: 3943900
A9: 42832 | B9: 5.6 | C9: 5.63 | D9: 5.57 | E9: 5.62 | F9: 1969700
A10: 42862 | B10: 5.62 | C10: 5.67 | D10: 5.62 | E10: 5.66 | F10: 4492700
A11: 42893 | B11: 5.66 | C11: 5.76 | D11: 5.65 | E11: 5.76 | F11: 6210400
A12: 42923 | B12: 5.76 | C12: 5.76 | D12: 5.65 | E12: 5.66 | F12: 2391000
A13: 43015 | B13: 5.65 | C13: 5.67 | D13: 5.58 | E13: 5.61 | F13: 4236000
A14: 43046 | B14: 5.61 | C14: 5.67 | D14: 5.59 | E14: 5.65 | F14: 5211600
A15: 43076 | B15: 5.65 | C15: 5.69 | D15: 5.65 | E15: 5.67 | F15: 2016700
A16: 07/13/17 | B16: 5.7 | C16: 5.73 | D16: 5.69 | E16: 5.7 | F16: 3779600
A17: 07/14/17 | B17: 5.72 | C17: 5.75 | D17: 5.7 | E17: 5.74 | F17: 2087800
A18: 07/17/17 | B18: 5.74 | C18: 5.78 | D18: 5.73 | E18: 5.76 | F18: 1787200
A19: 07/18/17 | B19: 5.76 | C19: 5.77 | D19: 5.72 | E19: 5.75 | F19: 3019800 | H19: MYR | I19: Share Price
A20: 07/19/17 | B20: 5.75 | C20: 5.82 | D20: 5.75 | E20: 5.82 | F20: 5174700 | H20: Average | I20: =AVERAGE(E2:E36) -> 5.8277143
A21: 07/20/17 | B21: 5.82 | C21: 5.9 | D21: 5.8 | E21: 5.88 | F21: 6523700 | H21: Median | I21: =MEDIAN(E2:E36) -> 5.82
A22: 07/21/17 | B22: 5.88 | C22: 5.98 | D22: 5.82 | E22: 5.98 | F22: 4960700 | H22: Min | I22: =MIN(E2:E36) -> 5.5
A23: 07/24/17 | B23: 5.98 | C23: 6.05 | D23: 5.95 | E23: 6.05 | F23: 4216500 | H23: Max | I23: =MAX(E2:E36) -> 6.13
A24: 07/25/17 | B24: 6.06 | C24: 6.19 | D24: 6.05 | E24: 6.13 | F24: 6115500 | H24: Return
A25: 07/26/17 | B25: 6.13 | C25: 6.17 | D25: 6.03 | E25: 6.1 | F25: 5744500 | H25: - 1 Month | I25: =E36/E13 - 1 -> 0.046345811
A26: 07/27/17 | B26: 6.09 | C26: 6.13 | D26: 5.96 | E26: 6.11 | F26: 3463800 | H26: - YTD | I26: ='Share Price'!E36/'Hard Input'!N1152 - 1 -> 0.28165939
A27: 07/28/17 | B27: 6.11 | C27: 6.11 | D27: 5.96 | E27: 5.99 | F27: 4282800 | H27: - Coverage Start | I27: ='Share Price'!E36/'Hard Input'!N1243 - 1 -> -0.0099874891
A28: 07/31/17 | B28: 5.97 | C28: 6.06 | D28: 5.96 | E28: 6 | F28: 4365800
A29: 42743 | B29: 6.1 | C29: 6.13 | D29: 6.05 | E29: 6.1 | F29: 8538700
A30: 42774 | B30: 6.1 | C30: 6.13 | D30: 6.02 | E30: 6.06 | F30: 4882700
A31: 42802 | B31: 6.08 | C31: 6.12 | D31: 6.06 | E31: 6.1 | F31: 5326400
A32: 42833 | B32: 6.1 | C32: 6.11 | D32: 6.05 | E32: 6.05 | F32: 2365000
A33: 42924 | B33: 6.08 | C33: 6.08 | D33: 6.03 | E33: 6.05 | F33: 3020500
A34: 42955 | B34: 6.07 | C34: 6.09 | D34: 5.99 | E34: 5.99 | F34: 3966600
A35: 42986 | B35: 5.99 | C35: 6.02 | D35: 5.91 | E35: 5.92 | F35: 4468900
A36: 43016 | B36: 5.92 | C36: 5.99 | D36: 5.85 | E36: 5.87 | F36: 2717700
A38: Date | B38: Open Price | C38: Target Price | D38: Upside/Downside | E38: Price Call | F38: Source | G38: News
A39: 42933 | B39: 5.74 | C39: 5.5 | D39: -0.24 (4.18%) | E39: HOLD | F39: PUBLIC BANK
A40: 42926 | B40: 5.65 | C40: 5.5 | D40: -0.15 (2.65%) | E40: HOLD | F40: PUBLIC BANK
A41: 42908 | B41: 5.52 | C41: 5.15 | D41: -0.37 (6.70%) | E41: HOLD | F41: UOBKayHian
...

Sheet Oct Update

Sheet Share Price 2
A1: Date | B1: Open | C1: High | D1: Low | E1: Close | F1: Volume
A2: 08/28/17 | B2: 5.8 | C2: 5.8 | D2: 5.61 | E2: 5.63 | F2: 12104400
A3: 08/29/17 | B3: 5.69 | C3: 5.82 | D3: 5.65 | E3: 5.8 | F3: 10840700
A4: 08/30/17 | B4: 5.8 | C4: 5.88 | D4: 5.79 | E4: 5.87 | F4: 6580000
A5: 42864 | B5: 5.8 | C5: 5.88 | D5: 5.8 | E5: 5.82 | F5: 5067200
A6: 42895 | B6: 5.82 | C6: 5.98 | D6: 5.8 | E6: 5.96 | F6: 3872200
A7: 42925 | B7: 5.96 | C7: 5.96 | D7: 5.87 | E7: 5.95 | F7: 3544100
A8: 42956 | B8: 5.92 | C8: 5.94 | D8: 5.85 | E8: 5.86 | F8: 7097500
A9: 43048 | B9: 5.85 | C9: 5.92 | D9: 5.82 | E9: 5.9 | F9: 5056700
A10: 43078 | B10: 5.9 | C10: 5.94 | D10: 5.84 | E10: 5.9 | F10: 6812700
A11: 09/13/17 | B11: 5.85 | C11: 5.89 | D11: 5.75 | E11: 5.75 | F11: 6033200
A12: 09/14/17 | B12: 5.75 | C12: 5.82 | D12: 5.68 | E12: 5.68 | F12: 8694800
A13: 09/15/17 | B13: 5.69 | C13: 5.82 | D13: 5.69 | E13: 5.82 | F13: 6057000
A14: 09/18/17 | B14: 5.76 | C14: 5.81 | D14: 5.7 | E14: 5.7 | F14: 3191100
A15: 09/19/17 | B15: 5.71 | C15: 5.71 | D15: 5.6 | E15: 5.61 | F15: 7898700
A16: 09/20/17 | B16: 5.63 | C16: 5.69 | D16: 5.62 | E16: 5.69 | F16: 3525800
A17: 09/21/17 | B17: 5.68 | C17: 5.68 | D17: 5.6 | E17: 5.6 | F17: 3895100
A18: 09/25/17 | B18: 5.6 | C18: 5.63 | D18: 5.51 | E18: 5.53 | F18: 5486900 | H18: MYR | I18: Share Price
A19: 09/26/17 | B19: 5.54 | C19: 5.57 | D19: 5.4 | E19: 5.42 | F19: 7233000 | H19: Average | I19: =AVERAGE(E2:E41) -> 5.496
A20: 09/27/17 | B20: 5.43 | C20: 5.48 | D20: 5.42 | E20: 5.42 | F20: 3201400 | H20: Median | I20: =MEDIAN(E2:E41) -> 5.445
A21: 09/28/17 | B21: 5.43 | C21: 5.45 | D21: 5.32 | E21: 5.32 | F21: 6341000 | H21: Min | I21: =MIN(E2:E41) -> 5
A22: 09/29/17 | B22: 5.33 | C22: 5.43 | D22: 5.33 | E22: 5.38 | F22: 7703400 | H22: Max | I22: =MAX(E2:E41) -> 5.96
A23: 42776 | B23: 5.38 | C23: 5.41 | D23: 5.3 | E23: 5.3 | F23: 4541300 | H23: Return
A24: 42804 | B24: 5.33 | C24: 5.54 | D24: 5.33 | E24: 5.47 | F24: 6441900 | H24: - 2 Month | I24: =E41/E2 - 1 -> -0.10834813
A25: 42835 | B25: 5.5 | C25: 5.54 | D25: 5.45 | E25: 5.5 | F25: 1791500 | H25: - YTD | I25: =E41/'Hard Input'!M1152 - 1 -> 0.096069869
A26: 42865 | B26: 5.5 | C26: 5.53 | D26: 5.38 | E26: 5.39 | F26: 6389900 | H26: - Coverage Start | I26: =E41/'Hard Input'!N1243 - 1 -> -0.15334535
A27: 42896 | B27: 5.37 | C27: 5.4 | D27: 5.35 | E27: 5.38 | F27: 7806300
A28: 42988 | B28: 5.38 | C28: 5.5 | D28: 5.35 | E28: 5.47 | F28: 6753200
A29: 43018 | B29: 5.47 | C29: 5.49 | D29: 5.35 | E29: 5.36 | F29: 5660800 | H29: Date | I29: Open Price | J29: Target Price | K29: Upside/Downside | L29: Price Call | M29: Source
A30: 43049 | B30: 5.36 | C30: 5.37 | D30: 5.25 | E30: 5.27 | F30: 15932500 | H30: 43003 | I30: 5.6 | J30: 5.15 | K30: -0.45 (8.04%) | L30: HOLD | M30: UOBKayHian
A31: 43079 | B31: 5.3 | C31: 5.3 | D31: 5.22 | E31: 5.27 | F31: 6959600 | H31: 42972 | I31: 5.93 | J31: 5.15 | K31: -0.78 (13.15%) | L31: SELL | M31: UOBKayHian
A32: 10/13/17 | B32: 5.28 | C32: 5.3 | D32: 5.24 | E32: 5.26 | F32: 5295100 | H32: 42972 | I32: 5.93 | J32: 5.5 | K32: -0.43 (7.25%) | L32: HOLD | M32: PUBLIC BANK
A33: 10/16/17 | B33: 5.28 | C33: 5.38 | D33: 5.27 | E33: 5.37 | F33: 7394400 | H33: 42972 | I33: 5.93 | J33: 6 | K33: +0.07 (1.18%) | L33: HOLD | M33: MAYBANK
A34: 10/17/17 | B34: 5.37 | C34: 5.4 | D34: 5.32 | E34: 5.32 | F34: 5060500 | H34: 42972 | I34: 5.93 | J34: 6 | K34: +0.07 (1.18%) | L34: HOLD | M34: KENANGA
A35: 10/19/17 | B35: 5.33 | C35: 5.35 | D35: 5.24 | E35: 5.24 | F35: 4674600 | H35: 42972 | I35: 5.93 | J35: 5.2 | K35: -0.73 (12.31%) | L35: SELL | M35: AMMB
A36: 10/20/17 | B36: 5.26 | C36: 5.29 | D36: 5.23 | E36: 5.23 | F36: 1788100 | H36: 42972 | I36: 5.93 | J36: 5.77 | K36: -0.16 (2.70%) | L36: HOLD | M36: Affin Hwang Capital
A37: 10/23/17 | B37: 5.26 | C37: 5.26 | D37: 5.11 | E37: 5.12 | F37: 4704200 | H37: 42933 | I37: 5.74 | J37: 5.5 | K37: -0.24 (4.18%) | L37: HOLD | M37: PUBLIC BANK
A38: 10/24/17 | B38: 5.16 | C38: 5.18 | D38: 5 | E38: 5 | F38: 8381100 | H38: 42926 | I38: 5.65 | J38: 5.5 | K38: -0.15 (2.65%) | L38: HOLD | M38: PUBLIC BANK
A39: 10/25/17 | B39: 5.02 | C39: 5.15 | D39: 5.02 | E39: 5.13 | F39: 8804700 | H39: 42908 | I39: 5.52 | J39: 5.15 | K39: -0.37 (6.70%) | L39: HOLD | M39: UOBKayHian
A40: 10/26/17 | B40: 5.15 | C40: 5.19 | D40: 5.11 | E40: 5.13 | F40: 14947900 | H40: Average | J40: =AVERAGE(J30,J32,J33,J34,J35,J36,J37) -> 5.5885714
...

Sheet Quarterly Numbers (Q2)
A1: iscal year is January-December. All values MYR Millions. | B1: 42551 | C1: 42643 | D1: 42735 | E1: 42825 | F1: 42916 | I1: 2Q 2016 | J1: 3Q 2016 | K1: 4Q 2016 | L1: 1Q 2017 | M1: 2Q 2017
A2: Sales/Revenue | B2: 2235 | C2: 2200 | D2: 2283 | E2: 2224 | F2: 2292 | H2: Growth (%)
A3: Sales Growth | B3: - | C3: -0.0156 | D3: 0.0378 | E3: -0.0259 | F3: 0.0305 | H3: - Revenue + Non-Op | M3: =F55/B55 - 1 -> 0.025503356
H4: - EBITDA (w/o Non-Op) | M4: =F56/B56 - 1 -> -0.19344262
A5: Cost of Goods Sold (COGS) incl. D&A | B5: 1554 | C5: 1590 | D5: 1690 | E5: 1684 | F5: 1763 | H5: - Net Income (w/o Non-Op) | M5: =F58/B58 - 1 -> -0.56682028
A6: COGS excluding D&A | B6: 1376 | C6: 1394 | D6: 1451 | E6: 1436 | F6: 1509 | H6: - Op Cash Flow | M6: =F152/B152 - 1 -> -0.25693376
A7: Depreciation & Amortization Expense | B7: 178 | C7: 196 | D7: 239 | E7: 248 | F7: 253 | H7: Margin to Revenue (%)
A8: COGS Growth | B8: - | C8: 0.0235 | D8: 0.0625 | E8: -0.0033 | F8: 0.0466 | H8: - EBITDA | I8: =B50/B2 -> 0.27293065 | J8: =C50/C2 -> 0.24 | K8: =D50/D2 -> 0.2803329 | L8: =E50/E2 -> 0.21672662 | M8: =F50/F2 -> 0.21465969
H9: - Net Income (With Non-Op Income) | I9: =B36/B2 -> 0.21297539 | J9: =C36/C2 -> 0.25272727 | K9: =D36/D2 -> 0.73850197 | L9: =E36/E2 -> 0.14568345 | M9: =F36/F2 -> 0.084205934
A10: Gross Income | B10: 681 | C10: 609 | D10: 593 | E10: 540 | F10: 529 | H10: Margin to Revenue (%)
A11: Gross Income Growth | B11: - | C11: -0.1048 | D11: -0.0265 | E11: -0.0902 | F11: -0.02 | H11: - EBITDA | I11: =B56/B55 -> 0.27293065 | J11: =C56/C55 -> 0.24 | K11: =D56/D55 -> 0.2803329 | L11: =E56/E55 -> 0.21672662 | M11: =F56/F55 -> 0.21465969
H12: - Net Income (w/o Non-Op Income) | I12: =B58/B55 -> 0.19418345 | J12: =C58/C55 -> 0.20727273 | K12: =D58/D55 -> 0.14235655 | L12: =E58/E55 -> 0.11870504 | M12: =F58/F55 -> 0.082024433
A13: Gross Profit Margin | B13: - | C13: - | D13: - | E13: - | F13: 0.278 | H13: Debt Coverage
A14: SG&A Expense | B14: 248 | C14: 277 | D14: 192 | E14: 306 | F14: 336 | H14: Operational Cash Flow | I14: =B152/1000 -> 711.086 | J14: =C152/1000 -> 392.221 | K14: =D152/1000 -> 1003.808 | L14: =E152/1000 -> 265.625 | M14: =F152/1000 -> 528.384
A15: Other SG&A | B15: 248 | C15: 277 | D15: 192 | E15: 306 | F15: 336 | H15: Interest Expense | I15: =B23 -> 28 | J15: =C23 -> 21 | K15: =D23 -> 17 | L15: =E23 -> 19 | M15: =F23 -> 31
A16: SGA Growth | B16: - | C16: 0.1168 | D16: -0.3095 | E16: 0.5973 | F16: 0.0977 | H16: ST Debt + ST Portion of LT | I16: =B97 -> 747 | J16: =C97 -> 794 | K16: =D97 -> 1103 | L16: =E97 -> 1319 | M16: =F97 -> 980
